BEGIN:VCALENDAR
VERSION:2.0
PRODID:-//Uudenmaan lintuharrastajien oma yhdistys - ECPv6.15.20//NONSGML v1.0//EN
CALSCALE:GREGORIAN
METHOD:PUBLISH
X-ORIGINAL-URL:https://tringa.fi
X-WR-CALDESC:Events for Uudenmaan lintuharrastajien oma yhdistys
REFRESH-INTERVAL;VALUE=DURATION:PT1H
X-Robots-Tag:noindex
X-PUBLISHED-TTL:PT1H
BEGIN:VTIMEZONE
TZID:Europe/Helsinki
BEGIN:DAYLIGHT
TZOFFSETFROM:+0200
TZOFFSETTO:+0300
TZNAME:EEST
DTSTART:20220327T010000
END:DAYLIGHT
BEGIN:STANDARD
TZOFFSETFROM:+0300
TZOFFSETTO:+0200
TZNAME:EET
DTSTART:20221030T010000
END:STANDARD
BEGIN:DAYLIGHT
TZOFFSETFROM:+0200
TZOFFSETTO:+0300
TZNAME:EEST
DTSTART:20230326T010000
END:DAYLIGHT
BEGIN:STANDARD
TZOFFSETFROM:+0300
TZOFFSETTO:+0200
TZNAME:EET
DTSTART:20231029T010000
END:STANDARD
BEGIN:DAYLIGHT
TZOFFSETFROM:+0200
TZOFFSETTO:+0300
TZNAME:EEST
DTSTART:20240331T010000
END:DAYLIGHT
BEGIN:STANDARD
TZOFFSETFROM:+0300
TZOFFSETTO:+0200
TZNAME:EET
DTSTART:20241027T010000
END:STANDARD
END:VTIMEZONE
BEGIN:VEVENT
DTSTART;TZID=Europe/Helsinki:20230506T100000
DTEND;TZID=Europe/Helsinki:20230506T130000
DTSTAMP:20260421T163451
CREATED:20230503T090009Z
LAST-MODIFIED:20230812T183316Z
UID:21809-1683367200-1683378000@tringa.fi
SUMMARY:Torniopastus Vantaan Pitkäjärven lintutornissa
DESCRIPTION:Torniopas päivystää Vantaan Pitkäjärven lintutornissa. \nKenelle: Tapahtuma on avoin kaikille \nIlmoittautuminen: Ei ilmoittautumista \nTapahtuma-aika:  Opas paikalla klo 10-13 \nTapahtumapaikka: Vantaan Hämeenkylän/Pitkäjärven lintutorni. Uudenkyläntie 7. Huom! Alueella on hyvin niukasti pysäköintitilaa tornin läheisyydessä. Lähimmät isommat pysäköintialueet: S-market Juvanmalmi (1\,2 km) ja Hämeenkylän kartano (1\,5 km). \nOppaana: Kim Söderling \nTiedustelut: opastukset@tringa.fi
URL:https://tringa.fi/tapahtuma/torniopastus-vantaan-pitkajarven-lintutornissa/
LOCATION:Pitkäjärven lintutorni\, Uudenkyläntie\, Vantaa\, Finland
CATEGORIES:Torniopastus
END:VEVENT
END:VCALENDAR