BEGIN:VCALENDAR
VERSION:2.0
PRODID:-//Uudenmaan lintuharrastajien oma yhdistys - ECPv6.15.20//NONSGML v1.0//EN
CALSCALE:GREGORIAN
METHOD:PUBLISH
X-WR-CALNAME:Uudenmaan lintuharrastajien oma yhdistys
X-ORIGINAL-URL:https://tringa.fi
X-WR-CALDESC:Events for Uudenmaan lintuharrastajien oma yhdistys
REFRESH-INTERVAL;VALUE=DURATION:PT1H
X-Robots-Tag:noindex
X-PUBLISHED-TTL:PT1H
BEGIN:VTIMEZONE
TZID:Europe/Helsinki
BEGIN:DAYLIGHT
TZOFFSETFROM:+0200
TZOFFSETTO:+0300
TZNAME:EEST
DTSTART:20220327T010000
END:DAYLIGHT
BEGIN:STANDARD
TZOFFSETFROM:+0300
TZOFFSETTO:+0200
TZNAME:EET
DTSTART:20221030T010000
END:STANDARD
BEGIN:DAYLIGHT
TZOFFSETFROM:+0200
TZOFFSETTO:+0300
TZNAME:EEST
DTSTART:20230326T010000
END:DAYLIGHT
BEGIN:STANDARD
TZOFFSETFROM:+0300
TZOFFSETTO:+0200
TZNAME:EET
DTSTART:20231029T010000
END:STANDARD
BEGIN:DAYLIGHT
TZOFFSETFROM:+0200
TZOFFSETTO:+0300
TZNAME:EEST
DTSTART:20240331T010000
END:DAYLIGHT
BEGIN:STANDARD
TZOFFSETFROM:+0300
TZOFFSETTO:+0200
TZNAME:EET
DTSTART:20241027T010000
END:STANDARD
END:VTIMEZONE
BEGIN:VEVENT
DTSTART;VALUE=DATE:20230826
DTEND;VALUE=DATE:20230828
DTSTAMP:20260420T162441
CREATED:20230619T191459Z
LAST-MODIFIED:20230827T063620Z
UID:22277-1693008000-1693180799@tringa.fi
SUMMARY:Tringan talkoot Vanhankaupunginlahdella
DESCRIPTION:Tringa järjestää niittotalkoot Helsingin Vanhankaupunginlahdella elokuun viimeisenä viikonloppuna 26. – 27.8.2023. Talkoissa ennallistetaan Vanhankaupunginlahden IBA-alueen rantaniittyjä ja parannetaan näin alueella pesivien ja ruokailevien lintujen elinympäristöä.\n\nSunnuntaina kokoontuminen klo 10.30 Purolahden katselulavalla (ei siis Purolahden tornilla\, vaan pohjoisemmalla lavalla\, ks. karttapiste). \nTöitä jatketaan säistä riippuen iltapäivään noin klo 16 asti (helteisellä tai sateisella säällä lopetus hieman aiemmin)\, voit saapua myöhemminkin päivän aikana\, jokainen voi osallistua oman aikataulun ja jaksamisen mukaan. Tringa tarjoaa osallistujille työvälineet\, talkoovakuutuksen ja pientä talkooevästä. \nIlmoittaudu mukaan sähköisen ilmoittautumisen kautta: Tringan talkooilmoittautuminen (klikkaa tästä).\nTarvittaessa ilmoittautumistietoja voi muokata (saman lomakkeen kautta) vielä ennen talkooviikonloppua. Ilmoittautuneille lähetetään sähköpostitse tarkempia talkoo-ohjeita. \nLue raportti kesän 2022 talkoista täältä: Tringan talkoot Helsingin Vanhankaupunginlahdella elokuussa 2022 \nTiedustelut: toimisto(ät)tringa.fi \nHakalan rantaniittyä – niitettävää riittää vielä koneniiton jäljiltäkin.
URL:https://tringa.fi/tapahtuma/tringan-talkoot-vanhankaupunginlahdella/
LOCATION:Viikki\, Hakalan lintutorni\, Hakalanniemi\, Helsinki
CATEGORIES:Muu tapahtuma
END:VEVENT
END:VCALENDAR