BEGIN:VCALENDAR
VERSION:2.0
PRODID:-//Uudenmaan lintuharrastajien oma yhdistys - ECPv6.15.20//NONSGML v1.0//EN
CALSCALE:GREGORIAN
METHOD:PUBLISH
X-ORIGINAL-URL:https://tringa.fi
X-WR-CALDESC:Events for Uudenmaan lintuharrastajien oma yhdistys
REFRESH-INTERVAL;VALUE=DURATION:PT1H
X-Robots-Tag:noindex
X-PUBLISHED-TTL:PT1H
BEGIN:VTIMEZONE
TZID:UTC
BEGIN:STANDARD
TZOFFSETFROM:+0000
TZOFFSETTO:+0000
TZNAME:UTC
DTSTART:20210101T000000
END:STANDARD
END:VTIMEZONE
BEGIN:VEVENT
DTSTART;TZID=UTC:20221015T100000
DTEND;TZID=UTC:20221015T130000
DTSTAMP:20260424T114506
CREATED:20220808T160551Z
LAST-MODIFIED:20220911T103753Z
UID:18737-1665828000-1665838800@tringa.fi
SUMMARY:Lasten linturetki Helsingin Lauttasaaressa
DESCRIPTION:Tringa järjestää opastetun lasten linturetken Helsingin Lauttasaaressa lauantaina 15. lokakuuta. Tällä retkellä liikutaan Tringan lintuoppaiden seurassa\, rauhalliseen tahtiin kulkien. Omat eväät mukaan\, pukeutuminen säänmukaisesti. Myös omat kiikarit voi ottaa\, mutta ilman kiikareitakin pärjää hyvin. Tälle retkelle myös vanhemmat ja isovanhemmat ovat tervetulleita! Retken oppaina toimivat BirdLife Suomen retkikummit Juha Lindy sekä Chantal Arokanto. \nLähtöpaikka: Kokoontuminen Koivusaaren metroaseman sisäänkäynnin edessä (Sotkatie) klo 10.00. \nHinta: Retki on kaikille avoin ja maksuton. \nIlmoittautuminen: 14.10. mennessä sähköisellä verkkolomakkeella (klikkaa tästä). \nTiedustelut: toimisto(ät)tringa.fi \nKuva Ⓒ Hanna Hyvönen
URL:https://tringa.fi/tapahtuma/lasten-linturetki-helsingin-lauttasaaressa/
LOCATION:Lauttasaari\, Koivusaaren metroasema\, Koivusaari\, Sotkatie\, Helsinki\, 00200\, Suomi
CATEGORIES:Lasten ja nuorten tapahtumat,Retket
ATTACH;FMTTYPE=image/jpeg:https://tringa.fi/wp-content/uploads/2022/08/Lasten-retket-Hanna-Hyvönen.jpg
END:VEVENT
END:VCALENDAR