BEGIN:VCALENDAR
VERSION:2.0
PRODID:-//Uudenmaan lintuharrastajien oma yhdistys - ECPv6.15.20//NONSGML v1.0//EN
CALSCALE:GREGORIAN
METHOD:PUBLISH
X-ORIGINAL-URL:https://tringa.fi
X-WR-CALDESC:Events for Uudenmaan lintuharrastajien oma yhdistys
REFRESH-INTERVAL;VALUE=DURATION:PT1H
X-Robots-Tag:noindex
X-PUBLISHED-TTL:PT1H
BEGIN:VTIMEZONE
TZID:Europe/Helsinki
BEGIN:DAYLIGHT
TZOFFSETFROM:+0200
TZOFFSETTO:+0300
TZNAME:EEST
DTSTART:20230326T010000
END:DAYLIGHT
BEGIN:STANDARD
TZOFFSETFROM:+0300
TZOFFSETTO:+0200
TZNAME:EET
DTSTART:20231029T010000
END:STANDARD
BEGIN:DAYLIGHT
TZOFFSETFROM:+0200
TZOFFSETTO:+0300
TZNAME:EEST
DTSTART:20240331T010000
END:DAYLIGHT
BEGIN:STANDARD
TZOFFSETFROM:+0300
TZOFFSETTO:+0200
TZNAME:EET
DTSTART:20241027T010000
END:STANDARD
BEGIN:DAYLIGHT
TZOFFSETFROM:+0200
TZOFFSETTO:+0300
TZNAME:EEST
DTSTART:20250330T010000
END:DAYLIGHT
BEGIN:STANDARD
TZOFFSETFROM:+0300
TZOFFSETTO:+0200
TZNAME:EET
DTSTART:20251026T010000
END:STANDARD
END:VTIMEZONE
BEGIN:VEVENT
DTSTART;TZID=Europe/Helsinki:20240505T080000
DTEND;TZID=Europe/Helsinki:20240505T160000
DTSTAMP:20260425T054212
CREATED:20240409T173648Z
LAST-MODIFIED:20240429T061434Z
UID:25959-1714896000-1714924800@tringa.fi
SUMMARY:Porkkalan lintupaikat tutuiksi
DESCRIPTION:Tällä retkellä tutustutaan Porkkalan lintupaikkoihin. Opas kertoo lintuhavainnoinnin lomassa lintupaikoista\, niiden erityispiirteistä ja linnustosta. Myös matkanvarrelle jäävien kohteiden linnustoa käydään läpi. Retki on osa Porkkalan lintuviikon ohjelmaa. \nAamun ensimmäinen kohde on Porkkalan Pampskatan\, jonne on noin 1\,5 km kävelymatka parkkipaikalta metsä- ja kalliopolkuja pitkin. Polun varren kallioilla saattaa olla paikoin liukasta ja kosteissa kohdissa mutaista\, joten kunnon maastojalkineet kannattaa laittaa jalkaan. Mereltä käyvä tuuli voi olla toukokuun alussa vielä jäätävän viileä\, joten suosituksena on riittävän lämmin ja säänmukainen pukeutuminen! Porkkalan kärjestä matkaa jatketaan Gunnarskullaan\, missä avautuu näkymä Saltfjärdenin kosteikolle. Viimeinen retkikohde on Medvastö. \nKenelle: Retki on kaikille avoin. Mukaan mahtuu enintään 32 osallistujaa\, paikat täytetään ilmoittautumisjärjestyksessä. \nOsallistumismaksu: 52€/osallistuja. Maksu sisältää opastuksen\, kuljetuksen tilausbussilla ja tapaturmavakuutuksen retken ajan. Osallistumismaksu maksetaan ilmoittautumisen yhteydessä. \nIlmoittautuminen: ilmoittautuminen sähköisellä verkkolomakkeella (klikkaa tästä) viimeistään 3.5. \nRetken lähtö ja päättyminen: bussikyyti lähtee klo 8.00 Helsingin keskustasta\, Kiasman matkailuliikenteen pysäkiltä (Lähtöpaikan osoite: Mannerheiminaukio). Paluu samalle paikalle klo 16 mennessä. \nOppaana: Nico Niemenmaa ja Olli Keskikallio \nTiedustelut: nikkoni (ät) live.com
URL:https://tringa.fi/tapahtuma/porkkalan-lintupaikat-tutuiksi/
LOCATION:Porkkalanniemi\, Porkkalanniemi\, Kirkkonummi\, Finland
CATEGORIES:Retket
END:VEVENT
END:VCALENDAR