BEGIN:VCALENDAR
VERSION:2.0
PRODID:-//Uudenmaan lintuharrastajien oma yhdistys - ECPv6.15.20//NONSGML v1.0//EN
CALSCALE:GREGORIAN
METHOD:PUBLISH
X-ORIGINAL-URL:https://tringa.fi
X-WR-CALDESC:Events for Uudenmaan lintuharrastajien oma yhdistys
REFRESH-INTERVAL;VALUE=DURATION:PT1H
X-Robots-Tag:noindex
X-PUBLISHED-TTL:PT1H
BEGIN:VTIMEZONE
TZID:Europe/Helsinki
BEGIN:DAYLIGHT
TZOFFSETFROM:+0200
TZOFFSETTO:+0300
TZNAME:EEST
DTSTART:20220327T010000
END:DAYLIGHT
BEGIN:STANDARD
TZOFFSETFROM:+0300
TZOFFSETTO:+0200
TZNAME:EET
DTSTART:20221030T010000
END:STANDARD
BEGIN:DAYLIGHT
TZOFFSETFROM:+0200
TZOFFSETTO:+0300
TZNAME:EEST
DTSTART:20230326T010000
END:DAYLIGHT
BEGIN:STANDARD
TZOFFSETFROM:+0300
TZOFFSETTO:+0200
TZNAME:EET
DTSTART:20231029T010000
END:STANDARD
BEGIN:DAYLIGHT
TZOFFSETFROM:+0200
TZOFFSETTO:+0300
TZNAME:EEST
DTSTART:20240331T010000
END:DAYLIGHT
BEGIN:STANDARD
TZOFFSETFROM:+0300
TZOFFSETTO:+0200
TZNAME:EET
DTSTART:20241027T010000
END:STANDARD
END:VTIMEZONE
BEGIN:VEVENT
DTSTART;TZID=Europe/Helsinki:20230610T210000
DTEND;TZID=Europe/Helsinki:20230611T010000
DTSTAMP:20260420T130326
CREATED:20230117T144218Z
LAST-MODIFIED:20230317T070814Z
UID:20429-1686430800-1686445200@tringa.fi
SUMMARY:Salmenkallion kehrääjäretki TÄYNNÄ Voit ilmoittautua jonoon
DESCRIPTION:Retkellä kuljetaan Porvarinlahden kautta Salmenkalliolle. Alueella on monina vuosina ollut kehrääjäreviiri. Retkellä kuunnellaan myös muita yölaulajia. Retkellä kävellään noin 6 km kävelyteitä ja polkuja. \nSäävaraus. Kovalla tuulella tai sateella retki perutaan. Katso retkitiedot tapahtumakalenterista vielä retkipäivän iltapäivällä klo 16 jälkeen mahdollisten viime hetken muutosten varalta. \nRetkelle tulee ilmoittautua. Muistathan perua ilmoittautumisesi ellet pääsekään retkelle.  \nKenelle: Retki on vain Tringan jäsenille. Max 14 osallistujaa. \nRetkimaksu: 10 e  \nOppaana: Mikko Salonen \nRetken lähtö: Klo 21\, Niinisaarentie\, alikäytävän viereinen pysäköintialue \nLähtöpaikan karttalinkki \nRetken päättyminen: Viimeistään klo 01.00\, sama paikka \nIlmoittautuminen ja retkimaksu 10 € viimeistään 8.6. seuraavan linkin kautta \nhttps://tringa.tapahtumiin.fi/fi/events/e/salmenkallion-kehraajaretki/63c6b32d35f4cfee328b4576 \nRetken peruutus: opastukset@tringa.fi. Max 10 € retkimaksuja ei palauteta\, vaikka retkeläinen joutuisi perumaan ilmoittautumisensa. Ilmoittamalla peruutuksen mahdollistat kuitenkin retkipaikan toiselle. \nIlmoittautuminen jonoon: Mikäli retki on varattu täyteen ja haluat ilmoittautua jonoon\, lähetä sähköposti: opastukset@tringa.fi \nTiedustelut: opastukset@tringa.fi \n 
URL:https://tringa.fi/tapahtuma/salmenkallion-kehraajaretki/
CATEGORIES:Retket
END:VEVENT
END:VCALENDAR