BEGIN:VCALENDAR
VERSION:2.0
PRODID:-//Uudenmaan lintuharrastajien oma yhdistys - ECPv6.15.20//NONSGML v1.0//EN
CALSCALE:GREGORIAN
METHOD:PUBLISH
X-ORIGINAL-URL:https://tringa.fi
X-WR-CALDESC:Events for Uudenmaan lintuharrastajien oma yhdistys
REFRESH-INTERVAL;VALUE=DURATION:PT1H
X-Robots-Tag:noindex
X-PUBLISHED-TTL:PT1H
BEGIN:VTIMEZONE
TZID:Europe/Helsinki
BEGIN:DAYLIGHT
TZOFFSETFROM:+0200
TZOFFSETTO:+0300
TZNAME:EEST
DTSTART:20220327T010000
END:DAYLIGHT
BEGIN:STANDARD
TZOFFSETFROM:+0300
TZOFFSETTO:+0200
TZNAME:EET
DTSTART:20221030T010000
END:STANDARD
BEGIN:DAYLIGHT
TZOFFSETFROM:+0200
TZOFFSETTO:+0300
TZNAME:EEST
DTSTART:20230326T010000
END:DAYLIGHT
BEGIN:STANDARD
TZOFFSETFROM:+0300
TZOFFSETTO:+0200
TZNAME:EET
DTSTART:20231029T010000
END:STANDARD
BEGIN:DAYLIGHT
TZOFFSETFROM:+0200
TZOFFSETTO:+0300
TZNAME:EEST
DTSTART:20240331T010000
END:DAYLIGHT
BEGIN:STANDARD
TZOFFSETFROM:+0300
TZOFFSETTO:+0200
TZNAME:EET
DTSTART:20241027T010000
END:STANDARD
END:VTIMEZONE
BEGIN:VEVENT
DTSTART;VALUE=DATE:20230522
DTEND;VALUE=DATE:20230530
DTSTAMP:20260420T130347
CREATED:20230303T162832Z
LAST-MODIFIED:20230307T102219Z
UID:21037-1684713600-1685404799@tringa.fi
SUMMARY:Andalucian lintumatka TÄYNNÄ Voit ilmoittautua jonoon
DESCRIPTION:Tällä Petro Pynnösen opastamalla matkalla Espanjan eteläosiin on luvassa paljon aurinkoa ja Iberian lintuerikoisuuksia. \nKyläpöllönen. Kuva Petro Pynnönen \nMatkan pääteemana on nauttia matkasta ja havaita samalla mahdollisimman monipuolisesti paikallisia pesimälintuja. Ajankohta on valittu sellaiseksi\, että kaikki alueen pesimälajit on mahdollista havaita. Toukokuun lopulla pesimäaika on alkanut viimeisilläkin Afrikasta saapuvilla pesimälinnuilla. Viimeisinä muuttolintuina saapuvat häätökiitäjätkin ovat saapuneet pesimäpaikoilleen. Toisaalta isolla osalla lyhyen matkan muuttajista poikaset ovat jo lähteneet pesästä. \nAloitamme retken Malagasta\, josta siirrymme ensin pikkuhiljaa kohti Gibraltaria ja Tarifaa. Erityisiä kohdelajejamme maan eteläkärjessä ovat kyläbulbuli\, suomukorppikotka ja pikkutöyhtötiira. Tämän jälkeen retkeilemme kiireettömällä otteella erilaisilla kosteikoilla\, ja erilaisissa kohdelajiemme elinympäristöissä. Retkeilemme koko viikon Sevillan ja Malagan välisellä alueella. Näemme suurimman osan iberialaisista erikoisuuksista perusretkeilymme ohessa. Varmistamme tämän käymällä parhailla tunnetuilla paikoilla niitä etsimässä. Vietämme pari päivää Doñanan kansallispuiston maisemissa. Retken loppupuolella vierailemme häätö- ja pikkukiitäjien pesimäpaikoilla.  \nPäivämatkat ovat useimpina päivinä lyhyitä\, ja liikkuminen maastossa kevyttä. Liikumme koko viikon noin Tringan alueen kokoisella alueella. Majoitumme keskitasoisissa hotelleissa yhden tai kahden hengen huoneissa. Useiden hotellien sijainti mahdollistaa retkeilyn halukkaille ennen aamiaista. Ruokailemme aamiaiset hotelleilla\, kevyet lounaat tien päällä ja ravintoloissa iltaisin. Ruokailut sisältyvät matkan hintaan. \nAndaluciassa on toukokuun lopussa kesäisen lämmintä\, +25-30 C ja siellä pärjää kevyelläkin vaatetuksella. Aamuisin voi olla viileää ja huppari on tällöin tarpeen.  \nTavoitelajilistamme on pitkä:  \nvalkopääsorsa (Oxyura leucocephala) \nmarmorisorsa (Marmaronetta angustirostris) \npunapyy (Alectoris rufa) \nsuomukorppikotka (Gyps rueppelli) \niberiankeisarikotka (Aquila adalberti) \nliitohaukka (Elanus caeruleus) \nkruununokikana (Fulica cristatus) \nsulttaanikana (Porphyrio porphyrio) \npikkutöyhtötiira (Sterna bengalensis) \nruosteniskakehrääjä (Caprimulgus ruficollis) \nhäätökiitäjä (Apus caffer) \npikkukiitäjä (Apus affinis) \niberianvihertikka (Picus sharpei) \nkivikkotöyhtökiuru (Galerida theklae) \nkyläbulbuli (Pycnonotus barbatus) \nmustatasku (Oenanthe leucura) \nrusotasku (Oenanthe hispanica) \nlännenorfeuskerttu (Sylvia hortensis) \niberiankultarinta (Iduna opaca) \niberiantiltaltti (Phylloscopus ibericus) \netelänisolepinkäinen (Lanius meridionalis) \nsiniharakka (Cyanopica cooki) ja \nmustakottarainen (Sturnus unicolor). \nKaikkeahan ei koskaan näe\, mutta näemme runsaasti Välimeren seudulle ja Etelä-Euroopalle tyypillistä lajistoa. Lisäksi vastaamme tulee useita eksoottisia C-kategorian lajeja. Jalkaudumme retkeilemään kohdepaikoille ja katselemme lintuja kaikessa rauhassa. Kuulemme ja opettelemme aamuisin uusia laululintuja ja opimme tuntemaan niitä oppaan johdolla. Meillä on runsaasti aikaa katsella ja kuvailla muutakin luontoa. Andaluciassa elää mm. 34 matelijalajia ja 74 nisäkäslajia. Nisäkkäistä ehkä tunnetuin on Gibraltarilla elävä apinalaji\, magotti. Hyönteisistä lukuisien perhosten ja sudenkorentojen lisäksi näyttävimpiä ja samalla eksoottisimpia ovat erilaiset rukoilijasirkat ja perhoskorennot. Kevään sateet ovat pääosin ohi\, ja luonto kukoistaa vielä vihreänä. \nKenelle: Matka on vain Tringan jäsenille. 6 osallistujaa. \nMatkan hinta: 2200 €. Hinta sisältää suorat lennot Helsingistä Malagaan ja takaisin\, majoitukset 2 hengen huoneessa 22.-29.5.\, kaikki ruokailut\, kuljetukset ilmastoidulla pikkubussilla ja oppaan palvelut. Yhden hengen huoneen lisämaksu 400-780 € riippuen sitä toivovien määrästä. 2% matkan hinnasta menee linnustonsuojeluun (Hangon lintuasema) ja 2% ilmastokompensaatioon (WWF:n Madagascarin metsittämisprojekti).\n \nLentolippujen hankinnan takia matka tulee maksaa heti sen varmistumisen jälkeen. Matka varmistuu\, kun sillä on kuusi osallistujaa. Tringa pidättää oikeuden hinnanmuutokseen\, jos joudutaan tekemään uudelleenjärjestelyjä tai jos lentojen hinnat ehtivät nousta. Matka ei ole valmismatka\, joten Tringa ei vastaa mahdollisista peruutuksesta syntyvistä kustannuksista. Henkilökohtainen matkavakuutus on pakollinen.  \nMatka-aika: Lähtö 22.5. aamulla Helsinki-Vantaan lentoasemalta. Suora Finnairin lento Malagaan\, jossa olemme aamupäivän puolella. Nappaamme kentältä pikkubussin käyttöömme ja olemme retkellä! 28.5. palaamme illaksi Malagaan\, josta lennämme päivälennolla 29.5. takaisin Helsinkiin. \nOppaana: Petro Pynnönen/No Bird Tours \nSitova ilmoittautuminen ja varausmaksu 100 € viimeistään 31.3.2023 seuraavan linkin kautta: \nhttps://tringa.tapahtumiin.fi/fi/events/e/andalucian-lintumatka/64022017ce19e2903c8b458b \nLisätietoja matkasta: Petro Pynnönen\, nobirdtours@gmail.com \nVarauksen peruuttaminen: Jos joudut perumaan retkipaikkavarauksesi\, lähetä sähköpostia: opastukset@tringa.fi. Retkimaksusta palautetaan osa vain siinä tapauksessa että mahdollisesta jonosta saadaan toinen lähtijä tilalle. Jos perut ilmoittautumisesi sairauden vuoksi\, saat Tringan taloudenhoitajalta todistuksen maksetusta retkimaksusta. \nIlmoittautuminen jonoon: jos matka on täynnä\, voit ilmoittautua jonoon: opastukset@tringa.fi
URL:https://tringa.fi/tapahtuma/andalucian-lintumatka/
CATEGORIES:Retket
END:VEVENT
BEGIN:VEVENT
DTSTART;TZID=Europe/Helsinki:20230523T180000
DTEND;TZID=Europe/Helsinki:20230523T203000
DTSTAMP:20260420T130348
CREATED:20230131T125849Z
LAST-MODIFIED:20230131T125849Z
UID:20642-1684864800-1684873800@tringa.fi
SUMMARY:Kylmäojan kävelyretki
DESCRIPTION:Retkellä kierretään noin 4 km lenkki Vantaan Kylmäojan varressa ja lähipuistoissa ja metsissä. Reitti on pääosin helppokulkuista ulkoilutietä ja pieneltä osalta lähimetsien polkuja. Kierroksella havainnoidaan purovarren loppukevään linnustoa\, ja reitin varrella on hyvät mahdollisuudet havaita mm. nokkavarpusia\, joita pesii alueella useita pareja. \nRetkelle on pakollinen ilmoittautuminen. Muistathan perua ilmoittautumisesi ellet pääsekään retkelle. \nKatso retkitiedot tapahtumakalenterista vielä retkeä edeltävänä iltana mahdollisten viime hetken muutosten varalta. \nKenelle: Retki on avoin kaikille \nRetkimaksu: Maksuton \nOppaana: Antti Mähönen \nRetken lähtö: Klo 18.00\, Ristisillanpuiston matonpesupaikka\, Kallioimarteentie 16 \nLähtöpaikan kartta \nRetken päättyminen: Noin klo 20.30\, sama paikka \nIlmoittautuminen: viimeistään 23.5. klo 16 seuraavan linkin kautta \nhttps://birdlife-lv.creamailer.fi/survey/geqntj4ymhquj \nTiedustelut: opastukset@tringa.fi
URL:https://tringa.fi/tapahtuma/kylmaojan-kavelyretki/
CATEGORIES:Retket
END:VEVENT
BEGIN:VEVENT
DTSTART;TZID=Europe/Helsinki:20230523T183000
DTEND;TZID=Europe/Helsinki:20230523T213000
DTSTAMP:20260420T130348
CREATED:20230130T134502Z
LAST-MODIFIED:20230211T062628Z
UID:20622-1684866600-1684877400@tringa.fi
SUMMARY:Paloheinän kävelyretki
DESCRIPTION:Retkellä havainnoidaan kevätlintuja Helsingin suurimman puiston\, Helsingin keskuspuiston pohjoisosissa. Paloheinän ulkoilumajalta suunnataan Pitkäkosken tai Haltialan suuntaan\, säätilasta riippuen. Hyvällä onnella voidaan havaita idänuunilintu tai pikkusieppo. Retkellä kuljetaan ulkoiluteitä ja metsäpolkuja\, kävelyä kertyy enimmillään noin 6 kilometriä. \nRetkelle tulee ilmoittautua (ks. alempana). Muistathan perua ilmoittautumisesi ellet pääsekään retkelle.  \nKatso retkitiedot tapahtumakalenterista vielä retkeä edeltävänä iltana mahdollisten viime hetken muutosten varalta.  \nKenelle: Retki on avoin kaikille \nRetkimaksu: Maksuton \nOppaana: Juha Salin \nRetken lähtö: Klo 18.30\, Paloheinän ulkoilumajan piha\, Pakilantie 12 \nLähtöpaikan kartta \nRetken päättyminen: Noin klo 21.30\, sama paikka \nIlmoittautuminen: viimeistään 22.5. klo 16 seuraavan linkin kautta \nhttps://birdlife-lv.creamailer.fi/survey/ozacc64srg2tu \nTiedustelut: opastukset@tringa.fi \n 
URL:https://tringa.fi/tapahtuma/paloheinan-kavelyretki-3/
CATEGORIES:Retket
END:VEVENT
END:VCALENDAR