BEGIN:VCALENDAR
VERSION:2.0
PRODID:-//Uudenmaan lintuharrastajien oma yhdistys - ECPv6.15.20//NONSGML v1.0//EN
CALSCALE:GREGORIAN
METHOD:PUBLISH
X-ORIGINAL-URL:https://tringa.fi
X-WR-CALDESC:Events for Uudenmaan lintuharrastajien oma yhdistys
REFRESH-INTERVAL;VALUE=DURATION:PT1H
X-Robots-Tag:noindex
X-PUBLISHED-TTL:PT1H
BEGIN:VTIMEZONE
TZID:Europe/Helsinki
BEGIN:DAYLIGHT
TZOFFSETFROM:+0200
TZOFFSETTO:+0300
TZNAME:EEST
DTSTART:20220327T010000
END:DAYLIGHT
BEGIN:STANDARD
TZOFFSETFROM:+0300
TZOFFSETTO:+0200
TZNAME:EET
DTSTART:20221030T010000
END:STANDARD
BEGIN:DAYLIGHT
TZOFFSETFROM:+0200
TZOFFSETTO:+0300
TZNAME:EEST
DTSTART:20230326T010000
END:DAYLIGHT
BEGIN:STANDARD
TZOFFSETFROM:+0300
TZOFFSETTO:+0200
TZNAME:EET
DTSTART:20231029T010000
END:STANDARD
BEGIN:DAYLIGHT
TZOFFSETFROM:+0200
TZOFFSETTO:+0300
TZNAME:EEST
DTSTART:20240331T010000
END:DAYLIGHT
BEGIN:STANDARD
TZOFFSETFROM:+0300
TZOFFSETTO:+0200
TZNAME:EET
DTSTART:20241027T010000
END:STANDARD
END:VTIMEZONE
BEGIN:VEVENT
DTSTART;TZID=Europe/Helsinki:20230521T150000
DTEND;TZID=Europe/Helsinki:20230521T190000
DTSTAMP:20260420T130313
CREATED:20230304T080557Z
LAST-MODIFIED:20230304T140010Z
UID:21074-1684681200-1684695600@tringa.fi
SUMMARY:Vartiosaaren retki
DESCRIPTION:Vartiosaaren loppukevään retkellä kierretään idyllisen Vartiosaaren metsäpolkuja ja havainnoidaan saaren ja ympäröivien vesialueiden lintuja. Evästauko pidetään saaren näköalapaikalla\, josta aukeaa hieno näkymä lännen suuntaan merelle. Kävelyreitti sisältää mäkiä\, pitkoksia ja rappusia. Kävelyä kertyy noin 5 km. Vartiosaareen ja takaisin kuljetaan Reposaaren lautturien lautalla Reposaarentien pään laiturista. \nRetkelle tulee ilmoittautua (ks. alempana).  Katso retkitiedot tapahtumakalenterista vielä retkeä edeltävänä iltana mahdollisten viime hetken muutosten varalta.  \nKenelle: Retki on vain Tringan jäsenille. Enintään 16 osallistujaa \nRetkimaksu: 10 e. Retkimaksu sisältää edestakaisen lauttakuljetuksen. \nOppaana: Juha Lindy \nRetken lähtö klo 15\, Laajasalo/Reposaarentien itäpää \nLähtöpaikan kartta \nRetken päättyminen noin klo 19\, Reposaarentie \nIlmoittautuminen ja retkimaksu 10 €: viimeistään 18.5. seuraavan linkin kautta: \nhttps://tringa.tapahtumiin.fi/fi/events/e/vartiosaaren-retki/6402fb0d9f0e25fd108b4578 \nRetken peruutus: opastukset@tringa.fi. Max 10 € retkimaksuja ei palauteta\, vaikka retkeläinen joutuisi perumaan ilmoittautumisensa. Ilmoittamalla peruutuksen mahdollistat kuitenkin retkipaikan toiselle. Mikäli retki peruuntuu Tringan taholta\, retkimaksu palautetaan. \nIlmoittautuminen jonoon: Mikäli retki on varattu täyteen ja haluat ilmoittautua jonoon\, lähetä sähköposti: opastukset@tringa.fi
URL:https://tringa.fi/tapahtuma/vartiosaaren-retki/
CATEGORIES:Retket
END:VEVENT
END:VCALENDAR