BEGIN:VCALENDAR
VERSION:2.0
PRODID:-//Uudenmaan lintuharrastajien oma yhdistys - ECPv6.15.20//NONSGML v1.0//EN
CALSCALE:GREGORIAN
METHOD:PUBLISH
X-ORIGINAL-URL:https://tringa.fi
X-WR-CALDESC:Events for Uudenmaan lintuharrastajien oma yhdistys
REFRESH-INTERVAL;VALUE=DURATION:PT1H
X-Robots-Tag:noindex
X-PUBLISHED-TTL:PT1H
BEGIN:VTIMEZONE
TZID:Europe/Helsinki
BEGIN:DAYLIGHT
TZOFFSETFROM:+0200
TZOFFSETTO:+0300
TZNAME:EEST
DTSTART:20220327T010000
END:DAYLIGHT
BEGIN:STANDARD
TZOFFSETFROM:+0300
TZOFFSETTO:+0200
TZNAME:EET
DTSTART:20221030T010000
END:STANDARD
BEGIN:DAYLIGHT
TZOFFSETFROM:+0200
TZOFFSETTO:+0300
TZNAME:EEST
DTSTART:20230326T010000
END:DAYLIGHT
BEGIN:STANDARD
TZOFFSETFROM:+0300
TZOFFSETTO:+0200
TZNAME:EET
DTSTART:20231029T010000
END:STANDARD
BEGIN:DAYLIGHT
TZOFFSETFROM:+0200
TZOFFSETTO:+0300
TZNAME:EEST
DTSTART:20240331T010000
END:DAYLIGHT
BEGIN:STANDARD
TZOFFSETFROM:+0300
TZOFFSETTO:+0200
TZNAME:EET
DTSTART:20241027T010000
END:STANDARD
END:VTIMEZONE
BEGIN:VEVENT
DTSTART;TZID=Europe/Helsinki:20230516T183000
DTEND;TZID=Europe/Helsinki:20230516T203000
DTSTAMP:20260420T130347
CREATED:20230406T084022Z
LAST-MODIFIED:20230406T083927Z
UID:20882-1684261800-1684269000@tringa.fi
SUMMARY:Storträskin metsäretki
DESCRIPTION:Vantaan Sotungista lähtee yksi Sipoonkorven kansallipuiston suosituimmista ulkoilureiteistä. Retkellä kierretään noin 3 kilometrin metsälenkki metsäpolkuja pitkin. Kuulostellaan illan laulajia ja havainnoidaan\, mitä vesilintuja löytyy reitin varren 2 lammesta. Gumböle Träskin mustakurkku-uikut ovat toivottavasti tänäkin vuonna saapuneet. Storträskillä pidetään evästauko. Reitti voi lähipäivien säästä riippuen paikoin olla märkä ja mutainen. \nRetkelle tulee ilmoittautua (ks. alempana). Muistathan perua ilmoittautumisesi ellet pääsekään retkelle. \nKatso retkitiedot tapahtumakalenterista vielä retkeä edeltävänä iltana mahdollisten viime hetken muutosten varalta. \nKenelle: Retki on vain Tringan jäsenille \nRetkimaksu: Maksuton \nOppaana: Jaana Sarvala ja Dolf Assmann \nRetken lähtö: Klo 18.30\, Sotunki/Tasakalliontien pysäköintialue\, info-taulu. Bussi 736 Tikkurilasta tuo 1\,8 km:n päähän lähtöpaikasta \nLähtöpaikka kartalla \nRetken paluu: Noin klo 20.30\, sama paikka \nIlmoittautuminen: viimeistään 14.5. klo 16 seuraavan linkin kautta \nhttps://birdlife-lv.creamailer.fi/survey/apdxtfuwtncon \nMaksuttomille kävelyretkille ei voi ilmoittautua jonoon. Jos retki on täynnä\, yritä varata paikka myöhemmin uudelleen\, peruutusten myötä on voinut vapautua retkipaikka. Retkille ei tule tulla ilmoittautumatta. \nTiedustelut: opastukset@tringa.fi
URL:https://tringa.fi/tapahtuma/stortraskin-metsaretki/
CATEGORIES:Retket
END:VEVENT
END:VCALENDAR