BEGIN:VCALENDAR
VERSION:2.0
PRODID:-//Uudenmaan lintuharrastajien oma yhdistys - ECPv6.15.20//NONSGML v1.0//EN
CALSCALE:GREGORIAN
METHOD:PUBLISH
X-WR-CALNAME:Uudenmaan lintuharrastajien oma yhdistys
X-ORIGINAL-URL:https://tringa.fi
X-WR-CALDESC:Events for Uudenmaan lintuharrastajien oma yhdistys
REFRESH-INTERVAL;VALUE=DURATION:PT1H
X-Robots-Tag:noindex
X-PUBLISHED-TTL:PT1H
BEGIN:VTIMEZONE
TZID:Europe/Helsinki
BEGIN:DAYLIGHT
TZOFFSETFROM:+0200
TZOFFSETTO:+0300
TZNAME:EEST
DTSTART:20220327T010000
END:DAYLIGHT
BEGIN:STANDARD
TZOFFSETFROM:+0300
TZOFFSETTO:+0200
TZNAME:EET
DTSTART:20221030T010000
END:STANDARD
BEGIN:DAYLIGHT
TZOFFSETFROM:+0200
TZOFFSETTO:+0300
TZNAME:EEST
DTSTART:20230326T010000
END:DAYLIGHT
BEGIN:STANDARD
TZOFFSETFROM:+0300
TZOFFSETTO:+0200
TZNAME:EET
DTSTART:20231029T010000
END:STANDARD
BEGIN:DAYLIGHT
TZOFFSETFROM:+0200
TZOFFSETTO:+0300
TZNAME:EEST
DTSTART:20240331T010000
END:DAYLIGHT
BEGIN:STANDARD
TZOFFSETFROM:+0300
TZOFFSETTO:+0200
TZNAME:EET
DTSTART:20241027T010000
END:STANDARD
END:VTIMEZONE
BEGIN:VEVENT
DTSTART;TZID=Europe/Helsinki:20230515T180000
DTEND;TZID=Europe/Helsinki:20230515T203000
DTSTAMP:20260420T130005
CREATED:20230303T160211Z
LAST-MODIFIED:20230303T160211Z
UID:21032-1684173600-1684182600@tringa.fi
SUMMARY:Villa Elfvikin alueen iltakävely
DESCRIPTION:Laajalahden pohjoispuolinen Villa Elfvikin alue on linnustoltaan monipuolista\, alueella on niin vanhaa metsää kuin kosteikkoa. Havainnoidaan loppukevään linnustoa. Retken aikana kierretään noin 3 kilometrin reitti helppokulkuista Elfvikin luontopolkua ja rantaraittia pitkin.  Reitin varrella vietetään aikaa myös Elfvikin lintutornissa vesi- ja kosteikkolinnustoa  havainnoiden. \nKatso retkitiedot tapahtumakalenterista vielä retkeä edeltävänä iltana mahdollisten viime hetken muutosten varalta. \nRetkelle tulee ilmoittautua (ks. alempana). Muistathan perua ilmoittautumisesi ellet pääsekään retkelle. \nKenelle: Retki on avoin kaikille \nRetkimaksu: Maksuton \nOppaana: Tuomas Kervinen \nRetken lähtö: Klo 18:00\, Espoo/Elfvikintie 4/Villa Elfvikin luontotalon pääsisäänkäynnin edusta \nLähtöpaikka kartalla \nRetken päättyminen: Noin klo 20.30\, sama paikka \nIlmoittautuminen viimeistään 14.5. klo 16 oheisen linkin kautta: \nhttps://birdlife-lv.creamailer.fi/survey/nrndwwsposnhb \nTiedustelut: Opastukset@tringa.fi
URL:https://tringa.fi/tapahtuma/villa-elfvikin-alueen-iltakavely/
CATEGORIES:Retket
END:VEVENT
BEGIN:VEVENT
DTSTART;TZID=Europe/Helsinki:20230515T180000
DTEND;TZID=Europe/Helsinki:20230515T210000
DTSTAMP:20260420T130005
CREATED:20230116T181237Z
LAST-MODIFIED:20230116T183502Z
UID:20273-1684173600-1684184400@tringa.fi
SUMMARY:Stansvikin kävelyretki
DESCRIPTION:Retkellä tutustutaan Tahvonlahden\, Stansvikin kartanon ympäristön\, Tahvonlahdenniemen ja Varisluodonlahden linnustoon. Tahvonlahti on pieni\, rehevä kosteikko\, jossa viime vuosina on pesinyt mm. liejukana ja harmaasorsa. Ehtiikö kultarinta jo liittyä rantalehdon laulajakuoroon? Lähiluodoilla pesii monipuolinen valikoima vesilintuja: kanadanhanhi\, haahka\, tukkasotka\, tukkakoskelo jne. Retkellä kuljetaan osaksi ulkoiluteitä\, osaksi luonnonpolkuja pitkin. \nRetkelle tulee ilmoittautua (ks. alempana). Muistathan perua ilmoittautumisesi ellet pääsekään retkelle.  \nKatso retkitiedot tapahtumakalenterista vielä retkeä edeltävänä iltana mahdollisten viime hetken muutosten varalta.  \nKenelle: Retki on avoin kaikille \nRetkimaksu: Maksuton \nOppaana: Paul Segersvärd \nRetken lähtö: Klo 18\, Laajasalo\, Stansvikintien ja Koirasaarentien risteys \nLähtöpaikan karttalinkki \nRetken päättyminen: Noin klo 21\, sama paikka \nIlmoittautuminen: viimeistään 13.5. klo 16 seuraavan linkin kautta \nhttps://birdlife-lv.creamailer.fi/survey/tdaw5siao5r78 \nTiedustelut: opastukset@tringa.fi \n 
URL:https://tringa.fi/tapahtuma/stansvikin-kavelyretki/
CATEGORIES:Retket
END:VEVENT
END:VCALENDAR