BEGIN:VCALENDAR
VERSION:2.0
PRODID:-//Uudenmaan lintuharrastajien oma yhdistys - ECPv6.15.20//NONSGML v1.0//EN
CALSCALE:GREGORIAN
METHOD:PUBLISH
X-ORIGINAL-URL:https://tringa.fi
X-WR-CALDESC:Events for Uudenmaan lintuharrastajien oma yhdistys
REFRESH-INTERVAL;VALUE=DURATION:PT1H
X-Robots-Tag:noindex
X-PUBLISHED-TTL:PT1H
BEGIN:VTIMEZONE
TZID:Europe/Helsinki
BEGIN:DAYLIGHT
TZOFFSETFROM:+0200
TZOFFSETTO:+0300
TZNAME:EEST
DTSTART:20220327T010000
END:DAYLIGHT
BEGIN:STANDARD
TZOFFSETFROM:+0300
TZOFFSETTO:+0200
TZNAME:EET
DTSTART:20221030T010000
END:STANDARD
BEGIN:DAYLIGHT
TZOFFSETFROM:+0200
TZOFFSETTO:+0300
TZNAME:EEST
DTSTART:20230326T010000
END:DAYLIGHT
BEGIN:STANDARD
TZOFFSETFROM:+0300
TZOFFSETTO:+0200
TZNAME:EET
DTSTART:20231029T010000
END:STANDARD
BEGIN:DAYLIGHT
TZOFFSETFROM:+0200
TZOFFSETTO:+0300
TZNAME:EEST
DTSTART:20240331T010000
END:DAYLIGHT
BEGIN:STANDARD
TZOFFSETFROM:+0300
TZOFFSETTO:+0200
TZNAME:EET
DTSTART:20241027T010000
END:STANDARD
END:VTIMEZONE
BEGIN:VEVENT
DTSTART;TZID=Europe/Helsinki:20230511T180000
DTEND;TZID=Europe/Helsinki:20230511T210000
DTSTAMP:20260420T130344
CREATED:20230117T135243Z
LAST-MODIFIED:20230129T164119Z
UID:20421-1683828000-1683838800@tringa.fi
SUMMARY:Sipoonkorven iltaretki
DESCRIPTION:Sipoonkorven retkellä kierretään noin 6 km:n pituinen Fiskträskin lenkki. Retkellä kuulostellaan metsän kevätlintujen iltalauluja: rastaita\, punarintoja\, peippoja\, pajulintuja\, metsäkirvisiä\, sieppoja ym. \nRetkelle tulee ilmoittautua (ks. alempana). Muistathan perua ilmoittautumisesi ellet pääsekään retkelle.  \nKatso retkitiedot tapahtumakalenterista vielä retkeä edeltävänä iltana mahdollisten viime hetken muutosten varalta.  \nKenelle: Retki on vain Tringan jäsenille. Max 14 osallistujaa. \nRetkimaksu: 10 € \nOppaana: Mikko Salonen \nRetken lähtö: Klo 18\, Knutersintie 421\, Sipoonkorven kansallispuiston Bakunkärrin parkkipaikka \nLähtöpaikan karttalinkki \nRetken päättyminen: Noin klo 21\, sama paikka \nIlmoittautuminen ja retkimaksu: viimeistään 9.5. seuraavan linkin kautta \nhttps://tringa.tapahtumiin.fi/fi/events/e/sipoonkorven-iltaretki/63c6a76235f4cf972d8b456e \n  \nRetken peruutus: opastukset@tringa.fi. Max 10 € retkimaksuja ei palauteta\, vaikka retkeläinen joutuisi perumaan ilmoittautumisensa. Ilmoittamalla peruutuksen mahdollistat kuitenkin retkipaikan toiselle. \nIlmoittautuminen jonoon: Mikäli retki on varattu täyteen ja haluat ilmoittautua jonoon\, lähetä sähköposti: opastukset@tringa.fi \nTiedustelut: opastukset@tringa.fi \n 
URL:https://tringa.fi/tapahtuma/sipoonkorven-iltaretki/
CATEGORIES:Retket
END:VEVENT
END:VCALENDAR