BEGIN:VCALENDAR
VERSION:2.0
PRODID:-//Uudenmaan lintuharrastajien oma yhdistys - ECPv6.15.20//NONSGML v1.0//EN
CALSCALE:GREGORIAN
METHOD:PUBLISH
X-WR-CALNAME:Uudenmaan lintuharrastajien oma yhdistys
X-ORIGINAL-URL:https://tringa.fi
X-WR-CALDESC:Events for Uudenmaan lintuharrastajien oma yhdistys
REFRESH-INTERVAL;VALUE=DURATION:PT1H
X-Robots-Tag:noindex
X-PUBLISHED-TTL:PT1H
BEGIN:VTIMEZONE
TZID:Europe/Helsinki
BEGIN:DAYLIGHT
TZOFFSETFROM:+0200
TZOFFSETTO:+0300
TZNAME:EEST
DTSTART:20220327T010000
END:DAYLIGHT
BEGIN:STANDARD
TZOFFSETFROM:+0300
TZOFFSETTO:+0200
TZNAME:EET
DTSTART:20221030T010000
END:STANDARD
BEGIN:DAYLIGHT
TZOFFSETFROM:+0200
TZOFFSETTO:+0300
TZNAME:EEST
DTSTART:20230326T010000
END:DAYLIGHT
BEGIN:STANDARD
TZOFFSETFROM:+0300
TZOFFSETTO:+0200
TZNAME:EET
DTSTART:20231029T010000
END:STANDARD
BEGIN:DAYLIGHT
TZOFFSETFROM:+0200
TZOFFSETTO:+0300
TZNAME:EEST
DTSTART:20240331T010000
END:DAYLIGHT
BEGIN:STANDARD
TZOFFSETFROM:+0300
TZOFFSETTO:+0200
TZNAME:EET
DTSTART:20241027T010000
END:STANDARD
END:VTIMEZONE
BEGIN:VEVENT
DTSTART;TZID=Europe/Helsinki:20230509T180000
DTEND;TZID=Europe/Helsinki:20230509T200000
DTSTAMP:20260420T130020
CREATED:20230122T171401Z
LAST-MODIFIED:20230324T192732Z
UID:20541-1683655200-1683662400@tringa.fi
SUMMARY:Suomenojan kävelyretki
DESCRIPTION:Retkellä tarkastetaan  Suomenojan altaiden lintuanti ja tutkitaan hieman myös Finnoonojan ja Nuottalahden linnustoa.  Suomenojalla lintuja pääsee tarkkailemaan lähietäisyydeltä\, pesimälajistoon kuuluvat mm. naurulokit\, punasotka\, harmaasorsa ja liejukana. \nRetkelle tulee ilmoittautua (ks. alempana). Muistathan perua ilmoittautumisesi ellet pääsekään retkelle.  \nKatso retkitiedot tapahtumakalenterista vielä retkeä edeltävänä iltana mahdollisten viime hetken muutosten varalta.  \nKenelle: Retki on avoin kaikille \nRetkimaksu: Maksuton \nOppaana: Juha Lindy \nRetken lähtö: Klo 18\, Suomenojan pysäköintialue\, Hyljeluodontie 3 \nLähtöpaikan kartta \nRetken päättyminen:  Klo 20\, sama paikka \nIlmoittautuminen: viimeistään 8.5. klo 16 seuraavan linkin kautta \nhttps://birdlife-lv.creamailer.fi/survey/vyprmi6rsuigy \nTiedustelut: opastukset@tringa.fi
URL:https://tringa.fi/tapahtuma/suomenojan-kavelyretki-2/
CATEGORIES:Retket
END:VEVENT
BEGIN:VEVENT
DTSTART;TZID=Europe/Helsinki:20230509T183000
DTEND;TZID=Europe/Helsinki:20230509T203000
DTSTAMP:20260420T130020
CREATED:20230406T120644Z
LAST-MODIFIED:20230406T120644Z
UID:21592-1683657000-1683664200@tringa.fi
SUMMARY:Puustellinmetsän kävelyretki
DESCRIPTION:Retkellä kierretään Suutarilassa sijaitsevan Puustellinmetsän pururata ja kävelyteitä parin kilometrin lenkki. Havainnoidaan kevään laululintuja: peippo\, punarinta\, laulurastas\, punakylkirastas johtavat moniäänistä laulukuoroa. \nRetkelle tulee ilmoittautua (ks. alempana). Muistathan perua ilmoittautumisesi ellet pääsekään retkelle. Ethän mene retkelle ilmoittautumatta. Osallistujamäärät on mitoitettu sellaisiksi\, että kaikki osallistujat näkevät ja kuulevat oppaan.  \nKatso retkitiedot tapahtumakalenterista vielä retkeä edeltävänä iltana mahdollisten viime hetken muutosten varalta.  \nKenelle: Retki on avoin kaikille \nRetkimaksu: Maksuton \nOppaana: Jaana Sarvala ja Dolf Assmann \nRetken lähtö: Klo 18.30\, Tapulikaupungin liikuntapuisto\, Lehto Areenan piha.  Autolla kulku Henrik Forsiuksen tien kautta. \nLähtöpaikka kartalla \nRetken päättyminen:  Noin klo 20.30\, sama paikka \nIlmoittautuminen: viimeistään 8.5. klo 16 seuraavan linkin kautta: \nhttps://birdlife-lv.creamailer.fi/survey/oq1tihddj2j6t \nMaksuttomille kävelyretkille ei voi ilmoittautua jonoon. Jos retki on täynnä\, yritä varata paikka myöhemmin uudelleen\, peruutusten myötä on voinut vapautua retkipaikka. Retkille ei tule tulla ilmoittautumatta. \nTiedustelut: opastukset@tringa.fi \n 
URL:https://tringa.fi/tapahtuma/puustellinmetsan-kavelyretki/
CATEGORIES:Retket
END:VEVENT
END:VCALENDAR