BEGIN:VCALENDAR
VERSION:2.0
PRODID:-//Uudenmaan lintuharrastajien oma yhdistys - ECPv6.15.20//NONSGML v1.0//EN
CALSCALE:GREGORIAN
METHOD:PUBLISH
X-ORIGINAL-URL:https://tringa.fi
X-WR-CALDESC:Events for Uudenmaan lintuharrastajien oma yhdistys
REFRESH-INTERVAL;VALUE=DURATION:PT1H
X-Robots-Tag:noindex
X-PUBLISHED-TTL:PT1H
BEGIN:VTIMEZONE
TZID:UTC
BEGIN:STANDARD
TZOFFSETFROM:+0000
TZOFFSETTO:+0000
TZNAME:UTC
DTSTART:20220101T000000
END:STANDARD
END:VTIMEZONE
BEGIN:VTIMEZONE
TZID:Europe/Helsinki
BEGIN:DAYLIGHT
TZOFFSETFROM:+0200
TZOFFSETTO:+0300
TZNAME:EEST
DTSTART:20220327T010000
END:DAYLIGHT
BEGIN:STANDARD
TZOFFSETFROM:+0300
TZOFFSETTO:+0200
TZNAME:EET
DTSTART:20221030T010000
END:STANDARD
BEGIN:DAYLIGHT
TZOFFSETFROM:+0200
TZOFFSETTO:+0300
TZNAME:EEST
DTSTART:20230326T010000
END:DAYLIGHT
BEGIN:STANDARD
TZOFFSETFROM:+0300
TZOFFSETTO:+0200
TZNAME:EET
DTSTART:20231029T010000
END:STANDARD
BEGIN:DAYLIGHT
TZOFFSETFROM:+0200
TZOFFSETTO:+0300
TZNAME:EEST
DTSTART:20240331T010000
END:DAYLIGHT
BEGIN:STANDARD
TZOFFSETFROM:+0300
TZOFFSETTO:+0200
TZNAME:EET
DTSTART:20241027T010000
END:STANDARD
END:VTIMEZONE
BEGIN:VEVENT
DTSTART;VALUE=DATE:20230503
DTEND;VALUE=DATE:20230507
DTSTAMP:20260420T130315
CREATED:20230101T140451Z
LAST-MODIFIED:20230224T180812Z
UID:19298-1683072000-1683417599@tringa.fi
SUMMARY:Kevätretki Utöhön TÄYNNÄ Myös jono täynnä
DESCRIPTION:Lähde mukaan vastaanottamaan kevätlintuja ulkosaaristoon\, Utöhön. Suomen eteläisin ympärivuotisesti asuttu saari on kuuluisa mm. lukemattomista vuosien varrelle osuneista erityisistä lintuhavainnoista. Tringan viime syksyn retkellä saaressa nähtiin mm. harjalintu ja turturikyyhky. Utön lintutarjonta on aina mielenkiintoinen ja yllätyksellinen. Ja vaikka lintuanti ei onnistuisikaan yllättämään\, saaren ja ympäröivän meren maisemat ovat lumonneet monet. Retki sisältää muutonseurantaa sekä kiertelyä saaressa. Kävelymatkat ovat lyhyitä. Tarkempi retkiohjelma lähetetään ilmoittautuneille lähempänä retkeä. \nMajoitumme mukavasti puolihoidossa Utön Havshotellissa. Valitse ilmoittautumisen yhteydessä\, osallistutko yhteispäivällisiin ja ilmoita tarvittaessa mahdollinen erityisruokavaliosi.  Saaressa on kauppa. Hotellilta voi ostaa puolihoitoon kuulumattomia aterioita. Yhteysaluksessa on ravintola. \n\n\nKulku Nauvoon kimppakyydein. Kimppakyytimaksu 30 € maksetaan kuljettajalle. Pärnäisten satamassa on tilava pysäköintialue. Valitse ilmoittautumisen yhteydessä voitko tarjota kimppakyytiä tai tarvitsetko kimppakyydin. \nRetkeä odotellessa kannattaa lukea Juha Laaksosen kirja Murha Lintusaarella. Karusta aiheestaan huolimatta hauska kirja\, sisältää myös lintutietoa. \nUtössä asuvan lintuharrastaja Jorma Tenovuon blogista voi puolestaan lukea Utön lintutapahtumista vuosien varrelta ja tarkistaa saaren uusimmat havainnot: \nhttp://www.jtenovuo.com/blogi/ \nRetken aikana on mahdollista osallistua erillismaksusta Utön majakan esittelyyn. \nKenelle: Retki on vain Tringan jäsenille. \nRetkiaika ja lähtöpaikka: Lähtö Nauvon Pärnäisten satamasta (Saaristotie 5861) keskiviikkona 3.5. Baldur-aluksella klo 11.10. Saaressa ollaan perillä noin klo 15.30. Paluulähtö lauantaina 6.5. klo 8.30. Pärnäisiin saapuminen noin klo 12.50. \nRetken hinta: 500 e. Retkimaksu sisältää opastuksen\, majoittumisen 3 yötä Utö Havshotellissa 1 hengen huoneessa\, puolihoidon (aamiainen ja päivällinen)\, 1 iltana rantasaunan. Voit varata majoittumisen myös 2 hengen huoneessa\, mikäli sinulla on jo tiedossa huonekaveri. Ilmoita hänen nimensä ilmoittautumisen yhteydessä. Retkimaksu 2 hh:ssa majoittuen on 440 e. Ellet halua osallistua yhteispäivällisiin\, retkihinta on 440 € (1hh)/ 380 € (2 hh). Lisäksi kimppakyyti 30 €\, joka maksetaan suoraan kuljettajalle. \nOppaina: Julia Palorinne ja Jaana Sarvala \nIlmoittautuminen ja retkimaksu: Sitova ilmoittautuminen viimeistään 14.4. oheisen linkin kautta: \nhttps://birdlife-lv.creamailer.fi/survey/lxts6owfmbbpx \n\n  \n\nSaatuasi sähköpostivahvistuksen siitä\, että ilmoittautumisesi onnistui\, maksa 3 päivän kuluessa ilmoittautumisesta 100 e varausmaksu Tringan retkitilille FI0215723000351585. Merkitse maksun viestikenttään “Utön kevätretki 2023/varausmaksu” sekä maksetun osallistujan/osallistujien nimet. Loppumaksu maksetaan samalle retkitilille viimeistään 14.4. Kirjoita loppumaksun viestikenttään “Utön kevätretki 2023 loppumaksu”. \nIlmoittautumisen peruminen: Lähetä peruutuksesta sähköposti: opastukset@tringa.fi. Saat ohjeet retkimaksun palautuksen hakemiseksi. Jos perut varauksesi viimeistään 14.4.\, sinulle palautetaan retkimaksu – (miinus) 10 €. 14.4. jälkeen tulleista peruutuksista ei retkimaksua palauteta ellei tilalle saada toista osallistujaa mahdollisesta jonosta. \nTiedustelut ja jonoon ilmoittautuminen: opastukset@tringa.fi
URL:https://tringa.fi/tapahtuma/kevatretki-utoon/
CATEGORIES:Retket
END:VEVENT
BEGIN:VEVENT
DTSTART;TZID=Europe/Helsinki:20230504T110000
DTEND;TZID=Europe/Helsinki:20230504T140000
DTSTAMP:20260420T130315
CREATED:20230405T112327Z
LAST-MODIFIED:20230405T112327Z
UID:21558-1683198000-1683208800@tringa.fi
SUMMARY:Vuosaaren täyttömäen retki
DESCRIPTION:Retkellä havainnoidaan Vuosaaren täyttömäen ja sen ympäristön kevätlintuja. Säästä riippuen seurataan lintujen kevätmuuttoa tai kierrellään mäen maastossa. Maasto on vaihtelevaa\, mäkiä ja rappusia. \nRetkelle tulee ilmoittautua (ks. linkki alempana). Muistathan perua ilmoittautumisesi ellet pääsekään retkelle. \nKatso retkitiedot tapahtumakalenterista vielä retkeä edeltävänä iltana mahdollisten viime hetken muutosten varalta. \nKenelle: Retki on avoin kaikille \nRetkimaksu: Maksuton \nOppaana: Mikko Salonen \nRetken lähtö: Klo 11\, Vuosaaren mäen pääportin pysäköintialue Niinisaarentien itäpäässä \nLähtöpaikka kartalla \nRetken päättyminen: Sama paikka\, noin klo 14. \nIlmoittautuminen: viimeistään 2.5. klo 16 seuraavan linkin kautta \nhttps://birdlife-lv.creamailer.fi/survey/ftkm2mdlvkc1m \nMaksuttomille kävelyretkille ei voi ilmoittautua jonoon. Jos retki on täynnä\, yritä varata paikka myöhemmin uudelleen\, peruutusten myötä on voinut vapautua retkipaikka. Retkille ei tule tulla ilmoittautumatta. \nTiedustelut: opastukset@tringa.fi
URL:https://tringa.fi/tapahtuma/vuosaaren-tayttomaen-retki/
CATEGORIES:Retket
END:VEVENT
BEGIN:VEVENT
DTSTART;TZID=Europe/Helsinki:20230504T180000
DTEND;TZID=Europe/Helsinki:20230504T203000
DTSTAMP:20260420T130315
CREATED:20230116T183004Z
LAST-MODIFIED:20230214T144729Z
UID:20411-1683223200-1683232200@tringa.fi
SUMMARY:Talosaaren kävelyretki
DESCRIPTION:Retkellä tutustutaan Husön kartanon laidunniittyjen\, Torpvikenin ja Talosaaren metsän linnustoon. Ajankohta on hyvä esim. levähtäville kahlaajille ja sorsalinnuille. Niityillä saattaa nähdä keltavästäräkin ja pensastaskun. Retkellä kuljetaan osaksi ulkoiluteitä\, osaksi luonnonpolkuja pitkin. \nRetkelle tulee ilmoittautua (ks. alempana). Muistathan perua ilmoittautumisesi ellet pääsekään retkelle.  \nKatso retkitiedot tapahtumakalenterista vielä retkeä edeltävänä iltana mahdollisten viime hetken muutosten varalta.  \nKenelle: Retki on avoin kaikille \nRetkimaksu: Maksuton \nOppaana: Paul Segersvärd \nRetken lähtö: Klo 18\, Talosaari\, Talosaarentie 284\, Husön Ratsastuskeskuksen pysäköintialue \nLähin bussipysäkki Uudella Porvoontiellä Talosaarentien risteyksen vieressä \, noin 3 km:n päässä lähtöpaikasta. \nLähtöpaikan karttalinkki \n  \nRetken päättyminen: Noin klo 20.30\, sama paikka \nIlmoittautuminen: viimeistään 3.5. klo 16 seuraavan linkin kautta \nhttps://birdlife-lv.creamailer.fi/survey/hhpcvuoriotbv \nTiedustelut: opastukset@tringa.fi \n 
URL:https://tringa.fi/tapahtuma/talosaaren-kavelyretki/
CATEGORIES:Retket
END:VEVENT
END:VCALENDAR