BEGIN:VCALENDAR
VERSION:2.0
PRODID:-//Uudenmaan lintuharrastajien oma yhdistys - ECPv6.15.20//NONSGML v1.0//EN
CALSCALE:GREGORIAN
METHOD:PUBLISH
X-ORIGINAL-URL:https://tringa.fi
X-WR-CALDESC:Events for Uudenmaan lintuharrastajien oma yhdistys
REFRESH-INTERVAL;VALUE=DURATION:PT1H
X-Robots-Tag:noindex
X-PUBLISHED-TTL:PT1H
BEGIN:VTIMEZONE
TZID:Europe/Helsinki
BEGIN:DAYLIGHT
TZOFFSETFROM:+0200
TZOFFSETTO:+0300
TZNAME:EEST
DTSTART:20220327T010000
END:DAYLIGHT
BEGIN:STANDARD
TZOFFSETFROM:+0300
TZOFFSETTO:+0200
TZNAME:EET
DTSTART:20221030T010000
END:STANDARD
BEGIN:DAYLIGHT
TZOFFSETFROM:+0200
TZOFFSETTO:+0300
TZNAME:EEST
DTSTART:20230326T010000
END:DAYLIGHT
BEGIN:STANDARD
TZOFFSETFROM:+0300
TZOFFSETTO:+0200
TZNAME:EET
DTSTART:20231029T010000
END:STANDARD
BEGIN:DAYLIGHT
TZOFFSETFROM:+0200
TZOFFSETTO:+0300
TZNAME:EEST
DTSTART:20240331T010000
END:DAYLIGHT
BEGIN:STANDARD
TZOFFSETFROM:+0300
TZOFFSETTO:+0200
TZNAME:EET
DTSTART:20241027T010000
END:STANDARD
END:VTIMEZONE
BEGIN:VEVENT
DTSTART;VALUE=DATE:20230421
DTEND;VALUE=DATE:20230424
DTSTAMP:20260420T160208
CREATED:20230120T143235Z
LAST-MODIFIED:20230412T162909Z
UID:20517-1682035200-1682294399@tringa.fi
SUMMARY:Tyttöjen retki Hangon lintuasemalle
DESCRIPTION:Hei\, oletko noin 12-25-vuotias linnuista kiinnostunut tyttö? Tringa järjestää viikonloppuretken yhdelle Tringan alueen parhaista lintupaikoista\, Hangon lintuasemalle! Retkellä tutustutaan lintuaseman toimintaan: seurataan ja havainnoidaan lintuja ja niiden muuttoa\, osallistutaan aamuvakiolle\, osallistutaan aseman iltahuutoon jne. \nHinta: Retki on maksuton. Tringa tarjoaa osallistujille matkat (Hki – Hanko – Hki)\, ruuat sekä majoituksen lintuasemalla. Helsingistä lähdetään kohti Hankoa perjantaina alkuillasta\, paluu takaisin Helsinkiin sunnuntaina iltaan mennessä. Hankoon on mahdollista saapua myös omalla kyydillä tai hypätä mukaan matkan varrelta.\nRetkelle mahtuu mukaan 4-5 nuorta. Etusijalla ovat ne\, jotka eivät ole aikaisemmin käyneet lintuasemalla. \nOpas: Pinja Kettunen \nIlmoittautuminen: ilmoittaudu mukaan 16.4. mennessä Tyttöjen retken verkkoilmoittautuminen\nTilanne 12.4.: RETKI ON TÄYNNÄ. \nRetkikertomus vuonna 2019 järjestetyltä retkeltä: RETKI HANGON LINTUASEMALLE 12.–14.4.2019
URL:https://tringa.fi/tapahtuma/tyttojen-retki-hangon-lintuasemalle/
LOCATION:Hangon lintuasema\, Tulliniemi\, Hanko\, Finland
CATEGORIES:Lasten ja nuorten tapahtumat,Nuorten linturyhmä,Retket
END:VEVENT
BEGIN:VEVENT
DTSTART;TZID=Europe/Helsinki:20230421T173000
DTEND;TZID=Europe/Helsinki:20230421T200000
DTSTAMP:20260420T160209
CREATED:20230130T131512Z
LAST-MODIFIED:20230324T192909Z
UID:20614-1682098200-1682107200@tringa.fi
SUMMARY:Suomenojan iltaretki
DESCRIPTION:Suomenojan iltaretkellä lintuja pääsee tarkkailemaan lähietäisyydeltä. Pesimälajistoon kuuluvat mm. naurulokit\, punasotka\, harmaasorsa\, mustakurkku-uikku ja liejukana.  \nRetkelle tulee ilmoittautua (ks. alempana). Muistathan perua ilmoittautumisesi ellet pääsekään retkelle. Katso retkitiedot tapahtumakalenterista vielä retkeä edeltävänä iltana mahdollisten viime hetken muutosten varalta.  \nKenelle: Retki on avoin kaikille \nRetkimaksu: Maksuton \nOppaana: Tommi Heinonen \nRetken lähtö: Klo 17.30\, Suomenojan altaiden pysäköintialue\, Hyljeluodontie 3 \nLähtöpaikan kartta \nRetken päättyminen:  Noin klo 20\, sama paikka \nIlmoittautuminen: viimeistään 20.4. klo 16 seuraavan linkin kautta: \nhttps://birdlife-lv.creamailer.fi/survey/phkpd2qt3m6fg \nTiedustelut: opastukset@tringa.fi
URL:https://tringa.fi/tapahtuma/suomenojan-iltaretki/
CATEGORIES:Retket
END:VEVENT
END:VCALENDAR