BEGIN:VCALENDAR
VERSION:2.0
PRODID:-//Uudenmaan lintuharrastajien oma yhdistys - ECPv6.15.20//NONSGML v1.0//EN
CALSCALE:GREGORIAN
METHOD:PUBLISH
X-WR-CALNAME:Uudenmaan lintuharrastajien oma yhdistys
X-ORIGINAL-URL:https://tringa.fi
X-WR-CALDESC:Events for Uudenmaan lintuharrastajien oma yhdistys
REFRESH-INTERVAL;VALUE=DURATION:PT1H
X-Robots-Tag:noindex
X-PUBLISHED-TTL:PT1H
BEGIN:VTIMEZONE
TZID:Europe/Helsinki
BEGIN:DAYLIGHT
TZOFFSETFROM:+0200
TZOFFSETTO:+0300
TZNAME:EEST
DTSTART:20220327T010000
END:DAYLIGHT
BEGIN:STANDARD
TZOFFSETFROM:+0300
TZOFFSETTO:+0200
TZNAME:EET
DTSTART:20221030T010000
END:STANDARD
BEGIN:DAYLIGHT
TZOFFSETFROM:+0200
TZOFFSETTO:+0300
TZNAME:EEST
DTSTART:20230326T010000
END:DAYLIGHT
BEGIN:STANDARD
TZOFFSETFROM:+0300
TZOFFSETTO:+0200
TZNAME:EET
DTSTART:20231029T010000
END:STANDARD
BEGIN:DAYLIGHT
TZOFFSETFROM:+0200
TZOFFSETTO:+0300
TZNAME:EEST
DTSTART:20240331T010000
END:DAYLIGHT
BEGIN:STANDARD
TZOFFSETFROM:+0300
TZOFFSETTO:+0200
TZNAME:EET
DTSTART:20241027T010000
END:STANDARD
END:VTIMEZONE
BEGIN:VEVENT
DTSTART;TZID=Europe/Helsinki:20230417T173000
DTEND;TZID=Europe/Helsinki:20230417T200000
DTSTAMP:20260420T143403
CREATED:20230326T104940Z
LAST-MODIFIED:20230326T105410Z
UID:21448-1681752600-1681761600@tringa.fi
SUMMARY:Viikin iltaretki
DESCRIPTION:Viikin iltaretkellä kierretään 3-4 kilometrin lenkki. Havainnoidaan huhtikuun alun lintutilannetta. Tarkka reitti määräytyy sääolosuhteiden mukaan. \nRetkelle tulee ilmoittautua (ks. alempana). Muistathan perua ilmoittautumisesi ellet pääsekään retkelle. Ethän mene retkelle ilmoittautumatta. Osallistujamäärät on mitoitettu sellaisiksi\, että kaikki osallistujat näkevät ja kuulevat oppaan.  \nKatso retkitiedot tapahtumakalenterista vielä retkeä edeltävänä iltana mahdollisten viime hetken muutosten varalta.  \nKenelle: Retki on avoin kaikille \nRetkimaksu: Maksuton \nOppaana: Julia Palorinne \nRetken lähtö: Klo 17.30\, Viikki\, Koetilantie 1\, Lintuvarusteen edusta \nLähtöpaikka kartalla \nRetken päättyminen:  Noin klo 20\, sama paikka \nIlmoittautuminen: viimeistään 16.4. klo 16 seuraavan linkin kautta: \nhttps://birdlife-lv.creamailer.fi/survey/tsrsnsd84arz1 \nTiedustelut: opastukset@tringa.fi \n 
URL:https://tringa.fi/tapahtuma/viikin-iltaretki-4/
CATEGORIES:Retket
END:VEVENT
END:VCALENDAR