BEGIN:VCALENDAR
VERSION:2.0
PRODID:-//Uudenmaan lintuharrastajien oma yhdistys - ECPv6.15.20//NONSGML v1.0//EN
CALSCALE:GREGORIAN
METHOD:PUBLISH
X-ORIGINAL-URL:https://tringa.fi
X-WR-CALDESC:Events for Uudenmaan lintuharrastajien oma yhdistys
REFRESH-INTERVAL;VALUE=DURATION:PT1H
X-Robots-Tag:noindex
X-PUBLISHED-TTL:PT1H
BEGIN:VTIMEZONE
TZID:Europe/Helsinki
BEGIN:DAYLIGHT
TZOFFSETFROM:+0200
TZOFFSETTO:+0300
TZNAME:EEST
DTSTART:20220327T010000
END:DAYLIGHT
BEGIN:STANDARD
TZOFFSETFROM:+0300
TZOFFSETTO:+0200
TZNAME:EET
DTSTART:20221030T010000
END:STANDARD
BEGIN:DAYLIGHT
TZOFFSETFROM:+0200
TZOFFSETTO:+0300
TZNAME:EEST
DTSTART:20230326T010000
END:DAYLIGHT
BEGIN:STANDARD
TZOFFSETFROM:+0300
TZOFFSETTO:+0200
TZNAME:EET
DTSTART:20231029T010000
END:STANDARD
BEGIN:DAYLIGHT
TZOFFSETFROM:+0200
TZOFFSETTO:+0300
TZNAME:EEST
DTSTART:20240331T010000
END:DAYLIGHT
BEGIN:STANDARD
TZOFFSETFROM:+0300
TZOFFSETTO:+0200
TZNAME:EET
DTSTART:20241027T010000
END:STANDARD
END:VTIMEZONE
BEGIN:VEVENT
DTSTART;TZID=Europe/Helsinki:20230416T080000
DTEND;TZID=Europe/Helsinki:20230416T103000
DTSTAMP:20260420T143719
CREATED:20230223T121559Z
LAST-MODIFIED:20230223T121652Z
UID:20968-1681632000-1681641000@tringa.fi
SUMMARY:Villa Elfvikin alueen kävelyretki
DESCRIPTION:Huhtikuu on erinomaista aikaa retkeillä Espoon Laajalahdella. Lahden pohjoispuolinen Villa Elfvikin alue on linnustoltaan monipuolinen\, alueella on niin vanhaa metsää kuin kosteikkoa. Retken aikana kierretään noin 3 kilometrin reitti helppokulkuista Elfvikin luontopolkua ja rantaraittia pitkin. Reitin varrella vietetään aikaa myös Elfvikin lintutornissa vesi- ja kosteikkolinnustoa sekä mahdollista muuttoa havainnoiden. \nKatso retkitiedot tapahtumakalenterista vielä retkeä edeltävänä iltana mahdollisten viime hetken muutosten varalta. \nRetkelle tulee ilmoittautua (ks. alempana). Muistathan perua ilmoittautumisesi ellet pääsekään retkelle. \nKenelle: Retki on avoin kaikille \nRetkimaksu: Maksuton \nOppaana: Touko Torppa \nRetken lähtö: Klo 8:00\, Villa Elfvikin luontotalon pääsisäänkäynnin edestä. Elfvikintie 4\, Espoo. \nLähtöpaikka kartalla \nRetken päättyminen: Noin klo 10:30\, sama paikka \nIlmoittautuminen viimeistään 14.4. klo 16 oheisen linkin kautta: \nhttps://birdlife-lv.creamailer.fi/survey/v0hluoe0vlxg9 \nTiedustelut: Opastukset@tringa.fi \n  \n  \n 
URL:https://tringa.fi/tapahtuma/villa-elfvikin-alueen-kavelyretki/
CATEGORIES:Retket
END:VEVENT
BEGIN:VEVENT
DTSTART;TZID=Europe/Helsinki:20230416T080000
DTEND;TZID=Europe/Helsinki:20230416T110000
DTSTAMP:20260420T143719
CREATED:20230110T073212Z
LAST-MODIFIED:20230110T073212Z
UID:20254-1681632000-1681642800@tringa.fi
SUMMARY:Lammassaaren aamuretki
DESCRIPTION:Huhtikuussa lintujen kevätmuutto on täydessä vauhdissa. Vanhankaupunginselällä on monipuolisesti vesilintuja. Harmaahaikarat ja merimetsot kohentelevat pesiään Klobbenilla. Pikkulintuja on jo runsaasti.  Kävelyä kertyy muutama kilometri\, kävelyteitä\, pitkospuita ja polkuja pitkin.\n\nRetkelle tulee ilmoittautua. Muistathan perua ilmoittautumisesi ellet pääsekään retkelle. \n\nKatso retkitiedot tapahtumakalenterista vielä retkeä edeltävänä iltana mahdollisten viime hetken muutosten varalta.  \nKenelle: Retki on avoin kaikille \nRetkimaksu: Maksuton \nOppaana: Julia Palorinne \nRetken lähtö: Klo 8\, Vanhakaupunki\, Jokisuuntien eteläpää\, Design-koirapuiston kulmaus  \nRetken päättyminen: Noin klo 11\, sama paikka \nIlmoittautuminen: viimeistään 14.4.2023 klo 16 seuraavan linkin kautta \n\nhttps://birdlife-lv.creamailer.fi/survey/pnn5pl1jwwz7c \n\nTiedustelut: opastukset@tringa.fi
URL:https://tringa.fi/tapahtuma/lammassaaren-aamuretki-8/
CATEGORIES:Retket
END:VEVENT
BEGIN:VEVENT
DTSTART;TZID=Europe/Helsinki:20230416T090000
DTEND;TZID=Europe/Helsinki:20230416T120000
DTSTAMP:20260420T143719
CREATED:20230214T203153Z
LAST-MODIFIED:20230214T212602Z
UID:20840-1681635600-1681646400@tringa.fi
SUMMARY:Aamupäivä Hangon lintuasemalla - opastus lintuharrastajille
DESCRIPTION:Lähde Hangon lintuasemalle seuraamaan lintujen kevätmuuttoa! Aamupäivä vietetään lintuaseman oppaan seurassa yhdellä maamme tunnetuimmista lintupaikoista kevään muuttolintuja havainnoiden ja lintujen määritykseen keskittyen. Opastus kestää noin 3 tuntia ja mukaan mahtuu 10 lintuharrastajaa. \nOppaana: Aki Aintila \nKokoontuminen: Tulliniemen luontopolun eteläpään näköalakalliolla paikalla\, jossa kaksi retkipöytää. Tapaamispaikalle on luontopolun alusta noin 3\,7 kilometrin kävelymatka. Näköalapaikka kartalla: Uddskatanin näköalapaikka \nOpastuksen kesto: klo 9.00 – 12.00 \nOpastuksen hinta: 30€ Aikuinen; 15€ lapsi (7-18v). \nIlmoittautuminen: Ilmoittautudu mukaan Hangon lintuaseman verkkokaupassa\, osallistumismaksu maksettava ilmoittautumisen yhteydessä. Koska verkkokaupassa on saatavilla useita retkiä\, muistathan valita oikean päivämäärän! \nLisätietoja: Aamupäivä Hangon lintuasemalla -opastus lintuharrastajille \nTiedustelut: opastukset(ät)halias.fi
URL:https://tringa.fi/tapahtuma/aamupaiva-hangon-lintuasemalla-opastus-lintuharrastajille/
CATEGORIES:Hangon lintuaseman opastukset,Retket
ORGANIZER;CN="Hangon lintuasema":MAILTO:opastukset@halias.fi
END:VEVENT
END:VCALENDAR