BEGIN:VCALENDAR
VERSION:2.0
PRODID:-//Uudenmaan lintuharrastajien oma yhdistys - ECPv6.15.20//NONSGML v1.0//EN
CALSCALE:GREGORIAN
METHOD:PUBLISH
X-WR-CALNAME:Uudenmaan lintuharrastajien oma yhdistys
X-ORIGINAL-URL:https://tringa.fi
X-WR-CALDESC:Events for Uudenmaan lintuharrastajien oma yhdistys
REFRESH-INTERVAL;VALUE=DURATION:PT1H
X-Robots-Tag:noindex
X-PUBLISHED-TTL:PT1H
BEGIN:VTIMEZONE
TZID:Europe/Helsinki
BEGIN:DAYLIGHT
TZOFFSETFROM:+0200
TZOFFSETTO:+0300
TZNAME:EEST
DTSTART:20220327T010000
END:DAYLIGHT
BEGIN:STANDARD
TZOFFSETFROM:+0300
TZOFFSETTO:+0200
TZNAME:EET
DTSTART:20221030T010000
END:STANDARD
BEGIN:DAYLIGHT
TZOFFSETFROM:+0200
TZOFFSETTO:+0300
TZNAME:EEST
DTSTART:20230326T010000
END:DAYLIGHT
BEGIN:STANDARD
TZOFFSETFROM:+0300
TZOFFSETTO:+0200
TZNAME:EET
DTSTART:20231029T010000
END:STANDARD
BEGIN:DAYLIGHT
TZOFFSETFROM:+0200
TZOFFSETTO:+0300
TZNAME:EEST
DTSTART:20240331T010000
END:DAYLIGHT
BEGIN:STANDARD
TZOFFSETFROM:+0300
TZOFFSETTO:+0200
TZNAME:EET
DTSTART:20241027T010000
END:STANDARD
END:VTIMEZONE
BEGIN:VEVENT
DTSTART;TZID=Europe/Helsinki:20230415T080000
DTEND;TZID=Europe/Helsinki:20230415T110000
DTSTAMP:20260420T161105
CREATED:20230130T130711Z
LAST-MODIFIED:20230324T192947Z
UID:20610-1681545600-1681556400@tringa.fi
SUMMARY:Suomenojan aamukävely
DESCRIPTION:Suomenojan retkellä lintuja pääsee tarkkailemaan lähietäisyydeltä. Pesimälajistoon kuuluvat mm. naurulokit\, punasotka\, harmaasorsa\, mustakurkku-uikku ja liejukana. \nRetkelle tulee ilmoittautua (ks. alempana). Muistathan perua ilmoittautumisesi ellet pääsekään retkelle. Katso retkitiedot tapahtumakalenterista vielä retkeä edeltävänä iltana mahdollisten viime hetken muutosten varalta.  \nKenelle: Retki on avoin kaikille \nRetkimaksu: Maksuton \nOppaana: Tommi Heinonen \nRetken lähtö: Klo 8\, Suomenojan altaiden pysäköintialue\, Hyljeluodontie 3 \nLähtöpaikan kartta \nRetken päättyminen:  Noin klo 11\, sama paikka \nIlmoittautuminen: viimeistään 13.4. klo 16 seuraavan linkin kautta: \nhttps://birdlife-lv.creamailer.fi/survey/nnabcuvqzslzr \nTiedustelut: opastukset@tringa.fi
URL:https://tringa.fi/tapahtuma/suomenojan-aamukavely/
CATEGORIES:Retket
END:VEVENT
BEGIN:VEVENT
DTSTART;TZID=Europe/Helsinki:20230415T090000
DTEND;TZID=Europe/Helsinki:20230415T123000
DTSTAMP:20260420T161105
CREATED:20230118T104736Z
LAST-MODIFIED:20230208T170701Z
UID:20267-1681549200-1681561800@tringa.fi
SUMMARY:Santahaminan retki TÄYNNÄ\, myös jono täynnä
DESCRIPTION:Retkellä seurataan Santahaminan eteläkärjessä kevätmuuton kulkua Suomenlahdella. Kaukoputkesta on hyötyä. Koska retkellä ollaan paljon paikallaan meren rannalla muuttoa seuraamassa\, lämmin pukeutuminen on tarpeen. Kävelyä retkellä kertyy 3-4 kilometriä. Eväitä ehtii mainiosti syödä muutonseurannan lomassa. Retkellä tulee kulkea oppaan mukana\, omatoiminen alueella liikkuminen on kielletty. Retkeltä ei voi poistua kesken retken. \nMukana retkellä tulee olla tunnistautumista varten voimassa oleva henkilöllisyystodistus: henkilökortti tai passi. Ajokortti ei kelpaa. Autolla saapujilta kaikkien autossa olijoiden henkilöllisyys tarkistetaan Santahaminaan saavuttaessa portilla. Bussilla tulevien henkilöllisyys tarkistetaan bussissa. Ilmoita saapuessasi porttivartiolle\, että nimesi löytyy Tringan listalta. \nKatso retkitiedot tapahtumakalenterista vielä retkeä edeltävänä iltana mahdollisten viime hetken muutosten varalta. \nKenelle: Retki on vain Tringan jäsenille\, jotka eivät ole/olleet ilmoittautuneet  22.5. Santahaminan retkelle. Retkeläisen tulee olla Suomen kansalainen. \nOppaana: Paul Segersvärd \nRetkimaksu: Tringan jäsen 15 € \nRetken lähtö: Klo 9\, Santahaminantien eteläpää\, bussin 86 päätepysäkin viereinen pysäköintialue. \nLähtöpaikan karttalinkki \nRetken paluu:  Noin klo 12.30\, sama paikka \nIlmoittautuminen ja retkimaksu viimeistään 7.4. oheisen linkin kautta \nhttps://tringa.tapahtumiin.fi/fi/events/e/santahaminan-retki/63c6dfc79548b624078b4567 \n  \nTiedustelut: opastukset@tringa.fi \n\n  \nIlmoittautumisen peruminen: Ilmoita peruutus sähköpostilla: opastukset@tringa.fi. Retkimaksusta palautetaan 5 €\, kun perut ilmoittautumisen viimeistään 7.4.  \nIlmoittautuminen jonoon: opastukset@tringa.fi  Huom! Retkelle ei kulkulupamenettelyn vuoksi kannata  ilmoittautua jonoon 7.4. jälkeen. \nTiedustelut: opastukset@tringa.fi
URL:https://tringa.fi/tapahtuma/santahaminan-retki-2/
CATEGORIES:Retket
END:VEVENT
BEGIN:VEVENT
DTSTART;TZID=Europe/Helsinki:20230415T090000
DTEND;TZID=Europe/Helsinki:20230415T130000
DTSTAMP:20260420T161105
CREATED:20230312T172502Z
LAST-MODIFIED:20230312T172502Z
UID:21225-1681549200-1681563600@tringa.fi
SUMMARY:Suomenlinnan retki
DESCRIPTION:Suomenlinnan kevätretkellä kierretään Suomenlinnan saarien rannoilla ja havainnoidaan kevään lintuja. Kävelyä kertyy enintään 5 km. \nLauttalippu (HSL:n AB- kertalippu 3\,10 e) tulee hankkia itse. \nKatso retkitiedot tapahtumakalenterista vielä retkeä edeltävänä iltana mahdollisten viime hetken muutosten varalta. \nKenelle: Retki on vain Tringan jäsenille. \nOppaana: Julia Palorinne \nRetkimaksu: Tringan jäsen 10 e.  \nLähtöpaikka: Kauppatori/Suomenlinnan lautan lähtölaituri \nLähtöpaikka kartalla \nRetkiaika: Lautta lähtee Kauppatorilta klo 9.00. Paluu Suomenlinnasta klo 12.20 lähtevällä lautalla. \nIlmoittautuminen ja retkimaksu: viimeistään 13.4.2023 seuraavan linkin kautta: \nhttps://tringa.tapahtumiin.fi/fi/events/e/suomenlinnan-retki/640e0975fa88190c3d8b4569 \nIlmoittautumisen peruminen: Lähetä peruutuksesta sähköposti: opastukset@tringa.fi \nMax 10 € retkimaksuja ei palauteta. vaikka joutuisit perumaan ilmoittautumisesi. \nIlmoittautuminen jonoon: opastukset@tringa.fi \nTiedustelut: opastukset@tringa\,fi
URL:https://tringa.fi/tapahtuma/suomenlinnan-retki-2/
CATEGORIES:Retket
END:VEVENT
BEGIN:VEVENT
DTSTART;TZID=Europe/Helsinki:20230415T120000
DTEND;TZID=Europe/Helsinki:20230415T133000
DTSTAMP:20260420T161105
CREATED:20230214T204923Z
LAST-MODIFIED:20230214T212321Z
UID:20847-1681560000-1681565400@tringa.fi
SUMMARY:Opastettu kierros Hangon lintuasemalla
DESCRIPTION:Lähde opastetulle kierrokselle Hangon lintuasemalle! Suomen mantereen eteläsimmässä kärjessä on seurattu ja tutkittu lintujen muuttoa jo yli 40 vuoden ajan. Opastettu kierros yleisöltä muutoin suljetulla lintuaseman alueella kestää noin 1\,5h ja sen voi varata verkkokaupastamme. \nOppaana: Aki Aintila \nKokoontuminen: Tulliniemen luontopolun eteläpään näköalakalliolla paikalla\, jossa kaksi retkipöytää. Tapaamispaikalle on luontopolun alusta noin 3\,7 kilometrin kävelymatka. Näköalapaikka kartalla: Uddskatanin näköalapaikka \nOpastuksen kesto: klo 12.00 – 13.30 \nOpastuksen hinta: 15€ Aikuinen; 7\,50€ lapsi (7-18v). \nIlmoittautuminen: Ilmoittautudu mukaan Hangon lintuaseman verkkokaupassa\, osallistumismaksu maksettava ilmoittautumisen yhteydessä. Koska verkkokaupassa on saatavilla useita retkiä\, muistathan valita oikean päivämäärän! \nLisätietoja: Opastetut kierrosket Hangon lintuasemalla \nTiedustelut: opastukset(ät)halias.fi
URL:https://tringa.fi/tapahtuma/opastettu-kierros-hangon-lintuasemalla-2/
CATEGORIES:Hangon lintuaseman opastukset,Retket
ORGANIZER;CN="Hangon lintuasema":MAILTO:opastukset@halias.fi
END:VEVENT
END:VCALENDAR