BEGIN:VCALENDAR
VERSION:2.0
PRODID:-//Uudenmaan lintuharrastajien oma yhdistys - ECPv6.15.20//NONSGML v1.0//EN
CALSCALE:GREGORIAN
METHOD:PUBLISH
X-ORIGINAL-URL:https://tringa.fi
X-WR-CALDESC:Events for Uudenmaan lintuharrastajien oma yhdistys
REFRESH-INTERVAL;VALUE=DURATION:PT1H
X-Robots-Tag:noindex
X-PUBLISHED-TTL:PT1H
BEGIN:VTIMEZONE
TZID:Europe/Helsinki
BEGIN:DAYLIGHT
TZOFFSETFROM:+0200
TZOFFSETTO:+0300
TZNAME:EEST
DTSTART:20220327T010000
END:DAYLIGHT
BEGIN:STANDARD
TZOFFSETFROM:+0300
TZOFFSETTO:+0200
TZNAME:EET
DTSTART:20221030T010000
END:STANDARD
BEGIN:DAYLIGHT
TZOFFSETFROM:+0200
TZOFFSETTO:+0300
TZNAME:EEST
DTSTART:20230326T010000
END:DAYLIGHT
BEGIN:STANDARD
TZOFFSETFROM:+0300
TZOFFSETTO:+0200
TZNAME:EET
DTSTART:20231029T010000
END:STANDARD
BEGIN:DAYLIGHT
TZOFFSETFROM:+0200
TZOFFSETTO:+0300
TZNAME:EEST
DTSTART:20240331T010000
END:DAYLIGHT
BEGIN:STANDARD
TZOFFSETFROM:+0300
TZOFFSETTO:+0200
TZNAME:EET
DTSTART:20241027T010000
END:STANDARD
END:VTIMEZONE
BEGIN:VEVENT
DTSTART;TZID=Europe/Helsinki:20230412T153000
DTEND;TZID=Europe/Helsinki:20230412T210000
DTSTAMP:20260420T143719
CREATED:20221231T175233Z
LAST-MODIFIED:20230404T064147Z
UID:19994-1681313400-1681333200@tringa.fi
SUMMARY:Rantamon kosteikon iltaretki TÄYNNÄ Voit ilmoittautua jonoon
DESCRIPTION:Tuusulan Rantamo on Tuusulanjärven länsirannalla oleva kosteikkokohde. Alueelle on rakennettu 90-luvulla kaksi isohkoa laskeumavesiallasta\, jotka muodostavat niitä ympäröivien peltojen kanssa hienon lintualuekokonaisuuden. Altaista toinen sijaitsee Seittelin puolella ja siellä pesii yksi Uudenmaan suurimmista naurulokkiyhdyskunnista. Tämän altaan uudistaminen on meneillään. Tämä on erittäin mittava ja ainutlaatuinen kunnostusprojekti altaan tyhjentämisineen. Molemmat altaan ja peltoaukeat hallitsee hyvin keskellä aluetta olevalta muutontarkkailukukkulalta ja muutenkin alueella retkeily on helppoa.  Alueella levähtää paljon vesilintuja\, kahlaajia ja varpuslintuja. Lisäksi tutustutaan mahdollisesti Rantamon alueen vieressä olevaan Sarvikallion luontopolkuun\, jonka pituus on kolme kilometriä. Polku kulkee kauniilla lehtoalueella\, osittain Tuusulanjärven rantaa mukaillen. Luontopolulla on mäkiä\, polut saattavat olla paikoin mutaiset. \nKatso retkitiedot tapahtumakalenterista vielä retkeä edeltävänä iltana mahdollisten viime hetken muutosten varalta. \nKenelle: Retki on vain Tringan jäsenille. \nOppaana: Mikko Savelainen ja Pyry Laurikka \nRetkimaksu: Tringan jäsen 45 e. Tringan jäsen Alle 18-v./opiskelija/työtön 25 e.  Maksu sisältää opastuksen ja kuljetuksen tilausbussilla. \nLähtöpaikka: Kiasman matkailuliikenteen pysäkki\, Mannerheiminaukio 2 \nRetkiaika: Lähtö klo 15.30. Paluu Kiasmalle viimeistään klo 21.30. \nIlmoittautuminen ja retkimaksu: viimeistään 4.4. seuraavan linkin kautta: \nhttps://tringa.tapahtumiin.fi/fi/events/e/rantamon-iltaretki/639cbce6ec2e2ae2348b4567 \nIlmoittautumisen peruminen: Lähetä peruutuksesta sähköposti: opastukset@tringa.fi \nMikäli perut osallistumisesi viimeistään 4.4.\, sinulle palautetaan maksamasi retkimaksu – (miinus) 10 euroa. \nMikäli perut osallistumisesi 5.4. tai sen jälkeen tai et tule retkelle\, jolle olet ilmoittautunut\, retkimaksua ei palauteta. \nIlmoittautuminen jonoon: Mikäli retki on varattu täyteen ja haluat ilmoittautua jonoon\, lähetä sähköposti: opastukset@tringa.fi \nTiedustelut: opastukset@tringa.fi
URL:https://tringa.fi/tapahtuma/rantamon-kosteikon-iltaretki/
CATEGORIES:Retket
END:VEVENT
END:VCALENDAR