BEGIN:VCALENDAR
VERSION:2.0
PRODID:-//Uudenmaan lintuharrastajien oma yhdistys - ECPv6.15.20//NONSGML v1.0//EN
CALSCALE:GREGORIAN
METHOD:PUBLISH
X-WR-CALNAME:Uudenmaan lintuharrastajien oma yhdistys
X-ORIGINAL-URL:https://tringa.fi
X-WR-CALDESC:Events for Uudenmaan lintuharrastajien oma yhdistys
REFRESH-INTERVAL;VALUE=DURATION:PT1H
X-Robots-Tag:noindex
X-PUBLISHED-TTL:PT1H
BEGIN:VTIMEZONE
TZID:Europe/Helsinki
BEGIN:DAYLIGHT
TZOFFSETFROM:+0200
TZOFFSETTO:+0300
TZNAME:EEST
DTSTART:20220327T010000
END:DAYLIGHT
BEGIN:STANDARD
TZOFFSETFROM:+0300
TZOFFSETTO:+0200
TZNAME:EET
DTSTART:20221030T010000
END:STANDARD
BEGIN:DAYLIGHT
TZOFFSETFROM:+0200
TZOFFSETTO:+0300
TZNAME:EEST
DTSTART:20230326T010000
END:DAYLIGHT
BEGIN:STANDARD
TZOFFSETFROM:+0300
TZOFFSETTO:+0200
TZNAME:EET
DTSTART:20231029T010000
END:STANDARD
BEGIN:DAYLIGHT
TZOFFSETFROM:+0200
TZOFFSETTO:+0300
TZNAME:EEST
DTSTART:20240331T010000
END:DAYLIGHT
BEGIN:STANDARD
TZOFFSETFROM:+0300
TZOFFSETTO:+0200
TZNAME:EET
DTSTART:20241027T010000
END:STANDARD
END:VTIMEZONE
BEGIN:VEVENT
DTSTART;TZID=Europe/Helsinki:20230409T100000
DTEND;TZID=Europe/Helsinki:20230409T130000
DTSTAMP:20260420T143531
CREATED:20230214T201400Z
LAST-MODIFIED:20230214T211100Z
UID:20834-1681034400-1681045200@tringa.fi
SUMMARY:Tulliniemen alkukevät -retkisarjan retki 3/3
DESCRIPTION:Tämän retkisarjan kautta tutustutaan Tulliniemen alkukevään linnustoon. Kolme erillistä retkeä muodostavat kurssimuotoisen kokonaisuuden. Retkillä tutustutaan niin muutonseurantaan kuin levähtävien lintujen tarkkailuun\, rengastustakin päästään seuraamaan mahdollisuuksien mukaan. Maalis-huhtikuun vaihde on otollista aikaa pikkuharvinaisuuksien\, kuten kyhmyhaahkan tai avosetin havaitsemiseen. Ilmoittaudu mukaan yhdelle tai vaikka kaikille kolmelle retkelle! \nSeuraamme sunnuntaina 9.4. keskipäivän ajan (klo 10-13) muuttoa oppaan seurassa Tulliniemen eteläkärjen näköalakalliolta tavoitteena havaita petolintujen ja kurkien muuttoa. Tulliniemen saaristossa pesimälajistoon kuuluvan luotokirvisen\, merikihun ja ristisorsan havaitsemiseen on hyvät mahdollisuudet. Aloitus klo 10.00 Tulliniemen eteläkärjen näköalakalliolta. \nKenelle: Kaikille lintuharrastajille ja linnuista kiinnostuneille \nRetkimaksu: 30€/aikuinen; 15€/lapsi (7-18v). \nOppaana: Aki Aintila \nRetkiaika: klo 8-11 \nIlmoittautuminen: paikat varataan lintuaseman verkkokaupasta \nLue lisää Hangon lintuaseman (Halias) opastuksista aseman verkkosivuilta: halias.fi
URL:https://tringa.fi/tapahtuma/tulliniemen-alkukevat-retkisarjan-retki-3-3/
CATEGORIES:Hangon lintuaseman opastukset,Retket
ORGANIZER;CN="Hangon lintuasema":MAILTO:opastukset@halias.fi
END:VEVENT
END:VCALENDAR