BEGIN:VCALENDAR
VERSION:2.0
PRODID:-//Uudenmaan lintuharrastajien oma yhdistys - ECPv6.15.20//NONSGML v1.0//EN
CALSCALE:GREGORIAN
METHOD:PUBLISH
X-WR-CALNAME:Uudenmaan lintuharrastajien oma yhdistys
X-ORIGINAL-URL:https://tringa.fi
X-WR-CALDESC:Events for Uudenmaan lintuharrastajien oma yhdistys
REFRESH-INTERVAL;VALUE=DURATION:PT1H
X-Robots-Tag:noindex
X-PUBLISHED-TTL:PT1H
BEGIN:VTIMEZONE
TZID:Europe/Helsinki
BEGIN:DAYLIGHT
TZOFFSETFROM:+0200
TZOFFSETTO:+0300
TZNAME:EEST
DTSTART:20220327T010000
END:DAYLIGHT
BEGIN:STANDARD
TZOFFSETFROM:+0300
TZOFFSETTO:+0200
TZNAME:EET
DTSTART:20221030T010000
END:STANDARD
BEGIN:DAYLIGHT
TZOFFSETFROM:+0200
TZOFFSETTO:+0300
TZNAME:EEST
DTSTART:20230326T010000
END:DAYLIGHT
BEGIN:STANDARD
TZOFFSETFROM:+0300
TZOFFSETTO:+0200
TZNAME:EET
DTSTART:20231029T010000
END:STANDARD
BEGIN:DAYLIGHT
TZOFFSETFROM:+0200
TZOFFSETTO:+0300
TZNAME:EEST
DTSTART:20240331T010000
END:DAYLIGHT
BEGIN:STANDARD
TZOFFSETFROM:+0300
TZOFFSETTO:+0200
TZNAME:EET
DTSTART:20241027T010000
END:STANDARD
END:VTIMEZONE
BEGIN:VEVENT
DTSTART;TZID=Europe/Helsinki:20230408T080000
DTEND;TZID=Europe/Helsinki:20230408T110000
DTSTAMP:20260420T143402
CREATED:20221125T131047Z
LAST-MODIFIED:20230405T154321Z
UID:19423-1680940800-1680951600@tringa.fi
SUMMARY:Kallvikinniemen kävelyretki
DESCRIPTION:Vuosaaren Kallvikinniemen kevätretkellä havainnoidaan kevätmuuttoa ja paikallisia lintuja niin rantaniityillä kuin merellä. Kävelyä kertyy noin 3 kilometriä. \nRetkelle tulee ilmoittautua (Ks. linkki alempana). Muistathan perua ilmoittautumisesi ellet pääsekään retkelle. Ethän osallistu retkelle sairaana tai flunssaoireisena. \nKatso retkitiedot tapahtumakalenterista vielä retkeä edeltävänä iltana mahdollisten viime hetken muutosten varalta.  \nKenelle: Retki on avoin kaikille \nRetkimaksu: Maksuton \nOppaana: Mikko Salonen \nRetken lähtö: Vuosaari/Kallahden pysäköintialue Kallvikin uimarannan tuntumassa klo 8 \nLähtöpaikka kartalla \nRetken päättyminen: Sama paikka noin klo 11 \nIlmoittautuminen: viimeistään 7.4.  klo 16 seuraavan linkin kautta \nhttps://birdlife-lv.creamailer.fi/survey/3afviug4vl1jx \nMaksuttomille kävelyretkille ei voi ilmoittautua jonoon. Jos retki on täynnä\, yritä varata paikka myöhemmin uudelleen\, peruutusten myötä on voinut vapautua retkipaikka. Retkille ei tule tulla ilmoittautumatta. \nTiedustelut: opastukset@tringa.fi
URL:https://tringa.fi/tapahtuma/kallvikinniemen-kavelyretki/
CATEGORIES:Retket
END:VEVENT
END:VCALENDAR