BEGIN:VCALENDAR
VERSION:2.0
PRODID:-//Uudenmaan lintuharrastajien oma yhdistys - ECPv6.15.20//NONSGML v1.0//EN
CALSCALE:GREGORIAN
METHOD:PUBLISH
X-ORIGINAL-URL:https://tringa.fi
X-WR-CALDESC:Events for Uudenmaan lintuharrastajien oma yhdistys
REFRESH-INTERVAL;VALUE=DURATION:PT1H
X-Robots-Tag:noindex
X-PUBLISHED-TTL:PT1H
BEGIN:VTIMEZONE
TZID:Europe/Helsinki
BEGIN:DAYLIGHT
TZOFFSETFROM:+0200
TZOFFSETTO:+0300
TZNAME:EEST
DTSTART:20220327T010000
END:DAYLIGHT
BEGIN:STANDARD
TZOFFSETFROM:+0300
TZOFFSETTO:+0200
TZNAME:EET
DTSTART:20221030T010000
END:STANDARD
BEGIN:DAYLIGHT
TZOFFSETFROM:+0200
TZOFFSETTO:+0300
TZNAME:EEST
DTSTART:20230326T010000
END:DAYLIGHT
BEGIN:STANDARD
TZOFFSETFROM:+0300
TZOFFSETTO:+0200
TZNAME:EET
DTSTART:20231029T010000
END:STANDARD
BEGIN:DAYLIGHT
TZOFFSETFROM:+0200
TZOFFSETTO:+0300
TZNAME:EEST
DTSTART:20240331T010000
END:DAYLIGHT
BEGIN:STANDARD
TZOFFSETFROM:+0300
TZOFFSETTO:+0200
TZNAME:EET
DTSTART:20241027T010000
END:STANDARD
END:VTIMEZONE
BEGIN:VEVENT
DTSTART;TZID=Europe/Helsinki:20230404T130000
DTEND;TZID=Europe/Helsinki:20230404T160000
DTSTAMP:20260420T100853
CREATED:20230326T112359Z
LAST-MODIFIED:20230326T113255Z
UID:21456-1680613200-1680624000@tringa.fi
SUMMARY:Viikin iltapäiväretki
DESCRIPTION:Viikin iltapäiväretkellä kuljetaan leppoisaa vauhtia peltolenkki ja katsellaan huolella paikallisia lintuja. Retki soveltuu hyvin hitaammillekin liikkujille ja lintuharrastuksen alottelijoille. \nRetkelle tulee ilmoittautua (ks. alempana). Muistathan perua ilmoittautumisesi ellet pääsekään retkelle. Katso retkitiedot tapahtumakalenterista vielä retkeä edeltävänä iltana mahdollisten viime hetken muutosten varalta.  \nKenelle: Retki on vain Tringan jäsenille\, enintään 15 osallistujaa \nRetkimaksu: 10 e  \nOppaana: Julia Palorinne \nRetken lähtö klo 13\, Viikki\, Koetilantie 1\, Lintuvarusteen edusta \nLähtöpaikan kartta \nRetken päättyminen noin klo 16\, sama paikka \nIlmoittautuminen ja retkimaksu 10 € viimeistään 2.4.  seuraavan linkin kautta: \nhttps://tringa.tapahtumiin.fi/fi/events/e/viikin-iltapaivaretki/64202a95f76a1cc06c8b4570 \nIlmoittautumisen peruutus: opastukset@tringa.fi. Max 10 € retkimaksuja ei palauteta\, vaikka retkeläinen joutuisi perumaan ilmoittautumisensa. Ilmoittamalla peruutuksen mahdollistat kuitenkin retkipaikan toiselle. Mikäli retki perutaan Tringan taholta\, retkimaksu palautetaan. \nIlmoittautuminen jonoon: Mikäli retki on varattu täyteen ja haluat ilmoittautua jonoon\, lähetä sähköposti: opastukset@tringa.fi \nTiedustelut: opastukset@tringa.fi \n 
URL:https://tringa.fi/tapahtuma/viikin-iltapaivaretki/
CATEGORIES:Retket
END:VEVENT
END:VCALENDAR