BEGIN:VCALENDAR
VERSION:2.0
PRODID:-//Uudenmaan lintuharrastajien oma yhdistys - ECPv6.15.20//NONSGML v1.0//EN
CALSCALE:GREGORIAN
METHOD:PUBLISH
X-ORIGINAL-URL:https://tringa.fi
X-WR-CALDESC:Events for Uudenmaan lintuharrastajien oma yhdistys
REFRESH-INTERVAL;VALUE=DURATION:PT1H
X-Robots-Tag:noindex
X-PUBLISHED-TTL:PT1H
BEGIN:VTIMEZONE
TZID:Europe/Helsinki
BEGIN:DAYLIGHT
TZOFFSETFROM:+0200
TZOFFSETTO:+0300
TZNAME:EEST
DTSTART:20220327T010000
END:DAYLIGHT
BEGIN:STANDARD
TZOFFSETFROM:+0300
TZOFFSETTO:+0200
TZNAME:EET
DTSTART:20221030T010000
END:STANDARD
BEGIN:DAYLIGHT
TZOFFSETFROM:+0200
TZOFFSETTO:+0300
TZNAME:EEST
DTSTART:20230326T010000
END:DAYLIGHT
BEGIN:STANDARD
TZOFFSETFROM:+0300
TZOFFSETTO:+0200
TZNAME:EET
DTSTART:20231029T010000
END:STANDARD
BEGIN:DAYLIGHT
TZOFFSETFROM:+0200
TZOFFSETTO:+0300
TZNAME:EEST
DTSTART:20240331T010000
END:DAYLIGHT
BEGIN:STANDARD
TZOFFSETFROM:+0300
TZOFFSETTO:+0200
TZNAME:EET
DTSTART:20241027T010000
END:STANDARD
END:VTIMEZONE
BEGIN:VEVENT
DTSTART;VALUE=DATE:20230331
DTEND;VALUE=DATE:20230403
DTSTAMP:20260420T070352
CREATED:20230227T173800Z
LAST-MODIFIED:20230329T112638Z
UID:20993-1680220800-1680479999@tringa.fi
SUMMARY:Nuorten retki Hangon lintuasemalle
DESCRIPTION:Hei\, oletko nuori (n. 12-25-vuotias) ja linnuista kiinnostunut? Tringa järjestää nuorille lintuharrastajille tutustumisretken Hangon lintuasemalle 31.3.-2.4. \nRetkelle mahtuu mukaan 6 nuorta. Etusijalla ovat ne\, jotka eivät ole aikaisemmin käyneet lintuasemalla. Viikonloppuretkellä tutustutaan lintuaseman toimintaan: osallistutaan kevätmuuton havainnointiin\, lasketaan paikalliset linnut aseman alueelta ja osallistutaan aseman iltahuutoon. Oppaina ovat Nico Niemenmaa ja Juho Tirkkonen. Nicon johdolla päästään säiden salliessa seuraamaan myös lintujen rengastusta. \nRetki on maksuton. Tringa tarjoaa osallistujille matkat (Hki – Hanko – Hki)\, ruuat sekä majoituksen lintuasemalla. Helsingistä lähdetään kohti Hankoa perjantaina alkuillasta\, paluu takaisin Helsinkiin sunnuntaina iltaan mennessä. Hankoon on mahdollista saapua myös omalla kyydillä tai hypätä mukaan matkan varrelta. \n\nIlmoittaudu mukaan 26.3. mennessä. [Päivitys tietoihin 26.3.: Retki on täynnä!] \nTiedustelut: tirkkoju(ät)gmail.com \n  \n\n 
URL:https://tringa.fi/tapahtuma/nuorten-retki-hangon-lintuasemalle-2/
LOCATION:Hangon lintuasema\, Tulliniemi\, Hanko\, Finland
CATEGORIES:Lasten ja nuorten tapahtumat,Nuorten linturyhmä,Retket
END:VEVENT
BEGIN:VEVENT
DTSTART;TZID=Europe/Helsinki:20230402T083000
DTEND;TZID=Europe/Helsinki:20230402T113000
DTSTAMP:20260420T070352
CREATED:20230109T180556Z
LAST-MODIFIED:20230109T181904Z
UID:20245-1680424200-1680435000@tringa.fi
SUMMARY:Viikin aamuretki
DESCRIPTION:Huhtikuussa lintujen kevätmuutto on täydessä vauhdissa. Joutsenia\, hanhia\, monipuolisesti vesilintuja. Harmaahaikarat kohentelevat pesiään Klobbenilla. Pikkulintuja on jo runsaasti. Kävelyretken reitti määräytyy sään ja lintutilanteen mukaan. Kävelyä kertyy muutama kilometri\, kävelyteitä ja polkuja.\n\nRetkelle tulee ilmoittautua. Muistathan perua ilmoittautumisesi ellet pääsekään retkelle. \n\nKatso retkitiedot tapahtumakalenterista vielä retkeä edeltävänä iltana mahdollisten viime hetken muutosten varalta.  \nKenelle: Retki on avoin kaikille \nRetkimaksu: Maksuton \nOppaana: Julia Palorinne \nRetken lähtö: Klo 8.30\, Viikki\, Koetilantie 1\, Lintuvarusteen edusta \nRetken päättyminen: Noin klo 11.30\, sama paikka \nIlmoittautuminen: viimeistään 31.3.2023 klo 16 seuraavan linkin kautta \n\nhttps://birdlife-lv.creamailer.fi/survey/r5qpokk6n8ajt \n\nTiedustelut: opastukset@tringa.fi
URL:https://tringa.fi/tapahtuma/viikin-aamuretki-4/
CATEGORIES:Retket
END:VEVENT
BEGIN:VEVENT
DTSTART;TZID=Europe/Helsinki:20230402T090000
DTEND;TZID=Europe/Helsinki:20230402T120000
DTSTAMP:20260420T070352
CREATED:20230214T195248Z
LAST-MODIFIED:20230214T210941Z
UID:20821-1680426000-1680436800@tringa.fi
SUMMARY:Tulliniemen alkukevät -retkisarjan retki 2/3
DESCRIPTION:Tämän retkisarjan kautta tutustutaan Tulliniemen alkukevään linnustoon. Kolme erillistä retkeä muodostavat kurssimuotoisen kokonaisuuden. Retkillä tutustutaan niin muutonseurantaan kuin levähtävien lintujen tarkkailuun\, rengastustakin päästään seuraamaan mahdollisuuksien mukaan. Maalis-huhtikuun vaihde on otollista aikaa pikkuharvinaisuuksien\, kuten kyhmyhaahkan tai avosetin havaitsemiseen. Ilmoittaudu mukaan yhdelle tai vaikka kaikille kolmelle retkelle! \nSunnuntaina 2.4. (klo 9-12) tutustumme Tulliniemen alueella levähtävään linnustoon ja kierrämme niemenkärjen matalat merenlahdet luontopolkua pitkin. Matalikot\, suojaisat merenlahdet sekä Gåsörsuddenin särkkä tarjoavat ruokailumahdollisuuksia monipuoliselle lajistolle. Aloitus klo 9.00 luontopolun varrelta niemen pohjoisrannalta. \nKenelle: Kaikille lintuharrastajille ja linnuista kiinnostuneille \nRetkimaksu: 30€/aikuinen; 15€/lapsi (7-18v). \nOppaana: Aki Aintila \nRetkiaika: klo 8-11 \nIlmoittautuminen: paikat varataan lintuaseman verkkokaupasta \nLue lisää Hangon lintuaseman (Halias) opastuksista aseman verkkosivuilta: halias.fi \n\n\n\n 
URL:https://tringa.fi/tapahtuma/tulliniemen-alkukevat-retkisarjan-retki-2-3/
CATEGORIES:Hangon lintuaseman opastukset,Retket
ORGANIZER;CN="Hangon lintuasema":MAILTO:opastukset@halias.fi
END:VEVENT
END:VCALENDAR