BEGIN:VCALENDAR
VERSION:2.0
PRODID:-//Uudenmaan lintuharrastajien oma yhdistys - ECPv6.15.20//NONSGML v1.0//EN
CALSCALE:GREGORIAN
METHOD:PUBLISH
X-ORIGINAL-URL:https://tringa.fi
X-WR-CALDESC:Events for Uudenmaan lintuharrastajien oma yhdistys
REFRESH-INTERVAL;VALUE=DURATION:PT1H
X-Robots-Tag:noindex
X-PUBLISHED-TTL:PT1H
BEGIN:VTIMEZONE
TZID:Europe/Helsinki
BEGIN:DAYLIGHT
TZOFFSETFROM:+0200
TZOFFSETTO:+0300
TZNAME:EEST
DTSTART:20220327T010000
END:DAYLIGHT
BEGIN:STANDARD
TZOFFSETFROM:+0300
TZOFFSETTO:+0200
TZNAME:EET
DTSTART:20221030T010000
END:STANDARD
BEGIN:DAYLIGHT
TZOFFSETFROM:+0200
TZOFFSETTO:+0300
TZNAME:EEST
DTSTART:20230326T010000
END:DAYLIGHT
BEGIN:STANDARD
TZOFFSETFROM:+0300
TZOFFSETTO:+0200
TZNAME:EET
DTSTART:20231029T010000
END:STANDARD
BEGIN:DAYLIGHT
TZOFFSETFROM:+0200
TZOFFSETTO:+0300
TZNAME:EEST
DTSTART:20240331T010000
END:DAYLIGHT
BEGIN:STANDARD
TZOFFSETFROM:+0300
TZOFFSETTO:+0200
TZNAME:EET
DTSTART:20241027T010000
END:STANDARD
END:VTIMEZONE
BEGIN:VEVENT
DTSTART;TZID=Europe/Helsinki:20230329T100000
DTEND;TZID=Europe/Helsinki:20230329T130000
DTSTAMP:20260420T070348
CREATED:20221125T125446Z
LAST-MODIFIED:20230322T081710Z
UID:19420-1680084000-1680094800@tringa.fi
SUMMARY:Vuosaaren huipun maaston varhaiskevätretki
DESCRIPTION:Leppoisalla aamupäiväkävelyllä havainnoidaan Vuosaaren täyttömäen ja sen ympäristön kevätlintuja. Maasto on vaihtelevaa\, mäelle on jyrkkä nousu. \nRetkelle tulee ilmoittautua (ks. linkki alempana). Muistathan perua ilmoittautumisesi ellet pääsekään retkelle.  \nKatso retkitiedot tapahtumakalenterista vielä retkeä edeltävänä iltana mahdollisten viime hetken muutosten varalta. \nPäivitys 19.3. Mikäli retken aikana on suotuisa muuttosää ja lintuja liikkeellä\, havainnoidaan enemmän muuttoa ja ollaan paikallaan. Jos taas muutto on hiljaista\, liikutaan alueella enemmän.  Huomioi tämä pukeutumisessa. \nPäivitys 21.3. Retken ajankohta on siirtynyt alkuperäisestä ajankohdasta 22.3. viikolla eteenpäin\, uusi aika 29.3. klo 10-13. Jos olit ilmoittautunut retkelle\, sinulle on automaattisesti paikka varattuna uudelle retkelle.  \nKenelle: Retki on avoin kaikille \nRetkimaksu: Maksuton \nOppaana: Mikko Salonen \nRetken lähtö: Klo 10\, Vuosaaren mäen pääportin pysäköintialue Niinisaarentien itäpäässä \nLähtöpaikka kartalla \nRetken päättyminen: Sama paikka\, noin klo 13. \nIlmoittautuminen: viimeistään 27.3. klo 16 seuraavan linkin kautta \n  \nhttps://birdlife-lv.creamailer.fi/survey/yzspiyrsyujoe \nTiedustelut: opastukset@tringa.fi \n 
URL:https://tringa.fi/tapahtuma/vuosaaren-huipun-maaston-varhaiskevatretki/
CATEGORIES:Retket
END:VEVENT
END:VCALENDAR