BEGIN:VCALENDAR
VERSION:2.0
PRODID:-//Uudenmaan lintuharrastajien oma yhdistys - ECPv6.15.20//NONSGML v1.0//EN
CALSCALE:GREGORIAN
METHOD:PUBLISH
X-WR-CALNAME:Uudenmaan lintuharrastajien oma yhdistys
X-ORIGINAL-URL:https://tringa.fi
X-WR-CALDESC:Events for Uudenmaan lintuharrastajien oma yhdistys
REFRESH-INTERVAL;VALUE=DURATION:PT1H
X-Robots-Tag:noindex
X-PUBLISHED-TTL:PT1H
BEGIN:VTIMEZONE
TZID:Europe/Helsinki
BEGIN:DAYLIGHT
TZOFFSETFROM:+0200
TZOFFSETTO:+0300
TZNAME:EEST
DTSTART:20220327T010000
END:DAYLIGHT
BEGIN:STANDARD
TZOFFSETFROM:+0300
TZOFFSETTO:+0200
TZNAME:EET
DTSTART:20221030T010000
END:STANDARD
BEGIN:DAYLIGHT
TZOFFSETFROM:+0200
TZOFFSETTO:+0300
TZNAME:EEST
DTSTART:20230326T010000
END:DAYLIGHT
BEGIN:STANDARD
TZOFFSETFROM:+0300
TZOFFSETTO:+0200
TZNAME:EET
DTSTART:20231029T010000
END:STANDARD
BEGIN:DAYLIGHT
TZOFFSETFROM:+0200
TZOFFSETTO:+0300
TZNAME:EEST
DTSTART:20240331T010000
END:DAYLIGHT
BEGIN:STANDARD
TZOFFSETFROM:+0300
TZOFFSETTO:+0200
TZNAME:EET
DTSTART:20241027T010000
END:STANDARD
END:VTIMEZONE
BEGIN:VEVENT
DTSTART;TZID=Europe/Helsinki:20230319T100000
DTEND;TZID=Europe/Helsinki:20230319T120000
DTSTAMP:20260420T070301
CREATED:20230215T131300Z
LAST-MODIFIED:20230318T164710Z
UID:20872-1679220000-1679227200@tringa.fi
SUMMARY:Fallkullan kävelyretki
DESCRIPTION:Mitä lintulajeja löytyy kevättalven leppoisalla kävelyretkellä Tapanilan Fallkullan kotieläintilan ympäristössä\, pelloilla ja metsikössä? Retki soveltuu erityisesti lintuharrastusta aloitteleville. Kuljetaan helppokulkuisia reittejä 2-3 km. Retken päätteeksi voi poiketa tilan Kilikuppilassa lämpimällä juomalla. \nRetkelle tulee ilmoittautua (ks. alempana). Muistathan perua ilmoittautumisesi ellet pääsekään retkelle.  \nKatso retkitiedot tapahtumakalenterista vielä retkeä edeltävänä iltana mahdollisten viime hetken muutosten varalta.  \nKenelle: Retki on avoin kaikille \nRetkimaksu: Maksuton \nOppaana: Dolf Assmann ja Juho Tirkkonen\n \nRetken lähtö: Klo 10\, Fallkullan kotieläintilan pysäköintialue\, Malminkaari 24.  \nLähtöpaikan kartta \nRetken päättyminen:  Noin klo 12\, sama paikka \nIlmoittautuminen: viimeistään 17.3. klo 16 seuraavan linkin kautta: \nhttps://birdlife-lv.creamailer.fi/survey/ob89qx4pc1sbm \nTiedustelut: opastukset@tringa.fi
URL:https://tringa.fi/tapahtuma/fallkullan-kavelyretki/
CATEGORIES:Retket
END:VEVENT
END:VCALENDAR