BEGIN:VCALENDAR
VERSION:2.0
PRODID:-//Uudenmaan lintuharrastajien oma yhdistys - ECPv6.15.20//NONSGML v1.0//EN
CALSCALE:GREGORIAN
METHOD:PUBLISH
X-ORIGINAL-URL:https://tringa.fi
X-WR-CALDESC:Events for Uudenmaan lintuharrastajien oma yhdistys
REFRESH-INTERVAL;VALUE=DURATION:PT1H
X-Robots-Tag:noindex
X-PUBLISHED-TTL:PT1H
BEGIN:VTIMEZONE
TZID:Europe/Helsinki
BEGIN:DAYLIGHT
TZOFFSETFROM:+0200
TZOFFSETTO:+0300
TZNAME:EEST
DTSTART:20220327T010000
END:DAYLIGHT
BEGIN:STANDARD
TZOFFSETFROM:+0300
TZOFFSETTO:+0200
TZNAME:EET
DTSTART:20221030T010000
END:STANDARD
BEGIN:DAYLIGHT
TZOFFSETFROM:+0200
TZOFFSETTO:+0300
TZNAME:EEST
DTSTART:20230326T010000
END:DAYLIGHT
BEGIN:STANDARD
TZOFFSETFROM:+0300
TZOFFSETTO:+0200
TZNAME:EET
DTSTART:20231029T010000
END:STANDARD
BEGIN:DAYLIGHT
TZOFFSETFROM:+0200
TZOFFSETTO:+0300
TZNAME:EEST
DTSTART:20240331T010000
END:DAYLIGHT
BEGIN:STANDARD
TZOFFSETFROM:+0300
TZOFFSETTO:+0200
TZNAME:EET
DTSTART:20241027T010000
END:STANDARD
END:VTIMEZONE
BEGIN:VEVENT
DTSTART;TZID=Europe/Helsinki:20230318T090000
DTEND;TZID=Europe/Helsinki:20230318T130000
DTSTAMP:20260420T070434
CREATED:20230108T175838Z
LAST-MODIFIED:20230317T155000Z
UID:20215-1679130000-1679144400@tringa.fi
SUMMARY:Suomenlinnan alkukevään retki TÄYNNÄ Voit ilmoittautua jonoon
DESCRIPTION:Suomenlinnan varhaiskevään retkellä kierretään noin 3 kilometrin kierros Suomenlinnan kulkuväylillä. Havainnoidaan paikallisia kevättalven lintuja. Jos meri on sula\, on hyvät mahdollisuudet havaita mm. alleja.  Kävelyreitit voivat sää-\, jää-  ja lumitilanteesta riippuen olla liukkaat. Lauttalippu (HSL:n AB- kertalippu 3\,10 e) tulee hankkia itse. \nKatso retkitiedot tapahtumakalenterista vielä retkeä edeltävänä iltana mahdollisten viime hetken muutosten varalta. \nKenelle: Retki on vain Tringan jäsenille. \nOppaana: Mikko Salonen\n \nRetkimaksu: Tringan jäsen 10 e.  \nLähtöpaikka: Kauppatori/Suomenlinnan lautan lähtölaituri \nRetkiaika: Lautta lähtee Kauppatorilta klo 9.00. Paluu Suomenlinnasta klo 12.20 lähtevällä lautalla. \nIlmoittautuminen ja retkimaksu: viimeistään 16.3.2023 seuraavan linkin kautta: \nhttps://tringa.tapahtumiin.fi/fi/events/e/suomenlinnan-kevattalven-retki/63bb036ec7d2e031338b456b \nIlmoittautumisen peruminen: Lähetä peruutuksesta sähköposti: opastukset@tringa.fi \nMax 10 € retkimaksuja ei palauteta. \nIlmoittautuminen jonoon: opastukset@tringa.fi \nTiedustelut: opastukset@tringa\,fi \n 
URL:https://tringa.fi/tapahtuma/suomenlinnan-alkukevaan-retki/
CATEGORIES:Retket
END:VEVENT
END:VCALENDAR