BEGIN:VCALENDAR
VERSION:2.0
PRODID:-//Uudenmaan lintuharrastajien oma yhdistys - ECPv6.15.20//NONSGML v1.0//EN
CALSCALE:GREGORIAN
METHOD:PUBLISH
X-WR-CALNAME:Uudenmaan lintuharrastajien oma yhdistys
X-ORIGINAL-URL:https://tringa.fi
X-WR-CALDESC:Events for Uudenmaan lintuharrastajien oma yhdistys
REFRESH-INTERVAL;VALUE=DURATION:PT1H
X-Robots-Tag:noindex
X-PUBLISHED-TTL:PT1H
BEGIN:VTIMEZONE
TZID:Europe/Helsinki
BEGIN:DAYLIGHT
TZOFFSETFROM:+0200
TZOFFSETTO:+0300
TZNAME:EEST
DTSTART:20220327T010000
END:DAYLIGHT
BEGIN:STANDARD
TZOFFSETFROM:+0300
TZOFFSETTO:+0200
TZNAME:EET
DTSTART:20221030T010000
END:STANDARD
BEGIN:DAYLIGHT
TZOFFSETFROM:+0200
TZOFFSETTO:+0300
TZNAME:EEST
DTSTART:20230326T010000
END:DAYLIGHT
BEGIN:STANDARD
TZOFFSETFROM:+0300
TZOFFSETTO:+0200
TZNAME:EET
DTSTART:20231029T010000
END:STANDARD
BEGIN:DAYLIGHT
TZOFFSETFROM:+0200
TZOFFSETTO:+0300
TZNAME:EEST
DTSTART:20240331T010000
END:DAYLIGHT
BEGIN:STANDARD
TZOFFSETFROM:+0300
TZOFFSETTO:+0200
TZNAME:EET
DTSTART:20241027T010000
END:STANDARD
END:VTIMEZONE
BEGIN:VEVENT
DTSTART;TZID=Europe/Helsinki:20230312T083000
DTEND;TZID=Europe/Helsinki:20230312T113000
DTSTAMP:20260420T070308
CREATED:20230109T172436Z
LAST-MODIFIED:20230109T172436Z
UID:20231-1678609800-1678620600@tringa.fi
SUMMARY:Viikin aamuretki
DESCRIPTION:Maaliskuun puolivälissä on jo hyvät mahdollisuudet havaita muuttolintuja. Ensimmäiset kiurut\, uuttukyyhkyt saapuvat. Pulmuset pysähtyvät ruokailemaan matkalla pohjoiseen. Kävelyretken reitti määräytyy sään ja lintutilanteen mukaan. Kävelyä kertyy muutama kilometri\, kävelyteitä ja polkuja.\n\nRetkelle tulee ilmoittautua. Muistathan perua ilmoittautumisesi ellet pääsekään retkelle. \n\nKatso retkitiedot tapahtumakalenterista vielä retkeä edeltävänä iltana mahdollisten viime hetken muutosten varalta.  \nKenelle: Retki on avoin kaikille \nRetkimaksu: Maksuton \nOppaana: Julia Palorinne \nRetken lähtö: Klo 8.30\, Viikki\, Koetilantie 1\, Lintuvarusteen edusta \nRetken päättyminen: Noin klo 11.30.\, sama paikka \nIlmoittautuminen: viimeistään 10.3.2023 klo 16 seuraavan linkin kautta \n\n  \n\nhttps://birdlife-lv.creamailer.fi/survey/lzjmjldfq4w2n \nTiedustelut: opastukset@tringa.fi \n\n 
URL:https://tringa.fi/tapahtuma/viikin-aamuretki-2/
CATEGORIES:Retket
END:VEVENT
END:VCALENDAR