BEGIN:VCALENDAR
VERSION:2.0
PRODID:-//Uudenmaan lintuharrastajien oma yhdistys - ECPv6.15.20//NONSGML v1.0//EN
CALSCALE:GREGORIAN
METHOD:PUBLISH
X-ORIGINAL-URL:https://tringa.fi
X-WR-CALDESC:Events for Uudenmaan lintuharrastajien oma yhdistys
REFRESH-INTERVAL;VALUE=DURATION:PT1H
X-Robots-Tag:noindex
X-PUBLISHED-TTL:PT1H
BEGIN:VTIMEZONE
TZID:Europe/Helsinki
BEGIN:DAYLIGHT
TZOFFSETFROM:+0200
TZOFFSETTO:+0300
TZNAME:EEST
DTSTART:20220327T010000
END:DAYLIGHT
BEGIN:STANDARD
TZOFFSETFROM:+0300
TZOFFSETTO:+0200
TZNAME:EET
DTSTART:20221030T010000
END:STANDARD
BEGIN:DAYLIGHT
TZOFFSETFROM:+0200
TZOFFSETTO:+0300
TZNAME:EEST
DTSTART:20230326T010000
END:DAYLIGHT
BEGIN:STANDARD
TZOFFSETFROM:+0300
TZOFFSETTO:+0200
TZNAME:EET
DTSTART:20231029T010000
END:STANDARD
BEGIN:DAYLIGHT
TZOFFSETFROM:+0200
TZOFFSETTO:+0300
TZNAME:EEST
DTSTART:20240331T010000
END:DAYLIGHT
BEGIN:STANDARD
TZOFFSETFROM:+0300
TZOFFSETTO:+0200
TZNAME:EET
DTSTART:20241027T010000
END:STANDARD
END:VTIMEZONE
BEGIN:VEVENT
DTSTART;TZID=Europe/Helsinki:20230311T070000
DTEND;TZID=Europe/Helsinki:20230311T183000
DTSTAMP:20260420T070446
CREATED:20221231T180134Z
LAST-MODIFIED:20221231T180134Z
UID:19952-1678518000-1678559400@tringa.fi
SUMMARY:Hangon alkukevään retki
DESCRIPTION:Lähde mukaan vastaanottamaan alkukevättä Tringan ja Apuksen  alkukevään Hangon retkelle. Retkellä käydään Hankoniemen merenlahdilla. Tarkka ohjelma selviää lähempänä kun maaliskuun alun sää-\, lumi- ja jäätilanne selviävät. Kävelyä kertyy päivän aikana pari kilometriä. Säästä riippuen kulkuväylät voivat paikoin olla märät/liukkaat. \nRetki järjestetään yhteistyössä Keski- ja Pohjois-Uudenmaan Lintuharrastajat Apus ry:n kanssa. \nKatso retkitiedot tapahtumakalenterista vielä retkeä edeltävänä iltana mahdollisten viime hetken muutosten varalta. \nKenelle: Retki on vain Tringan jäsenille. \nOppaana: Mikko Savelainen ja Juho Tirkkonen \nRetkimaksu: Tringan jäsen 48 e. Tringan jäsen/Alle 18-v./opiskelija/työtön 25 e.  Maksu sisältää opastuksen ja kuljetuksen tilausbussilla. \nRetken lähtö: klo 7\, Kiasman matkailuliikenteen pysäkki\, Mannerheiminaukio \nRetken päättyminen: viimeistään klo 18.30\, paluu Kiasmalle  \nIlmoittautuminen ja retkimaksu: viimeistään 3.3. seuraavan linkin kautta: \nhttps://tringa.tapahtumiin.fi/fi/events/e/hangon-alkukevaan-retki/639cc54b068709a3318b4570 \n  \nIlmoittautumisen peruminen: Lähetä peruutuksesta sähköposti: opastukset@tringa.fi \nMikäli perut osallistumisesi viimeistään 3.3. sinulle palautetaan maksamasi retkimaksu – (miinus) 10 euroa. \nMikäli perut osallistumisesi 4.3. tai sen jälkeen tai et tule retkelle\, jolle olet ilmoittautunut\, retkimaksua ei palauteta. \nIlmoittautuminen jonoon: Mikäli retki on varattu täyteen ja haluat ilmoittautua jonoon\, lähetä sähköposti: opastukset@tringa.fi \nTiedustelut: opastukset@tringa.fi \n  \n 
URL:https://tringa.fi/tapahtuma/hangon-alkukevaan-retki/
CATEGORIES:Retket
END:VEVENT
END:VCALENDAR