BEGIN:VCALENDAR
VERSION:2.0
PRODID:-//Uudenmaan lintuharrastajien oma yhdistys - ECPv6.15.20//NONSGML v1.0//EN
CALSCALE:GREGORIAN
METHOD:PUBLISH
X-ORIGINAL-URL:https://tringa.fi
X-WR-CALDESC:Events for Uudenmaan lintuharrastajien oma yhdistys
REFRESH-INTERVAL;VALUE=DURATION:PT1H
X-Robots-Tag:noindex
X-PUBLISHED-TTL:PT1H
BEGIN:VTIMEZONE
TZID:UTC
BEGIN:STANDARD
TZOFFSETFROM:+0000
TZOFFSETTO:+0000
TZNAME:UTC
DTSTART:20220101T000000
END:STANDARD
END:VTIMEZONE
BEGIN:VTIMEZONE
TZID:Europe/Helsinki
BEGIN:DAYLIGHT
TZOFFSETFROM:+0200
TZOFFSETTO:+0300
TZNAME:EEST
DTSTART:20220327T010000
END:DAYLIGHT
BEGIN:STANDARD
TZOFFSETFROM:+0300
TZOFFSETTO:+0200
TZNAME:EET
DTSTART:20221030T010000
END:STANDARD
BEGIN:DAYLIGHT
TZOFFSETFROM:+0200
TZOFFSETTO:+0300
TZNAME:EEST
DTSTART:20230326T010000
END:DAYLIGHT
BEGIN:STANDARD
TZOFFSETFROM:+0300
TZOFFSETTO:+0200
TZNAME:EET
DTSTART:20231029T010000
END:STANDARD
BEGIN:DAYLIGHT
TZOFFSETFROM:+0200
TZOFFSETTO:+0300
TZNAME:EEST
DTSTART:20240331T010000
END:DAYLIGHT
BEGIN:STANDARD
TZOFFSETFROM:+0300
TZOFFSETTO:+0200
TZNAME:EET
DTSTART:20241027T010000
END:STANDARD
END:VTIMEZONE
BEGIN:VEVENT
DTSTART;TZID=UTC:20230122T090000
DTEND;TZID=UTC:20230122T120000
DTSTAMP:20260420T033041
CREATED:20221109T155146Z
LAST-MODIFIED:20230119T070604Z
UID:19344-1674378000-1674388800@tringa.fi
SUMMARY:Tapanilan Fallkullan ja Longinojan talvikävely PERUTTU
DESCRIPTION:Kolopuilla\, lahopuilla\, maapuilla\, on suuri merkitys lintujemme monimuotoisuudelle. Lintuhavainnoinin ohella saat retkellä puutietoa. Longinojan kävelyllä kuljetaan 3-4 km:n lenkki helppokulkuisia kävelyteitä. Paikoin voi olla liukasta.   \nRetkelle tulee ilmoittautua. Muistathan perua ilmoittautumisesi ellet pääsekään retkelle. Ethän osallistu retkelle sairaana tai flunssaoireisena. \nKatso retkitiedot tapahtumakalenterista vielä retkeä edeltävänä iltana mahdollisten viime hetken muutosten varalta. \nPÄIVITYS 19.1. RETKI ON VALITETTAVASTI JOUDUTTU PERUMAAN. \nKenelle: Retki on avoin kaikille \nRetkimaksu: Maksuton \nOppaana: Sami Kiema \nRetken lähtö: Retki alkaa Fallkullan kotieläintilan pihapiiristä Kilikuppilan edestä klo 9. Tilan osoite on Malminkaari 24. Malminkaaren pysäköintipaikalta on noin 100 metriä lähtöpaikalle. Kilikuppila on tilan päärakennuksen\, eläintallin pohjoispuolella. \nRetken päättyminen: Retki päättyy lähtöpaikalle klo 11-12\, säästä riippuen. \nIlmoittautuminen: viimeistään 21.1. klo 16 seuraavan linkin kautta \nhttps://birdlife-lv.creamailer.fi/survey/2qba5kefdzppu \nTiedustelut: opastukset@tringa.fi
URL:https://tringa.fi/tapahtuma/tapanilan-fallkullan-ja-longinojan-talvikavely/
CATEGORIES:Retket
END:VEVENT
BEGIN:VEVENT
DTSTART;TZID=Europe/Helsinki:20230122T090000
DTEND;TZID=Europe/Helsinki:20230122T120000
DTSTAMP:20260420T033041
CREATED:20230108T181524Z
LAST-MODIFIED:20230108T181524Z
UID:20224-1674378000-1674388800@tringa.fi
SUMMARY:Viikin talviretki
DESCRIPTION:Kävelyretken reitti määräytyy sään ja lintutilanteen mukaan. Kävelyä kertyy muutama kilometri\, kävelyteitä ja polkuja.\n\nRetkelle tulee ilmoittautua. Muistathan perua ilmoittautumisesi ellet pääsekään retkelle. \n\nKatso retkitiedot tapahtumakalenterista vielä retkeä edeltävänä iltana mahdollisten viime hetken muutosten varalta.  \nKenelle: Retki on avoin kaikille \nRetkimaksu: Maksuton \nOppaana: Julia Palorinne \nRetken lähtö: Klo 9\, Viikki\, Koetilantie 1\, Lintuvarusteen edusta \nRetken päättyminen: Noin klo 12\, sama paikka \nIlmoittautuminen: viimeistään 21.1.2023 klo 16 seuraavan linkin kautta \n\nhttps://birdlife-lv.creamailer.fi/survey/lhyoai9ddz57j \n\nTiedustelut:opastukset@tringa.fi
URL:https://tringa.fi/tapahtuma/viikin-talviretki/
CATEGORIES:Retket
END:VEVENT
BEGIN:VEVENT
DTSTART;TZID=Europe/Helsinki:20230122T090000
DTEND;TZID=Europe/Helsinki:20230122T130000
DTSTAMP:20260420T033041
CREATED:20230115T110737Z
LAST-MODIFIED:20230115T110737Z
UID:20329-1674378000-1674392400@tringa.fi
SUMMARY:Suomenlinnan retki (oli alun perin 15.1.)
DESCRIPTION:Viikolla eteenpäin (oli alun perin 15.1.) siirtyneelle Suomenlinnan retkelle on vapautunut muutama paikka. Retkellä havainnoidaan Suomenlinnaa ympäröivien vesialueiden vesilintuja sekä saarella talvehtivia lintuja mm. linturuokintojen ääressä. Kävelyä kertyy noin 3 kilometriä. Kävelyreitit voivat säästä riippuen olla liukkaat. \nLauttalippu (HSL:n yhdensuuntainen AB- kertalippu 3\,10 e) tulee hankkia itse. \nJos olit ilmoittautunut 15.1. Suomenlinnan retkelle retkipaikkavaruksesi on voimassa myös tällä retkellä. \n  \nKatso retkitiedot tapahtumakalenterista vielä retkeä edeltävänä iltana mahdollisten viime hetken muutosten varalta. \nKenelle: Retki on vain Tringan jäsenille. \nOppaana: Paul Segersvärd ja Tuomas Kervinen \nRetkimaksu: Tringan jäsen 10 e.  \nLähtöpaikka: Kauppatori/Suomenlinnan lautan lähtölaituri \nRetkiaika: Lautta lähtee Kauppatorilta klo 9.00. Paluulautta Suomenlinnasta lintu- ja säätilanteen mukaisesti joko 11.40 tai 12.10 lähtevällä lautalla. \nIlmoittautuminen vapaille paikoille ja retkimaksu: viimeistään 20.1.2023 seuraavan linkin kautta: \nhttps://tringa.tapahtumiin.fi/fi/events/e/suomenlinnan-retki/63c3d2f22aa9b438188b4571 \n  \nIlmoittautumisen peruminen: Lähetä peruutuksesta sähköposti: opastukset@tringa.fi \nMax 10 € retkimaksuja ei palauteta. \nIlmoittautuminen jonoon: opastukset@tringa.fi \nTiedustelut: opastukset@tringa.fi \n 
URL:https://tringa.fi/tapahtuma/suomenlinnan-retki-oli-alun-perin-15-1/
CATEGORIES:Retket
END:VEVENT
END:VCALENDAR