BEGIN:VCALENDAR
VERSION:2.0
PRODID:-//Uudenmaan lintuharrastajien oma yhdistys - ECPv6.15.20//NONSGML v1.0//EN
CALSCALE:GREGORIAN
METHOD:PUBLISH
X-ORIGINAL-URL:https://tringa.fi
X-WR-CALDESC:Events for Uudenmaan lintuharrastajien oma yhdistys
REFRESH-INTERVAL;VALUE=DURATION:PT1H
X-Robots-Tag:noindex
X-PUBLISHED-TTL:PT1H
BEGIN:VTIMEZONE
TZID:UTC
BEGIN:STANDARD
TZOFFSETFROM:+0000
TZOFFSETTO:+0000
TZNAME:UTC
DTSTART:20210101T000000
END:STANDARD
END:VTIMEZONE
BEGIN:VEVENT
DTSTART;TZID=UTC:20221204T100000
DTEND;TZID=UTC:20221204T130000
DTSTAMP:20260420T001958
CREATED:20220718T144203Z
LAST-MODIFIED:20220718T144203Z
UID:18569-1670148000-1670158800@tringa.fi
SUMMARY:Retki Sipoonkorpeen
DESCRIPTION:Vuoden lopulla talvi on tuloillaan ja luonto hiljenee. Kävelyretkellä Sipoonkorven Fiskträskin-Bakunkärrin alueella tutustutaan talven lintuihin ja ihaillaan levolle vaipuvaa metsäluontoa. \nKävelyretki metsässä vaatii hyvät jalkineet ja säähän sopivat ulkoiluvaatteet. Retken pituus sään mukaan 2-3 tuntia\, kävelyä kertyy 4-7 kilometriä. \nRetkelle on pakollinen ilmoittautuminen. Mikäli täyteen varatulle retkelle on peruutusten myötä vapautunut paikkoja\, niistä ilmoitetaan tapahtumakalenterissa retken tiedoissa. Muistathan perua ilmoittautumisesi ellet pääsekään retkelle. Ethän osallistu retkelle sairaana tai flunssaoireisena. \nKatso retkitiedot tapahtumakalenterista vielä retkeä edeltävänä iltana mahdollisten viime hetken muutosten varalta.  \nKenelle: Retki on vain Tringan jäsenille \nRetkimaksu: Maksuton \nOppaana: Mikko Salonen \nLähtöpaikka: Knutersintie 421\, Sipoonkorven pysäköintialue \nRetkiaika: Lähtö klo 10\, paluu klo 12-13. \nIlmoittautuminen: viimeistään 2.12. klo 16 seuraavan linkin kautta \nhttps://birdlife-lv.creamailer.fi/survey/jdrimuoovzxve \nTiedustelut: opastukset@tringa.fi \n  \n 
URL:https://tringa.fi/tapahtuma/retki-sipoonkorpeen/
CATEGORIES:Retket
END:VEVENT
END:VCALENDAR