BEGIN:VCALENDAR
VERSION:2.0
PRODID:-//Uudenmaan lintuharrastajien oma yhdistys - ECPv6.15.20//NONSGML v1.0//EN
CALSCALE:GREGORIAN
METHOD:PUBLISH
X-ORIGINAL-URL:https://tringa.fi
X-WR-CALDESC:Events for Uudenmaan lintuharrastajien oma yhdistys
REFRESH-INTERVAL;VALUE=DURATION:PT1H
X-Robots-Tag:noindex
X-PUBLISHED-TTL:PT1H
BEGIN:VTIMEZONE
TZID:UTC
BEGIN:STANDARD
TZOFFSETFROM:+0000
TZOFFSETTO:+0000
TZNAME:UTC
DTSTART:20210101T000000
END:STANDARD
END:VTIMEZONE
BEGIN:VEVENT
DTSTART;TZID=UTC:20221130T171500
DTEND;TZID=UTC:20221130T184500
DTSTAMP:20260420T002003
CREATED:20220816T131922Z
LAST-MODIFIED:20221129T154910Z
UID:18823-1669828500-1669833900@tringa.fi
SUMMARY:Retki Luonnontieteelliseen museoon 2
DESCRIPTION:Luonnontieteellisen museon (LUOMUS) eläintieteen yksikössä pidettävällä retkellä museo-opas Samuli Haapalainen kierrättää osallistujia museon eri näyttelyissä. Retkellä ihmetellään kaikenlaista lintuihin liittyvää\, kuten niiden anatomiaa\, ekologiaa ja evoluutiohistoriaa. Mukaan tulee myös historiaa ja tietoa Luomuksen toiminnasta ja tutkimuksesta lintujen parissa. \nKenelle: Retki on vain Tringan jäsenille. \nOppaana: Samuli Haapalainen \nRetkiaika: Opastus alkaa klo 17.15\, päättyy klo 18.45. Ole paikalla ajoissa\, jotta ehdit maksaa museon pääsymaksun \nLähtöpaikka: Luonnontieteellinen museo/Pohjoinen Rautatiekatu 13/museon ala-aula \nRetkimaksu ja ilmoittautuminen: Museon pääsymaksu (12e aikuinen/5 e 7-17-v/Museokortti) + opastusmaksu 10 e. Kukin maksaa pääsymaksun itse museon vastaanotossa ennen opastuskierroksen alkua. Ilmoittautuminen ja opastusmaksu 10 e Evention verkkokaupan kautta viimeistään 30.11. klo 10 seuraavasta linkistä: \nhttps://tringa.tapahtumiin.fi/fi/events/e/retki-luomusiin-2/62fbc2d51a1a5b20748b4573 \n  \nHUOM! Retkelle ei voi osallistua ilman ennakkoilmoittautumista tulemalla paikan päälle. \nTiedustelut: opastukset@tringa.fi
URL:https://tringa.fi/tapahtuma/retki-luonnontieteellisen-museoon-2/
CATEGORIES:Retket
END:VEVENT
END:VCALENDAR