BEGIN:VCALENDAR
VERSION:2.0
PRODID:-//Uudenmaan lintuharrastajien oma yhdistys - ECPv6.15.20//NONSGML v1.0//EN
CALSCALE:GREGORIAN
METHOD:PUBLISH
X-ORIGINAL-URL:https://tringa.fi
X-WR-CALDESC:Events for Uudenmaan lintuharrastajien oma yhdistys
REFRESH-INTERVAL;VALUE=DURATION:PT1H
X-Robots-Tag:noindex
X-PUBLISHED-TTL:PT1H
BEGIN:VTIMEZONE
TZID:UTC
BEGIN:STANDARD
TZOFFSETFROM:+0000
TZOFFSETTO:+0000
TZNAME:UTC
DTSTART:20210101T000000
END:STANDARD
END:VTIMEZONE
BEGIN:VEVENT
DTSTART;TZID=UTC:20221016T123000
DTEND;TZID=UTC:20221016T150000
DTSTAMP:20260419T231017
CREATED:20220802T112308Z
LAST-MODIFIED:20220802T112308Z
UID:18664-1665923400-1665932400@tringa.fi
SUMMARY:Viikin sunnuntaikävely
DESCRIPTION:Leppoisalla\, lintuharrastuksen vasta-alkajillekin hyvin soveltuvalla  sunnuntai-iltapäivän syyskävelyretkellä Viikin peltoaukeille havainnoidaan alueen syysmuuttoa. Peltotiellä saatetaan viivähtää pitempi tovi tähyämässä mahdollisia petolintuja. Kävelyä helppokulkuisilla väylillä kertyy 3-4 km. \nRetkelle on pakollinen ilmoittautuminen. Mikäli täyteen varatulle retkelle on peruutusten myötä vapautunut paikkoja\, niistä ilmoitetaan tapahtumakalenterissa retken tiedoissa. Muistathan perua ilmoittautumisesi ellet pääsekään retkelle. Ethän osallistu retkelle sairaana tai flunssaoireisena. \nKatso retkitiedot tapahtumakalenterista vielä retkeä edeltävänä iltana mahdollisten viime hetken muutosten varalta.  \nKenelle: Retki on avoin kaikille \nRetkimaksu: Maksuton \nOppaana: Julia Palorinne \nLähtöpaikka: Viikki/Koetilantie 1/Lintuvarusteen edusta \nRetkiaika: Lähtö klo 12.30\, paluu noin klo 15 \nIlmoittautuminen: viimeistään 15.10.  klo 16 seuraavan linkin kautta \nhttps://birdlife-lv.creamailer.fi/survey/5wxwflptvdbdc \n  \nTiedustelut: opastukset@tringa.fi \n 
URL:https://tringa.fi/tapahtuma/viikin-sunnuntaikavely-5/
LOCATION:Viikki\, Lintuvarusteen edusta\, Koetilantie 1\, Helsinki\, Finland
CATEGORIES:Retket
END:VEVENT
END:VCALENDAR