BEGIN:VCALENDAR
VERSION:2.0
PRODID:-//Uudenmaan lintuharrastajien oma yhdistys - ECPv6.15.20//NONSGML v1.0//EN
CALSCALE:GREGORIAN
METHOD:PUBLISH
X-WR-CALNAME:Uudenmaan lintuharrastajien oma yhdistys
X-ORIGINAL-URL:https://tringa.fi
X-WR-CALDESC:Events for Uudenmaan lintuharrastajien oma yhdistys
REFRESH-INTERVAL;VALUE=DURATION:PT1H
X-Robots-Tag:noindex
X-PUBLISHED-TTL:PT1H
BEGIN:VTIMEZONE
TZID:UTC
BEGIN:STANDARD
TZOFFSETFROM:+0000
TZOFFSETTO:+0000
TZNAME:UTC
DTSTART:20210101T000000
END:STANDARD
END:VTIMEZONE
BEGIN:VEVENT
DTSTART;TZID=UTC:20220927T100000
DTEND;TZID=UTC:20220927T150000
DTSTAMP:20260419T213646
CREATED:20220809T111216Z
LAST-MODIFIED:20220809T111216Z
UID:18757-1664272800-1664290800@tringa.fi
SUMMARY:Vallisaaren syysretki
DESCRIPTION:Syksyinen Vallisaari ja Kuninkaansaari ovat monipuolinen linturetkikohde. Muutolla olevia pikkulintuja tiksuttaa pensaikoissa. Hyvällä onnella voi nähdä valkoselkätikan. Retken ajankohta on syysmuuton huippuaikaa.  Retkellä kuljetaan max 7 km lenkki Valli- ja Kuninkaansaaren väyliä\, maasto on paikoin mäkistä. \nKun olet ilmoittautunut\, osta laivalippu Portö Linen verkkokaupasta: \nhttps://shop.portoline.net/ \n  \nEthän osallistu retkelle sairaana tai flunssaoireisena.  \nKatso retkitiedot tapahtumakalenterista vielä retkeä edeltävänä iltana mahdollisten viime hetken muutosten varalta. Säävaraus\, kovalla sateella tai tuulella retki perutaan. \nKenelle: Retki on vain Tringan jäsenille. \nOppaana: Mikko Salonen \nRetkimaksu: Tringan jäsen 15 e. Lisäksi tulee venemaksu 6.90 e. Kukin ostaa venepaikan itse ennen retkeä. \nLähtöpaikka: Kauppatori/Lyypekinlaituri (Kauppahallin lähellä) \nRetkiaika: Vene lähtee Lyypekinlaiturilta klo 10. Ole paikalla viimeistään klo 9.45\, Paluuvene lähtee Vallisaaresta klo 14.30. Voit lähteä aiemmin tai jäädä myöhemmäksi oman aikataulusi mukaan.  \nIlmoittautuminen ja retkimaksu: Eventio-verkkokaupan kautta viimeistään 20.9. seuraavan linkin kautta: \nhttps://tringa.tapahtumiin.fi/fi/events/e/vallisaaren-syysretki/62f26a4b11a09cac648b4572 \nIlmoittautumisen peruminen: Lähetä peruutuksesta sähköposti: opastukset@tringa.fi \nMikäli perut osallistumisesi viimeistään 20.9. sinulle palautetaan maksamasi retkimaksu – (miinus) 5 euroa. \nMikäli perut osallistumisesi 21.-23.9. sinulle palautetaan retkimaksusta 50 %. \nMikäli perut osallistumisesi 24.9. tai sen jälkeen tai et tule retkelle\, jolle olet ilmoittautunut\, retkimaksua ei palauteta. \nTiedustelut: opastukset@tringa.fi
URL:https://tringa.fi/tapahtuma/vallisaaren-syysretki/
CATEGORIES:Retket
END:VEVENT
END:VCALENDAR