BEGIN:VCALENDAR
VERSION:2.0
PRODID:-//Uudenmaan lintuharrastajien oma yhdistys - ECPv6.15.20//NONSGML v1.0//EN
CALSCALE:GREGORIAN
METHOD:PUBLISH
X-WR-CALNAME:Uudenmaan lintuharrastajien oma yhdistys
X-ORIGINAL-URL:https://tringa.fi
X-WR-CALDESC:Events for Uudenmaan lintuharrastajien oma yhdistys
REFRESH-INTERVAL;VALUE=DURATION:PT1H
X-Robots-Tag:noindex
X-PUBLISHED-TTL:PT1H
BEGIN:VTIMEZONE
TZID:UTC
BEGIN:STANDARD
TZOFFSETFROM:+0000
TZOFFSETTO:+0000
TZNAME:UTC
DTSTART:20210101T000000
END:STANDARD
END:VTIMEZONE
BEGIN:VEVENT
DTSTART;VALUE=DATE:20220921
DTEND;VALUE=DATE:20220925
DTSTAMP:20260419T213646
CREATED:20220413T084209Z
LAST-MODIFIED:20220829T083503Z
UID:4415-1663718400-1664063999@tringa.fi
SUMMARY:Utön syysretki TÄYNNÄ
DESCRIPTION:Lähde mukaan mieleenpainuvalle linturetkelle ulkosaaristoon\, Utöön. Suomen eteläisin ympärivuotisesti asuttu saari on kuuluisa mm. lukemattomista vuosien varrelle osuneista erityisistä lintuhavainnoista\, esimerkiksi vuoden 2012 joulukuisesta kettusirkkuhavainnosta.  Utön lintutarjonta on aina mielenkiintoinen ja yllätyksellinen\, syysmuuttoaikaan voi kohdalle osua vaikka mitä. Ja vaikka lintuanti ei onnistuisikaan yllättämään\, saaren ja ympäröivän meren maisemat ovat lumonneet monet. Retki sisältää muutonseurantaa sekä kiertelyä saaressa. Kävelymatkat ovat lyhyitä. \nMajoitumme mukavasti Utön Havshotellissa. Saaressa on kauppa. Hotellilta voi ostaa puolihoitoon kuulumattomia aterioita. Yhteysaluksessa on ravintola. \n\n\nKulku Nauvoon kimppakyydein. Pärnäisten satamassa on tilava pysäköintialue. \nRetkeä odotellessa kannattaa lukea Juha Laaksosen kirja Murha Lintusaarella. Karusta aiheestaan huolimatta hauska kirja\, sisältää myös lintutietoa. \nUtössä asuvan lintuharrastaja Jorma Tenovuon blogista voi puolestaan lukea Utön lintutapahtumista vuosien varrelta ja tarkistaa saaren uusimmat havainnot: \nhttp://www.jtenovuo.com/blogi/ \nRetken aikana on mahdollista osallistua erillismaksusta Utön majakan esittelyyn. Utöläinen Hanna Kovanen tuntee majakan ja sen historian. \nRetki saattaa peruuntua lyhyellä varoitusjalla. Jos retki peruuntuu\, osallistumismaksut palautetaan. \nKenelle: Retki on vain Tringan jäsenille. \nRetkiaika ja lähtöpaikka: Lähtö Nauvon Pärnäisten satamasta (Saaristotie 5861) keskiviikkona 21.9. klo 11.10. Saaressa ollaan perillä noin klo 15.30. Paluulähtö lauantaina 24.9. klo 8.30. Pärnäisiin saapuminen noin klo 12.50. \nRetken hinta: 420 e 2 hh:ssa majoittuvilta\, 480 e 1 hh:ssa majoittuvilta. Retkimaksu sisältää opastuksen\, majoittumisen 3 yötä Utö Havshotellissa\, puolihoidon (aamiainen ja päivällinen)\, 1 iltana rantasaunan. Lisäksi kimppakyytimaksu. Ellet halua osallistua yhteispäivällisiin\, retkihinta on 2 hh:ssa majoittuvalta 360 e\, 1 hh:ssa majoittuvalta 420 e. \nOppaina: Aapo Salmela ja Jaana Sarvala \nIlmoittautuminen ja retkimaksu: Sitova ilmoittautuminen viimeistään 8.9. oheisen linkin kautta: \n\nhttps://birdlife-lv.creamailer.fi/survey/westaqn61duvx \n\nSaatuasi sähköpostivahvistuksen siitä\, että ilmoittautumisesi onnistui ja mahduit mukaan retkelle\, maksa viikon kuluessa ilmoittautumisesta 50 e varausmaksu Tringan retkitilille FI0215723000351585. Merkitse maksun viestikenttään “Utön retki 2022-varausmaksu” sekä maksetun osallistujan/osallistujien nimet. \nLoppumaksu maksetaan samalle retkitilille viimeistään 8.9. \nIlmoittautumisen peruminen: Lähetä peruutuksesta sähköposti: opastukset@tringa.fi. Saat ohjeet retkimaksun/varausmaksun palautuksen hakemiseksi. 8.9. jälkeen tulleista peruutuksista ei retkimaksua palauteta ellei tilalle saada toinen osallistuja. \n  \nTiedustelut: opastukset@tringa.fi
URL:https://tringa.fi/tapahtuma/uton-syysretki/
CATEGORIES:Retket
END:VEVENT
END:VCALENDAR