BEGIN:VCALENDAR
VERSION:2.0
PRODID:-//Uudenmaan lintuharrastajien oma yhdistys - ECPv6.15.20//NONSGML v1.0//EN
CALSCALE:GREGORIAN
METHOD:PUBLISH
X-WR-CALNAME:Uudenmaan lintuharrastajien oma yhdistys
X-ORIGINAL-URL:https://tringa.fi
X-WR-CALDESC:Events for Uudenmaan lintuharrastajien oma yhdistys
REFRESH-INTERVAL;VALUE=DURATION:PT1H
X-Robots-Tag:noindex
X-PUBLISHED-TTL:PT1H
BEGIN:VTIMEZONE
TZID:UTC
BEGIN:STANDARD
TZOFFSETFROM:+0000
TZOFFSETTO:+0000
TZNAME:UTC
DTSTART:20210101T000000
END:STANDARD
END:VTIMEZONE
BEGIN:VEVENT
DTSTART;TZID=UTC:20220918T090000
DTEND;TZID=UTC:20220918T120000
DTSTAMP:20260419T213647
CREATED:20220905T063440Z
LAST-MODIFIED:20220906T081247Z
UID:19000-1663491600-1663502400@tringa.fi
SUMMARY:Santahaminan syysretki TÄYNNÄ
DESCRIPTION:Tringan Santahaminan retkellä havainnoidaan syksyisiä rannikon muuttolintuja. Kulku pääosin helppokulkuisia väyliä noin 4 km. Muuton havainnointi kallioilla\, joille nousua. \nRetkellä tulee kulkea oppaan mukana\, omatoiminen alueella liikkuminen on kielletty. Retkeltä ei voi poistua kesken retken. \n\nPakollinen syntymäaikatieto kysytään ilmoittautumisen yhteydessä Santahaminan kulkulupaa varten. \nMikäli saavut Santahaminaan autolla\, ilmoita myös autosi rekisteritunnus ilmoittautumisen yhteydessä. Vain ennalta ilmoitetut ajoneuvot päästetään Santahaminan portista sisään. \nMukana retkellä tulee olla tunnistautumista varten voimassa oleva henkilöllisyystodistus: henkilökortti tai passi. Ajokortti ei kelpaa. \n  \nKatso tapahtumakalenterista mahdolliset viime hetken muutokset vielä retkeä edeltävänä päivänä. \n\nKenelle: Vain Tringan jäsenille. Osallistujan tulee olla Suomen kansalainen. \nOppaana: Paul Segersvärd \nRetkimaksu: maksuton \nLähtöpaikka: Santahamina\, bussin 86 päätepysäkin takainen pieni hiekkakenttä Eteläkärjentien alussa.  Tämä toimii myös omalla autolla tulevien pysäköintialueena. Jos tulet muulla kuin bussilla\, tunnistaudu portilla ja kulje suoraan retken lähtöpaikalle. Bussissa tulijoiden henkilöllisyys tarkistetaan bussissa. \nRetkiaika: Lähtö klo 9.00. Paluu noin klo 12. Huom! Ole ajoissa! Retkelle ei voi tulla myöhästyneenä\, omatoiminen kulkeminen alueella ilman opasta ei ole sallittua. \n\n\nIlmoittautuminen: viimeistään 11.9. seuraavan linkin kautta \n\nhttps://birdlife-lv.creamailer.fi/survey/t5kztpxa40ahy \n\nTiedustelut ja ilmoittautuminen jonoon; opastukset@tringa.fi \nMahdollisia peruutuspaikkoja ei ole mahdollista saada  enää 11.9. jälkeen kulkulupamenettelyn vuoksi.
URL:https://tringa.fi/tapahtuma/santahaminan-syysretki/
CATEGORIES:Retket
END:VEVENT
BEGIN:VEVENT
DTSTART;TZID=UTC:20220918T123000
DTEND;TZID=UTC:20220918T150000
DTSTAMP:20260419T213647
CREATED:20220802T102658Z
LAST-MODIFIED:20220817T133021Z
UID:18654-1663504200-1663513200@tringa.fi
SUMMARY:Viikin sunnuntaikävely
DESCRIPTION:Leppoisalla\, lintuharrastuksen vasta-alkajillekin hyvin soveltuvalla  sunnuntai-iltapäivän syyskävelyretkellä Viikin peltoaukeille havainnoidaan alueen syysmuuttoa. Peltotiellä saatetaan viivähtää pitempi tovi tähyämässä mahdollisia petolintuja. Kävelyä helppokulkuisilla väylillä kertyy 3-4 km. \nRetkelle on pakollinen ilmoittautuminen. Mikäli täyteen varatulle retkelle on peruutusten myötä vapautunut paikkoja\, niistä ilmoitetaan tapahtumakalenterissa retken tiedoissa. Muistathan perua ilmoittautumisesi ellet pääsekään retkelle. Ethän osallistu retkelle sairaana tai flunssaoireisena. \nKatso retkitiedot tapahtumakalenterista vielä retkeä edeltävänä iltana mahdollisten viime hetken muutosten varalta.  \nKenelle: Retki on avoin kaikille \nRetkimaksu: Maksuton \nOppaana: Julia Palorinne \nLähtöpaikka: Viikki/Koetilantie 1/Lintuvarusteen edusta \nRetkiaika: Lähtö klo 12.30\, paluu noin klo 15 \nIlmoittautuminen: viimeistään 15.9.  klo 16 seuraavan linkin kautta \n  \nhttps://birdlife-lv.creamailer.fi/survey/3tnmoplcuv7md \nTiedustelut: opastukset@tringa.fi \n 
URL:https://tringa.fi/tapahtuma/viikin-sunnuntaikavely/
LOCATION:Viikki\, Lintuvarusteen edusta\, Koetilantie 1\, Helsinki\, Finland
CATEGORIES:Retket
END:VEVENT
END:VCALENDAR