BEGIN:VCALENDAR
VERSION:2.0
PRODID:-//Uudenmaan lintuharrastajien oma yhdistys - ECPv6.15.20//NONSGML v1.0//EN
CALSCALE:GREGORIAN
METHOD:PUBLISH
X-WR-CALNAME:Uudenmaan lintuharrastajien oma yhdistys
X-ORIGINAL-URL:https://tringa.fi
X-WR-CALDESC:Events for Uudenmaan lintuharrastajien oma yhdistys
REFRESH-INTERVAL;VALUE=DURATION:PT1H
X-Robots-Tag:noindex
X-PUBLISHED-TTL:PT1H
BEGIN:VTIMEZONE
TZID:UTC
BEGIN:STANDARD
TZOFFSETFROM:+0000
TZOFFSETTO:+0000
TZNAME:UTC
DTSTART:20210101T000000
END:STANDARD
END:VTIMEZONE
BEGIN:VEVENT
DTSTART;TZID=UTC:20220908T180000
DTEND;TZID=UTC:20220908T200000
DTSTAMP:20260419T224417
CREATED:20220806T095330Z
LAST-MODIFIED:20220806T105841Z
UID:18620-1662660000-1662667200@tringa.fi
SUMMARY:Villa Elfvikin ympäristön kävelyretki
DESCRIPTION:Villa Elfvikin alue Laajalahdella on oiva paikka havainnoida monipuolisesti alkusyksyn linnustoa. Retkellä kierretään lyhyt lenkki Elfvikin luontopolulla helppokulkuisessa maastossa. Matkan varrella piipahdetaan Elfvikin lintutornissa tarkastamassa lahden lintutilanne. Kävelyä tulee noin 2 kilometriä. \nRetkelle on pakollinen ilmoittautuminen. Mikäli täyteen varatulle retkelle on peruutusten myötä vapautunut paikkoja\, niistä ilmoitetaan tapahtumakalenterissa retken tiedoissa. Muistathan perua ilmoittautumisesi ellet pääsekään retkelle. Ethän osallistu retkelle sairaana tai flunssaoireisena. \nKatso retkitiedot tapahtumakalenterista vielä retkeä edeltävänä iltana mahdollisten viime hetken muutosten varalta.  \nKenelle: Retki on vain Tringan jäsenille \nRetkimaksu: Maksuton \nOppaana: Touko Torppa \nLähtöpaikka: Elfvikintie 4\, Villa Elfvikin luontotalon piha-alue\, pääsisäänkäynnin edusta  \nRetkiaika: Lähtö klo 18\, paluu klo 20 \nIlmoittautuminen: viimeistään 7.9. klo 16 seuraavan linkin kautta \n  \nhttps://birdlife-lv.creamailer.fi/survey/mswuwfuizchg4 \nTiedustelut: opastukset@tringa.fi
URL:https://tringa.fi/tapahtuma/villa-elfvikin-ympariston-kavelyretki/
CATEGORIES:Retket
END:VEVENT
END:VCALENDAR