BEGIN:VCALENDAR
VERSION:2.0
PRODID:-//Uudenmaan lintuharrastajien oma yhdistys - ECPv6.15.20//NONSGML v1.0//EN
CALSCALE:GREGORIAN
METHOD:PUBLISH
X-WR-CALNAME:Uudenmaan lintuharrastajien oma yhdistys
X-ORIGINAL-URL:https://tringa.fi
X-WR-CALDESC:Events for Uudenmaan lintuharrastajien oma yhdistys
REFRESH-INTERVAL;VALUE=DURATION:PT1H
X-Robots-Tag:noindex
X-PUBLISHED-TTL:PT1H
BEGIN:VTIMEZONE
TZID:UTC
BEGIN:STANDARD
TZOFFSETFROM:+0000
TZOFFSETTO:+0000
TZNAME:UTC
DTSTART:20210101T000000
END:STANDARD
END:VTIMEZONE
BEGIN:VEVENT
DTSTART;TZID=UTC:20220828T100000
DTEND;TZID=UTC:20220828T120000
DTSTAMP:20260419T200331
CREATED:20220804T093014Z
LAST-MODIFIED:20220820T120906Z
UID:18707-1661680800-1661688000@tringa.fi
SUMMARY:Suomenojan kävelyretki - Espoo 50 vuotta kaupunkina
DESCRIPTION:Osana Espoo 50 vuotta kaupunkina -ohjelmistoa Tringa tarjoaa syksyisen lintukävelyn Suomenojan lintualtaalle. Suomenojan altaat ovat arvokas ja erikoislaatuinen luontokohde sekä kansainvälisesti tärkeä lintualue (IBA eli Important Bird Area). \nKosteikko tarjoaa monipuolisen ruovikkoisen elinympäristön useille pesiville ja muuttaville lintulajeille. Syksyllä monet sorsat viihtyivät altaalla ennen muuttoa. Suomenojalla sorsia pääsee katselemaan  läheltä. Muuton aikana alue on tärkeä levähdyspaikka monille muillekin linnuille ja aina voi nähdä yllättäviä läpimuuttajia. \nRauhallisella lintukävelyllä kierretään lintualtaan ympäri ja katsotaan alueen lintuja. Oppaat kertovat alueen monimuotoisesta luonnosta ja linnuista Espoon kehittyvässä kaupunginosassa. Reitti on noin 2 km kävelytietä\, mahdollisesti poiketaan myös meren rantaan. \nRetkelle on pakollinen ilmoittautuminen. Kävelyretkille ei ole jonotusjärjestelmää. Mikäli täyteen varatulle retkelle on peruutusten myötä vapautunut paikkoja\, niistä ilmoitetaan tapahtumakalenterissa retken tiedoissa. Muistathan perua ilmoittautumisesi ellet pääsekään retkelle. \nEthän osallistu retkelle sairaana tai oireisena. \nKenelle: Retki on avoin kaikille. Enimmäisosallistujamäärä on 30.  \nRetkimaksu: Maksuton \nOppaana: Nadja Weisshaupt\, Juha Lindy \nLähtöpaikka: Suomenojan lintualtaan P-paikka (Hyljeluodontie 6\, liikenneympyrästä opasteen mukaan). P-paikkojen määrä on rajoitettu\, vaihtoehtona pääsee busseilla 111\, 143\, 147 (Hyljeluodontie) ja metrolla Matinkylään. \nRetkiaika: Lähtö klo 10.00. Paluu klo 12. \nIlmoittautuminen:  viimeistään 27.8. seuraavan linkin kautta \nhttps://birdlife-lv.creamailer.fi/survey/c8gemmgazh8ts \nTiedustelut: opastukset@tringa.fi
URL:https://tringa.fi/tapahtuma/suomenojan-kavelyretki-espoo-50-vuotta-kaupunkina/
LOCATION:Suomenojan altaan pohjoinen parkkipaikka\, Hyljeluodontie\, Espoo\, Finland
CATEGORIES:Retket
END:VEVENT
BEGIN:VEVENT
DTSTART;TZID=UTC:20220828T113000
DTEND;TZID=UTC:20220828T133000
DTSTAMP:20260419T200331
CREATED:20220809T104005Z
LAST-MODIFIED:20220809T104157Z
UID:18751-1661686200-1661693400@tringa.fi
SUMMARY:Rastilan kävelyretki
DESCRIPTION:Retkellä kuljetaan lintuoppaan johdolla Rastilan kartanomiljöössä ja sen ympäristössä ja havainnoidaan loppukesän lintuja. Kävelyä kertyy muutama kilometri helppokulkuisia reittejä. Retki on osa Rastilan retkipäivää\, joka puolestaan liittyy Visit Vuosaari Weekend -tapahtumaviikonloppuun. \nhttps://myvuosaari.fi/tapahtumat/rastilan-retkipaeivae \n  \nRetkelle on pakollinen ilmoittautuminen. Mikäli täyteen varatulle retkelle on peruutusten myötä vapautunut paikkoja\, niistä ilmoitetaan tapahtumakalenterissa retken tiedoissa. Muistathan perua ilmoittautumisesi ellet pääsekään retkelle. Ethän osallistu retkelle sairaana tai flunssaoireisena. \nKatso retkitiedot tapahtumakalenterista vielä retkeä edeltävänä iltana mahdollisten viime hetken muutosten varalta.  \nKenelle: Retki on avoin kaikille \nRetkimaksu: Maksuton \nOppaana: Mikko Salonen \nLähtöpaikka: Vuosaari/ Karavaanitien länsipää/Rastilan kartanorakennuksen eteläpuoli \nRetkiaika: Lähtö klo 11.30. Paluu noin klo 13.30 \nIlmoittautuminen: viimeistään 27.8. klo 16 seuraavan linkin kautta \nhttps://birdlife-lv.creamailer.fi/survey/wixkmglbeovmu \nTiedustelut: opastukset@tringa.fi \n  \n 
URL:https://tringa.fi/tapahtuma/rastilan-kavelyretki/
CATEGORIES:Retket
END:VEVENT
END:VCALENDAR