BEGIN:VCALENDAR
VERSION:2.0
PRODID:-//Uudenmaan lintuharrastajien oma yhdistys - ECPv6.15.20//NONSGML v1.0//EN
CALSCALE:GREGORIAN
METHOD:PUBLISH
X-ORIGINAL-URL:https://tringa.fi
X-WR-CALDESC:Events for Uudenmaan lintuharrastajien oma yhdistys
REFRESH-INTERVAL;VALUE=DURATION:PT1H
X-Robots-Tag:noindex
X-PUBLISHED-TTL:PT1H
BEGIN:VTIMEZONE
TZID:UTC
BEGIN:STANDARD
TZOFFSETFROM:+0000
TZOFFSETTO:+0000
TZNAME:UTC
DTSTART:20210101T000000
END:STANDARD
END:VTIMEZONE
BEGIN:VEVENT
DTSTART;TZID=UTC:20220813T063000
DTEND;TZID=UTC:20220813T200000
DTSTAMP:20260419T200520
CREATED:20220627T115205Z
LAST-MODIFIED:20220627T115205Z
UID:16923-1660372200-1660420800@tringa.fi
SUMMARY:Yyterin kahlaajaretki
DESCRIPTION:Porin Yyteri on Suomen ykköskahlaajapaikka. Katseltavaa riittää koko päiväksi. Täällä jos missä pääsee tutustumaan sirrien\, viklojen\, kuirien ja kurmitsojen mitä moninaisimpaan pukujen kirjoon. Lisäksi väriä ja ääntä tuovat ristisorsat ja muut paikalliset erikoisuudet. Yyterin lietteiden lisäksi kierrellään muilla alueen lintupaikoilla olosuhteiden ja lintutilanteen mukaisesti. Kävelyä tulee max 7 km. Maasto on kuitenkin helppoa ja pääkohteeseen pääsee pitkospuita pitkin. Meno- ja paluumatkalla pysähdytään kahvilassa\, jossa voi myös täydentää eväitä. \nRetkitietoja päivitetään mm. vedenkorkeustiedoilla muutama päivä ennen retkeä. Vedenpinnan ollessa korkealla saappaat on hyvä jalkinevalinta. \nEthän osallistu retkelle sairaana tai flunssaoireisena. \nKatso retkitiedot tapahtumakalenterista vielä retkeä edeltävänä iltana mahdollisten viime hetken muutosten varalta. \nLue myös yleiset retkiohjeet: \n \nKenelle: Retki on vain Tringan jäsenille. \nOppaana: Aapo Salmela \nRetkimaksu: Tringan jäsen 55 e. Tringan jäsen/Alle 18-v./opiskelija/työtön 30 e.  Maksu sisältää opastuksen ja kuljetuksen tilausbussilla. \nLähtöpaikka: Kiasman matkailuliikenteen pysäkki\, Mannerheiminaukio 2 \nRetkiaika: Lähtö klo 6.30. Paluu Kiasmalle viimeistään klo 20. \nIlmoittautuminen ja retkimaksu: viimeistään 5.8. seuraavan linkin kautta: \nhttps://tringa.tapahtumiin.fi/fi/events/e/yyterin-kahlaajaretki-13-8/62988d601a1a5b5e2c8b4580 \n  \n  \nIlmoittautumisen peruminen: Lähetä peruutuksesta sähköposti: opastukset@tringa.fi \nMikäli perut osallistumisesi viimeistään 5.8.\, sinulle palautetaan maksamasi retkimaksu – (miinus) 5 euroa. \nMikäli perut osallistumisesi  viimeistään 9.8\, sinulle palautetaan retkimaksusta 50 %. \nMikäli perut osallistumisesi 9.8. jälkeen\,  tai et tule retkelle\, jolle olet ilmoittautunut\, retkimaksua ei palauteta. \nTiedustelut: aapo.salmelaÄTgmail.com
URL:https://tringa.fi/tapahtuma/yyterin-kahlaajaretki/
LOCATION:Kiasman matkailuliikenteen pysäkki\, Mannerheiminaukio 2\, Helsinki\, 00100\, Finland
CATEGORIES:Retket
END:VEVENT
END:VCALENDAR