BEGIN:VCALENDAR
VERSION:2.0
PRODID:-//Uudenmaan lintuharrastajien oma yhdistys - ECPv6.15.20//NONSGML v1.0//EN
CALSCALE:GREGORIAN
METHOD:PUBLISH
X-WR-CALNAME:Uudenmaan lintuharrastajien oma yhdistys
X-ORIGINAL-URL:https://tringa.fi
X-WR-CALDESC:Events for Uudenmaan lintuharrastajien oma yhdistys
REFRESH-INTERVAL;VALUE=DURATION:PT1H
X-Robots-Tag:noindex
X-PUBLISHED-TTL:PT1H
BEGIN:VTIMEZONE
TZID:UTC
BEGIN:STANDARD
TZOFFSETFROM:+0000
TZOFFSETTO:+0000
TZNAME:UTC
DTSTART:20210101T000000
END:STANDARD
END:VTIMEZONE
BEGIN:VEVENT
DTSTART;VALUE=DATE:20220509
DTEND;VALUE=DATE:20220616
DTSTAMP:20260419T230720
CREATED:20220413T071304Z
LAST-MODIFIED:20220413T071304Z
UID:4348-1652054400-1655337599@tringa.fi
SUMMARY:Porkkalan lintuviikko 2022
DESCRIPTION:Porkkalan lintuviikko järjestetään luentoina\, retkinä ja tapahtumina 9.-15.5. Tervetuloa piipahtamaan Kirkkonummelle mielenkiintoiseen ja monipuoliseen tapahtumaan! \nLintu- ja luontoaiheiset luennot ovat tänä vuonna Kirkkonummen kunnantalolla tiistaista perjantaihin. Aiheina on mm. Rönnskär\, Lintuatlas\, vesilintujen tilanne\, luontokato\, linnun mieli ja kärpäset. Lauantaina ja sunnuntaina retkeillään taas Porkkalan upeilla luontopaikoilla. Tänä vuonna Kirkkonummelta vie kaksi eri bussivuoroa retkeläisiä Porkkalaan\, jossa on mahdollisuus osallistua opastetuille retkille. \nTapahtumalla on omat\, raikkaat kotisivut\, josta kannattaa tarkistaa tarkemmat tiedot sekä katsoa edellisen vuoden tallenteet ja tunnelmat: \nporkkalanlintuviikko.wordpress.com  \nTapahtumaa järjestävät Kirkkonummen Ympäristöyhdistys KYY\, Tringa ja Kirkkonummen kunta.
URL:https://tringa.fi/tapahtuma/porkkalan-lintuviikko-2022/
LOCATION:Porkkalanniemi\, Porkkalanniemi\, Kirkkonummi\, Finland
CATEGORIES:Lasten ja nuorten tapahtumat,Muu tapahtuma,Nuorten linturyhmä,Retket
END:VEVENT
BEGIN:VEVENT
DTSTART;VALUE=DATE:20220520
DTEND;VALUE=DATE:20220624
DTSTAMP:20260419T230720
CREATED:20220413T073341Z
LAST-MODIFIED:20220413T073341Z
UID:4371-1653004800-1656028799@tringa.fi
SUMMARY:Kevätretki Kökariin
DESCRIPTION:Toukokuussa ulkosaaristo on mitä parhain linturetkikohde\, jossa lintujen tarkkailijaa hemmotellaan monin tavoin: käsillä on juuri kiivaana alkanut pesimäkausi sekä muutolta saapuvien lintujen massat. Myös harvinaisuuksien kohtaaminen on tähän ajankohtaan mahdollista: tervaleppälehdoista voi löytyä esimerkiksi sepelsieppoja ja kivikkomaastoista mustaleppälintuja. Arktisten vesilintujen yksi päämuuttolinja kulkee Kökarin pohjoispuolella ja sitä pääsee mukavasti staijaamaan vaikkapa kirkon lavalta. Myös saaren päätähdet\, kirjokertut\, saapuvat aivan näinä päivinä Kökariin aloittamaan pesimäpuuhiaan. Kökar tarjoaa erinomaiset puitteet täydelliseen lintuharrastuselämykseen. \nRetkellä kuljetaan autoilla\, tarvittaessa kimppakyydeillä. Kimppakyytiläiset osallistuvat autokuskin polttoaine- ja lauttamaksuihin. Mikäli lähdet omalla autollasi\, varaa autopaikka laivalta HYVISSÄ AJOIN\, ainakin pari viikkoa ennen retkeä. \nAutopaikan varaus: \nhttps://www.alandstrafiken.ax/fi/etusivu \nValitse ilmoittautumisen yhteydessä voitko tarjota kimppakyytiä tai tarvitsetko kimppakyydin. \n  \nMajoittuminen Kökarilla puolihoidolla (aamiainen ja päivällinen)  1 tai 2 hengen huoneessa Brudhäll Hotel&Restaurangissa. \nKökarissa on ruokakauppa parin minuutin kävelymatkan päässä hotellilta. Hotellin aulassa on yhteiskäyttöjääkaappi. \nValitse ilmoittautumisen yhteydessä\, majoitutko 1 vai 2 hengen huoneeseen. \nValitse ilmoittautumisen yhteydessä\, osallistutko yhteispäivällisiin ja ilmoita tarvittaessa mahdollinen erityisruokavaliosi. \nTarkempi retkiohjelma lähetetään ilmoittautuneille lähempänä retkeä. \nRetki on vain Tringan jäsenille. Retkeläisillä on retken ajan BirdLifen tapaturmavakuutus\, Vakuutus ei kata varusteille aiheutuneita vahinkoja\, matkavakuutus onkin suotava. \n  \nRetki saattaa peruuntua lyhyelläkin varoitusajalla. Retkimaksu palautetaan kokonaisuudessaan\, mikäli retki peruuntuu. \nRetkiaika: Lähtö Korppoosta Galtbyn satamasta perjantaina 20.5. klo 10 lähtevällä laivalla.  Kökarissa ollaan klo 12.30. Paluu Kökarista maanantaina 23.5. klo 18.30 lähtevällä laivalla\, joka on Galtbyssa noin klo 21. \nRetken hinta: 425 e 2 hh:ssa majoittuvilta\, 550 e 1 hh:ssa majoittuvilta. Lisäksi tulevat matkakulut. Retkimaksu sisältää opastuksen\, oppaan kulut\, majoituksen hotellitason huoneessa\, aamiaisen lauantaina\, sunnuntaina ja maanantaina\, päivällisen perjantaina\, lauantaina ja sunnuntaina. Voit varata retken myös ilman päivällisiä\, jolloin retkihinta 2 hh:ssa majoittuvalta on 350 e\, 1 hh:ssa majoittuvalta 475 e. \nRetken varausmaksu 30 e maksetaan Tringan retkitilille FI0215723000351585 kolmen päivän kuluessa ilmoittautumisesta. Kirjoita maksun viestikenttään “Kökar 2022 varausmaksu” ja nimesi. Jos maksat samalla kertaa toisenkin osallistujan retkimaksun\, kirjoita maksun viestikenttään molempien osallistujien nimet. Loppumaksu maksetaan samalle retkitilille viimeistään 3.5.2022. Kirjoita maksun viestikenttään “Kökar 2022 loppumaksu!”. Retki-ilmoittautuminen on sitova\, kun loppumaksu on maksettu. 3.5. jälkeen tulleesta peruutuksesta retkimaksua ei palauteta täysimääräisenä ellei retkelle saada mahdollisesta jonosta toista lähtijää tilalle. \nOppaana: Suvi Riihiluoma (Turun lintutieteellisen puheenjohtaja) \nIlmoittautuminen: viimeistään 3.5. oheisen linkin kautta: \nhttps://birdlife-lv.creamailer.fi/survey/c6aubcbvmxcgi \nJos retki on täyteen varattu\, kun yrität ilmoittautua\, voit ilmoittautua jonoon. \nTiedustelut ja jonoon ilmoittautuminen: opastukset@tringa.fi
URL:https://tringa.fi/tapahtuma/kevatretki-kokariin/
LOCATION:Galtby\, Korppoo\, Galtbyn satama\, Parainen/Korppoo\, Finland
CATEGORIES:Retket
END:VEVENT
END:VCALENDAR