BEGIN:VCALENDAR
VERSION:2.0
PRODID:-//Uudenmaan lintuharrastajien oma yhdistys - ECPv6.15.20//NONSGML v1.0//EN
CALSCALE:GREGORIAN
METHOD:PUBLISH
X-ORIGINAL-URL:https://tringa.fi
X-WR-CALDESC:Events for Uudenmaan lintuharrastajien oma yhdistys
REFRESH-INTERVAL;VALUE=DURATION:PT1H
X-Robots-Tag:noindex
X-PUBLISHED-TTL:PT1H
BEGIN:VTIMEZONE
TZID:Europe/Helsinki
BEGIN:DAYLIGHT
TZOFFSETFROM:+0200
TZOFFSETTO:+0300
TZNAME:EEST
DTSTART:20220327T010000
END:DAYLIGHT
BEGIN:STANDARD
TZOFFSETFROM:+0300
TZOFFSETTO:+0200
TZNAME:EET
DTSTART:20221030T010000
END:STANDARD
BEGIN:DAYLIGHT
TZOFFSETFROM:+0200
TZOFFSETTO:+0300
TZNAME:EEST
DTSTART:20230326T010000
END:DAYLIGHT
BEGIN:STANDARD
TZOFFSETFROM:+0300
TZOFFSETTO:+0200
TZNAME:EET
DTSTART:20231029T010000
END:STANDARD
BEGIN:DAYLIGHT
TZOFFSETFROM:+0200
TZOFFSETTO:+0300
TZNAME:EEST
DTSTART:20240331T010000
END:DAYLIGHT
BEGIN:STANDARD
TZOFFSETFROM:+0300
TZOFFSETTO:+0200
TZNAME:EET
DTSTART:20241027T010000
END:STANDARD
END:VTIMEZONE
BEGIN:VTIMEZONE
TZID:UTC
BEGIN:STANDARD
TZOFFSETFROM:+0000
TZOFFSETTO:+0000
TZNAME:UTC
DTSTART:20220101T000000
END:STANDARD
END:VTIMEZONE
BEGIN:VEVENT
DTSTART;TZID=Europe/Helsinki:20230205T100000
DTEND;TZID=Europe/Helsinki:20230205T120000
DTSTAMP:20260420T032617
CREATED:20230108T184617Z
LAST-MODIFIED:20230116T185053Z
UID:20228-1675591200-1675598400@tringa.fi
SUMMARY:Pornaistenniemen talviretki
DESCRIPTION:Vähän aamu-unisemmillekin soveltuvalla Pornaistenniemen retkellä kuljetaan hyvin leppoisaa vauhtia polkua pitkin metsikössä ja kuljetaan pikku matka myös Lammassaaren pitkospuita ensimmäiselle katselutasanteelle. Retki soveltuu etenkin lintuharrastuksen vasta-alkajille. Opetellaan tunnistamaan tavallisia talvilintujamme. Maksimiosallistujamäärä 10.\n\nRetkelle tulee ilmoittautua. Muistathan perua ilmoittautumisesi ellet pääsekään retkelle. \n\nKatso retkitiedot tapahtumakalenterista vielä retkeä edeltävänä iltana mahdollisten viime hetken muutosten varalta.  \nKenelle: Retki on vain tringalaisille \nRetkimaksu: 10 € \nOppaana: Julia Palorinne \nRetken lähtö: Klo 10\, Vanhakaupunki\, Jokisuuntien eteläpää\, Design-koirapuiston kulmaus. \nLähin bussipysäkki Hämeentien Annalantien pysäkki. \nLähtöpaikan karttalinkki \nRetken päättyminen: Noin klo 12\, sama paikka \nIlmoittautuminen: viimeistään 3.2.2023 seuraavan linkin kautta \n\nhttps://tringa.tapahtumiin.fi/fi/events/e/pornaistenniemen-talvikavely/63bb0d1ec7d2e043338b4569 \nRetken peruutus: opastukset@tringa.fi. Max 10 € retkimaksua ei palauteta. \nIlmoittautuminen jonoon: Mikäli retki on varattu täyteen ja haluat ilmoittautua jonoon\, lähetä sähköposti: opastukset@tringa.fi \n\nTiedustelut:opastukset@tringa.fi
URL:https://tringa.fi/tapahtuma/pornaistenniemen-talviretki/
CATEGORIES:Retket
END:VEVENT
BEGIN:VEVENT
DTSTART;TZID=Europe/Helsinki:20230211T090000
DTEND;TZID=Europe/Helsinki:20230211T120000
DTSTAMP:20260420T032617
CREATED:20221125T121357Z
LAST-MODIFIED:20221125T121520Z
UID:19410-1676106000-1676116800@tringa.fi
SUMMARY:Vuosaaren talviruokinnat -kävely
DESCRIPTION:Kävelyretki Vuosaaren Porslahdessa talviruokintoja huomaavaisesti havainnoiden ja ruderaattien linnustoa tarkkaillen. Kävelyretki kestää kahdesta kolmeen tuntia. Kävelyä kertyy noin 5 km. \nRetkelle tulee ilmoittautua (Ks. linkki alempana). Muistathan perua ilmoittautumisesi ellet pääsekään retkelle. \nKatso retkitiedot tapahtumakalenterista vielä retkeä edeltävänä päivänä mahdollisten viime hetken muutosten varalta. Retki saatetaan joutua perumaan lyhyellä varoitusajalla. Ethän osallistu retkelle sairaana tai oireisena. \nKenelle: Retki on avoin kaikille \nOppaana: Mikko Salonen \nLähtöpaikka: Omenamäenkatu 1 (Päiväkoti Omenapuiston vieressä sijaitseva ”Oskun ruokinta”) \nRetkiaika: Lähtö klo 9\, paluu klo 11-12 \nIlmoittautuminen: viimeistään 10.2. klo 16 seuraavan linkin kautta: \nhttps://birdlife-lv.creamailer.fi/survey/iljvfioe89gvo \nTiedustelut: opastukset@tringa.fi
URL:https://tringa.fi/tapahtuma/vuosaaren-talviruokinnat-kavely/
CATEGORIES:Retket
END:VEVENT
BEGIN:VEVENT
DTSTART;TZID=Europe/Helsinki:20230211T090000
DTEND;TZID=Europe/Helsinki:20230211T120000
DTSTAMP:20260420T032617
CREATED:20230109T173655Z
LAST-MODIFIED:20230109T174046Z
UID:20234-1676106000-1676116800@tringa.fi
SUMMARY:Viikin kävelyretki
DESCRIPTION:Helmikuussa alkaa jo olla aavistus kevään tuntua\, valon määrä lisääntyy. Talvehtivat linnut varaavat jo pesäpaikkoja. Kuusitiainen pitää konserttia kuusen latvassa. Kävelyretken reitti määräytyy sään ja lintutilanteen mukaan. Kävelyä kertyy muutama kilometri\, kävelyteitä ja polkuja.\n\nRetkelle tulee ilmoittautua. Muistathan perua ilmoittautumisesi ellet pääsekään retkelle. \n\nKatso retkitiedot tapahtumakalenterista vielä retkeä edeltävänä iltana mahdollisten viime hetken muutosten varalta.  \nKenelle: Retki on avoin kaikille \nRetkimaksu: Maksuton \nOppaana: Julia Palorinne \nRetken lähtö: Klo 9\, Viikki\, Koetilantie 1\, Lintuvarusteen edusta \nRetken päättyminen: Noin klo 12\, sama paikka \nIlmoittautuminen: viimeistään 9.2.2023 klo 16 seuraavan linkin kautta \n\n\nhttps://birdlife-lv.creamailer.fi/survey/m0rn4aqrgnf9z \nTiedustelut: opastukset@tringa.fi \n\n 
URL:https://tringa.fi/tapahtuma/viikin-kavelyretki-2/
CATEGORIES:Retket
END:VEVENT
BEGIN:VEVENT
DTSTART;TZID=Europe/Helsinki:20230214T080000
DTEND;TZID=Europe/Helsinki:20230214T170000
DTSTAMP:20260420T032617
CREATED:20230214T152834Z
LAST-MODIFIED:20230214T152834Z
UID:20819-1676361600-1676394000@tringa.fi
SUMMARY:
DESCRIPTION:Retki on tarkoitettu luontovalokuvauksesta kiinnostuneille aloittelijoille. Ammattivalokuvaaja\, saaristo-opas Tommi Heinonen kertoo lintuvalokuvauksen perusasioita ja vinkkejä parempiin lintukuviin. Käytännön harjoittelua. Valokuvausreitti kulkee Suomenojan altaan ympäri esteetöntä 1\,7 km pituista kävelytietä. Oma kamera ja muut tarvikkeet mukaan. \nKatso retkitiedot tapahtumakalenterista vielä retkeä edeltävänä iltana mahdollisten viime hetken muutosten varalta. \n  \nKenelle: Retki on vain Tringan jäsenille. \nOppaana: Valokuvaaja\, saaristo-opas Tommi Heinonen \nRetkimaksu: Tringan jäsen 20 e. \nRetken lähtö klo 17.30 Suomenojan lintualtaan pysäköintialue\, Hyljeluodontie 6 (liikenneympyrästä opasteen mukaan) \nLähtöpaikka kartalla \nRetken paluu noin klo 20\, sama paikka \nIlmoittautuminen ja retkimaksu 20 € viimeistään 8.5. seuraavan linkin kautta: \nhttps://tringa.tapahtumiin.fi/fi/events/e/suomenojan-valokuvausvinkkiretki/63eba7f68dfb8ade298b4570 \nIlmoittautumisen peruminen: Lähetä peruutuksesta sähköposti: opastukset@tringa.fi \nMikäli perut osallistumisesi viimeistään 8.5. sinulle palautetaan maksamasi retkimaksu – (miinus) 10 euroa. \nMikäli perut osallistumisesi 9.5. tai sen jälkeen tai et tule retkelle\, jolle olet ilmoittautunut\, retkimaksua ei palauteta. \nIlmoittautuminen jonoon: Mikäli retki on varattu täyteen ja haluat ilmoittautua jonoon\, lähetä sähköposti: opastukset@tringa.fi \nTiedustelut: opastukset@tringa.fi \n 
URL:https://tringa.fi/tapahtuma/20819/
CATEGORIES:Retket
END:VEVENT
BEGIN:VEVENT
DTSTART;TZID=UTC:20230219T090000
DTEND;TZID=UTC:20230219T130000
DTSTAMP:20260420T032617
CREATED:20221108T051819Z
LAST-MODIFIED:20230218T140404Z
UID:19335-1676797200-1676811600@tringa.fi
SUMMARY:Talvilinturetki Fastholmaan ja Kivinokkaan 2 SIIRTYNYT LAUANTAILTA 18.2.
DESCRIPTION:Leppoisalla kävelyretkellä tutustutaan Vanhankaupunginlahden talvilinnustoon Fastholmassa ja Kivinokassa.  Retkellä tarkkaillaan ruokintapaikkojen lintuja ja etsitään tikkoja Kivinokan vanhasta metsästä. Leutona talvena voi reitin varren ruovikoikoista löytää myös viiksitimaleja. Lopullinen reitti määräytyy sään ja lintutilanteen mukaan.\n\nKävelyä kertyy muutama kilometri\, joista valtaosa hyväkuntoisia kävelyteitä. Kivinokalla ja tarvittaessa muuallakin liikutaan myös maastossa. Retki ei sovellu liikuntaesteisille.\n\nRetkelle tulee ilmoittautua. Muistathan perua ilmoittautumisesi ellet pääsekään retkelle. Ethän osallistu retkelle sairaana tai flunssaoireisena.\n\nKatso retkitiedot tapahtumakalenterista vielä retkeä edeltävänä iltana mahdollisten viime hetken muutosten varalta. \nPÄIVITYS 17.2.  \nALUNPERIN 18.2. OLLUT RETKI ON SIIRTYNYT SUNNUNTAILLE. RETKELLE ILMOITTAUTUNUT\, SINUN EI TARVITSE ILMOITTAUTUA UUDELLEEN EIKÄ ILMOITTAA MIKÄLI ET PÄÄSE OSALLISTUMAAN SUNNUNTAINA. \nKenelle: Retki on avoin kaikille \nRetkimaksu: Maksuton \nOppaana: Aapo Salmela \nRetken lähtö: Herttoniemen urheilupuiston parkkipaikka (Siilitie 12) klo 9.00 \nRetken päättyminen: Retken kesto 3-4 tuntia\, lopetus Herttoniemen metroaseman läheisyyteen (josta mahdollisuus jatkaa vielä kävellen takaisin aloituspisteeseen). \n\nLähtöpaikka kartalla \n\nIlmoittautuminen: viimeistään 16.2.2023 klo 16  seuraavan linkin kautta \n\nhttps://birdlife-lv.creamailer.fi/survey/7llhcprzjzeli \n\nTiedustelut: opastukset@tringa.fi
URL:https://tringa.fi/tapahtuma/talvilinturetki-fastholmaan-ja-kivinokkaan-2/
CATEGORIES:Retket
END:VEVENT
BEGIN:VEVENT
DTSTART;TZID=Europe/Helsinki:20230219T100000
DTEND;TZID=Europe/Helsinki:20230219T120000
DTSTAMP:20260420T032617
CREATED:20230215T073431Z
LAST-MODIFIED:20230218T194559Z
UID:20865-1676800800-1676808000@tringa.fi
SUMMARY:Tringan lasten linturetki Katrinebergin kartanolla
DESCRIPTION:Hiihtolomaviikon alkajaisiksi Tringa järjestää lasten linturetken Vantaalla\, Katrinebergin kartanolla (Katriinankuja 5\, 01760 Vantaa) sunnuntaina 19. helmikuuta klo 10 – 12. \n[Huom! Retki on peruttu vähäisten ilmoittautumisten vuoksi] \nKoko perheen tapahtumassa katsellaan kartanomaiseman talvilintuja\, kävellään ja tutustutaan lähiluontoon. Leikitään ehkä reipas lintuleikki. Kartanolla on mahdollisuus käydä WC:ssä ja syömässä eväitä. \nRetkelle on vapaa pääsy\, ennakkoilmoittautuminen la 18.2. klo 21 mennessä: Ilmoittautuminen Tringan lasten retkelle (klikkaa tästä) \nLisätiedot pääoppaalta\, Juha Lindy: jsplindy@gmail.com
URL:https://tringa.fi/tapahtuma/tringan-lasten-linturetki-katrinebergin-kartanolla/
LOCATION:Katrinebergin kartano\, Katriinankuja 5\, vantaa\, 01760\, Suomi
CATEGORIES:Lasten ja nuorten tapahtumat,Retket
END:VEVENT
BEGIN:VEVENT
DTSTART;TZID=Europe/Helsinki:20230225T100000
DTEND;TZID=Europe/Helsinki:20230225T130000
DTSTAMP:20260420T032617
CREATED:20221125T124146Z
LAST-MODIFIED:20221125T124307Z
UID:19416-1677319200-1677330000@tringa.fi
SUMMARY:Mellunmäestä Myllypuroon -kävelyretki
DESCRIPTION:Mitä talvilintuja löytyy itäisestä Helsingistä? Linnut löytävät talvella tiensä asutusten ääreen. Ruokinnat\, sulat ojat\, puistot ja ruderaatit ovat yllättävän monipuolisia linnustoltaan verrattuna vaikka talviseen metsään. Kävelyä kertyy noin 5 km. \nRetkelle tulee ilmoittautua (Ks. linkki alempana). Muistathan perua ilmoittautumisesi ellet pääsekään retkelle. Ethän osallistu retkelle sairaana tai flunssaoireisena. \nKatso retkitiedot tapahtumakalenterista vielä retkeä edeltävänä iltana mahdollisten viime hetken muutosten varalta.  \nKenelle: Retki on avoin kaikille \nRetkimaksu: Maksuton \nOppaana: Mikko Salonen \nRetken lähtö: Mellunmäen metroasema\, K-Marketin puoli klo 10. \nRetken päättyminen: Myllypuron metroasema viimeistään klo 13 \nIlmoittautuminen: viimeistään 24.2. klo 16 seuraavan linkin kautta \nhttps://birdlife-lv.creamailer.fi/survey/9anqa8r2clwmg \n  \nTiedustelut: opastukset@tringa.fi
URL:https://tringa.fi/tapahtuma/mellunmaesta-myllypuroon-kavelyretki/
CATEGORIES:Retket
END:VEVENT
BEGIN:VEVENT
DTSTART;TZID=UTC:20230226T110000
DTEND;TZID=UTC:20230226T140000
DTSTAMP:20260420T032617
CREATED:20221122T174320Z
LAST-MODIFIED:20221122T174320Z
UID:19388-1677409200-1677420000@tringa.fi
SUMMARY:Lauttasaaren retki
DESCRIPTION:Lauttasaaren retkellä kuljetaan noin 3 kilometrin taival Koivusaaren metroasemalta Vattuniemeen. Joko linnustossa havaitaan lähestyvän kevään merkkejä? Laulavatko mustarastas tai tiaiset? Kailottavatko lokit? Onko meri sula vai jäässä? Lähde mukaan havainnoimaan. \nRetkelle tulee ilmoittautua. Muistathan perua ilmoittautumisesi ellet pääsekään retkelle. Ethän osallistu retkelle sairaana tai flunssaoireisena. \nKatso retkitiedot tapahtumakalenterista vielä retkeä edeltävänä iltana mahdollisten viime hetken muutosten varalta. \nKenelle: Retki on avoin kaikille \nRetkimaksu: Maksuton \nOppaana: Eero Haapanen \nRetken lähtö: Koivusaaren metroaseman ulko-oven edusta klo 11 \nRetken päättyminen: Retki päättyy noin klo 14 Vattuniemeen\, josta lyhyt matka bussipysäkille \nIlmoittautuminen: Viimeistään 24.2. klo 16 seuraavan linkin kautta \nhttps://birdlife-lv.creamailer.fi/survey/uxq6ewjalyfc6 \nTiedustelut: opastukset@tringa.fi
URL:https://tringa.fi/tapahtuma/lauttasaaren-retki/
CATEGORIES:Retket
END:VEVENT
END:VCALENDAR