BEGIN:VCALENDAR
VERSION:2.0
PRODID:-//Uudenmaan lintuharrastajien oma yhdistys - ECPv6.15.20//NONSGML v1.0//EN
CALSCALE:GREGORIAN
METHOD:PUBLISH
X-WR-CALNAME:Uudenmaan lintuharrastajien oma yhdistys
X-ORIGINAL-URL:https://tringa.fi
X-WR-CALDESC:Events for Uudenmaan lintuharrastajien oma yhdistys
REFRESH-INTERVAL;VALUE=DURATION:PT1H
X-Robots-Tag:noindex
X-PUBLISHED-TTL:PT1H
BEGIN:VTIMEZONE
TZID:UTC
BEGIN:STANDARD
TZOFFSETFROM:+0000
TZOFFSETTO:+0000
TZNAME:UTC
DTSTART:20210101T000000
END:STANDARD
END:VTIMEZONE
BEGIN:VEVENT
DTSTART;TZID=UTC:20221109T171500
DTEND;TZID=UTC:20221109T184500
DTSTAMP:20260419T224048
CREATED:20220816T130534Z
LAST-MODIFIED:20220819T024502Z
UID:18820-1668014100-1668019500@tringa.fi
SUMMARY:Retki Luonnontieteelliseen museoon 1
DESCRIPTION:Luonnontieteellisen museon (LUOMUS) eläintieteen yksikössä pidettävällä retkellä museo-opas Samuli Haapalainen kierrättää osallistujia museon eri näyttelyissä. Retkellä ihmetellään kaikenlaista lintuihin liittyvää\, kuten niiden anatomiaa\, ekologiaa ja evoluutiohistoriaa. Mukaan tulee myös historiaa ja tietoa Luomuksen toiminnasta ja tutkimuksesta lintujen parissa. \nKenelle: Retki on vain Tringan jäsenille. \nOppaana: Samuli Haapalainen \nRetkiaika: Opastus alkaa klo 17.15\, päättyy klo 18.45. Ole paikalla ajoissa\, jotta ehdit maksaa museon pääsymaksun \nLähtöpaikka: Luonnontieteellinen museo/Pohjoinen Rautatiekatu 13/museon ala-aula \nRetkimaksu ja ilmoittautuminen: Museon pääsymaksu (12€ aikuinen/5 e 7-17-v/Museokortti) + opastusmaksu 10 e. Kukin maksaa pääsymaksun itse museon vastaanotossa ennen opastuskierroksen alkua. Ilmoittautuminen ja opastusmaksu 10 e Evention verkkokaupan kautta seuraavasta linkistä: \nhttps://tringa.tapahtumiin.fi/fi/events/e/retki-luomukseen-1/62fbbfba11a09ca0518b4571 \nHUOM! Retkelle ei voi osallistua ilman ennakkoilmoittautumista tulemalla paikan päälle. \nTiedustelut: opastukset@tringa.fi
URL:https://tringa.fi/tapahtuma/retki-luonnontieteelliseen-museoon-1/
CATEGORIES:Retket
END:VEVENT
BEGIN:VEVENT
DTSTART;TZID=UTC:20221119T090000
DTEND;TZID=UTC:20221119T123000
DTSTAMP:20260419T224048
CREATED:20221018T035656Z
LAST-MODIFIED:20221018T035656Z
UID:19193-1668848400-1668861000@tringa.fi
SUMMARY:Kävelyretki Vanhankaupunginlahdelle
DESCRIPTION:Mitä kaikkia lintuja voi havaita marraskuisessa Helsingissä? Lähde opastetulle loppusyksyn kierrokselle ottamaan selvää! Retkellä kierretään kävellen Vanhankaupunginlahden itärannan lintupaikkoja (Fastholma\, Saunalahti\, Kivinokka) ja tutkitaan alueen linnustoa. Erilaisten vesi- ja metsälintujen lisäksi voidaan havaita esimerkiksi talvireviireilleen asettuneita tikkoja\, pähkinänakkeli tai ruovikoissa läpi vuoden asustavia viiksitimaleja.\n\nRetken reitti määräytyy lintutilanteen mukaan\, kävelyä kertyy 3-5 km. Osa matkasta kuljetaan polkujen ulkopuolella\, mikä kannattaa huomioida jalkinevalinnassa. Retki ei sovellu liikuntarajoitteisille.\n\n\nRetkelle tulee ilmoittautua. Muistathan perua ilmoittautumisesi ellet pääsekään retkelle. Ethän osallistu retkelle sairaana tai flunssaoireisena. \nKatso retkitiedot tapahtumakalenterista vielä retkeä edeltävänä iltana mahdollisten viime hetken muutosten varalta. Marraskuun säät ovat arvaamattomia. Jos keli on huono\, retki siirtyy sunnuntaille 20.11. \nKenelle: Retki on avoin kaikille \nRetkimaksu: Maksuton \nOppaana: Aapo Salmela \nRetken lähtö: Herttoniemen urheilupuiston parkkipaikka\, Siilitie 12\, klo 9.00 \nRetken paluu: Retki päättyy Herttoniemen metroaseman läheisyyteen (josta mahdollisuus jatkaa vielä kävellen takaisin aloituspisteeseen) viimeistään klo 12.30. \nIlmoittautuminen: viimeistään 18.11. klo 16 seuraavan linkin kautta: \nhttps://birdlife-lv.creamailer.fi/survey/cqfuzrkbsu4im \n  \nTiedustelut: opastukset@tringa.fi
URL:https://tringa.fi/tapahtuma/kavelyretki-vanhankaupunginlahdelle/
CATEGORIES:Retket
END:VEVENT
BEGIN:VEVENT
DTSTART;TZID=UTC:20221126T100000
DTEND;TZID=UTC:20221126T130000
DTSTAMP:20260419T224048
CREATED:20220718T144356Z
LAST-MODIFIED:20221124T104628Z
UID:18567-1669456800-1669467600@tringa.fi
SUMMARY:Retki Sipoonkorpeen
DESCRIPTION:Vuoden lopulla talvi on tuloillaan ja luonto hiljenee. Kävelyretkellä Sipoonkorven Fiskträskin-Bakunkärrin alueella tutustutaan talven lintuihin ja ihaillaan levolle vaipuvaa metsäluontoa. \nKävelyretki metsässä vaatii hyvät jalkineet ja säähän sopivat ulkoiluvaatteet. Retken pituus sään mukaan 2-3 tuntia\, kävelyä kertyy 4-7 kilometriä. \nRetkelle on pakollinen ilmoittautuminen.  Muistathan perua ilmoittautumisesi ellet pääsekään retkelle. Ethän osallistu retkelle sairaana tai flunssaoireisena. \nKatso retkitiedot tapahtumakalenterista vielä retkeä edeltävänä iltana mahdollisten viime hetken muutosten varalta.  \nKenelle: Retki on vain Tringan jäsenille \nRetkimaksu: Maksuton \nOppaana: Mikko Salonen \nLähtöpaikka: Knutersintie 421\, Sipoonkorven pysäköintialue \nRetkiaika: Lähtö klo 10. Paluu klo 12-13. \nIlmoittautuminen: viimeistään 25.11. klo 16 seuraavan linkin kautta \nhttps://birdlife-lv.creamailer.fi/survey/5gdpjv8de3lrm \nTiedustelut: opastukset@tringa.fi \n  \n 
URL:https://tringa.fi/tapahtuma/retki-sipoonkorpeen-2/
CATEGORIES:Retket
END:VEVENT
BEGIN:VEVENT
DTSTART;TZID=UTC:20221130T171500
DTEND;TZID=UTC:20221130T184500
DTSTAMP:20260419T224048
CREATED:20220816T131922Z
LAST-MODIFIED:20221129T154910Z
UID:18823-1669828500-1669833900@tringa.fi
SUMMARY:Retki Luonnontieteelliseen museoon 2
DESCRIPTION:Luonnontieteellisen museon (LUOMUS) eläintieteen yksikössä pidettävällä retkellä museo-opas Samuli Haapalainen kierrättää osallistujia museon eri näyttelyissä. Retkellä ihmetellään kaikenlaista lintuihin liittyvää\, kuten niiden anatomiaa\, ekologiaa ja evoluutiohistoriaa. Mukaan tulee myös historiaa ja tietoa Luomuksen toiminnasta ja tutkimuksesta lintujen parissa. \nKenelle: Retki on vain Tringan jäsenille. \nOppaana: Samuli Haapalainen \nRetkiaika: Opastus alkaa klo 17.15\, päättyy klo 18.45. Ole paikalla ajoissa\, jotta ehdit maksaa museon pääsymaksun \nLähtöpaikka: Luonnontieteellinen museo/Pohjoinen Rautatiekatu 13/museon ala-aula \nRetkimaksu ja ilmoittautuminen: Museon pääsymaksu (12e aikuinen/5 e 7-17-v/Museokortti) + opastusmaksu 10 e. Kukin maksaa pääsymaksun itse museon vastaanotossa ennen opastuskierroksen alkua. Ilmoittautuminen ja opastusmaksu 10 e Evention verkkokaupan kautta viimeistään 30.11. klo 10 seuraavasta linkistä: \nhttps://tringa.tapahtumiin.fi/fi/events/e/retki-luomusiin-2/62fbc2d51a1a5b20748b4573 \n  \nHUOM! Retkelle ei voi osallistua ilman ennakkoilmoittautumista tulemalla paikan päälle. \nTiedustelut: opastukset@tringa.fi
URL:https://tringa.fi/tapahtuma/retki-luonnontieteellisen-museoon-2/
CATEGORIES:Retket
END:VEVENT
END:VCALENDAR