BEGIN:VCALENDAR
VERSION:2.0
PRODID:-//Uudenmaan lintuharrastajien oma yhdistys - ECPv6.15.20//NONSGML v1.0//EN
CALSCALE:GREGORIAN
METHOD:PUBLISH
X-WR-CALNAME:Uudenmaan lintuharrastajien oma yhdistys
X-ORIGINAL-URL:https://tringa.fi
X-WR-CALDESC:Events for Uudenmaan lintuharrastajien oma yhdistys
REFRESH-INTERVAL;VALUE=DURATION:PT1H
X-Robots-Tag:noindex
X-PUBLISHED-TTL:PT1H
BEGIN:VTIMEZONE
TZID:UTC
BEGIN:STANDARD
TZOFFSETFROM:+0000
TZOFFSETTO:+0000
TZNAME:UTC
DTSTART:20210101T000000
END:STANDARD
END:VTIMEZONE
BEGIN:VEVENT
DTSTART;TZID=UTC:20220813T063000
DTEND;TZID=UTC:20220813T200000
DTSTAMP:20260419T182812
CREATED:20220627T115205Z
LAST-MODIFIED:20220627T115205Z
UID:16923-1660372200-1660420800@tringa.fi
SUMMARY:Yyterin kahlaajaretki
DESCRIPTION:Porin Yyteri on Suomen ykköskahlaajapaikka. Katseltavaa riittää koko päiväksi. Täällä jos missä pääsee tutustumaan sirrien\, viklojen\, kuirien ja kurmitsojen mitä moninaisimpaan pukujen kirjoon. Lisäksi väriä ja ääntä tuovat ristisorsat ja muut paikalliset erikoisuudet. Yyterin lietteiden lisäksi kierrellään muilla alueen lintupaikoilla olosuhteiden ja lintutilanteen mukaisesti. Kävelyä tulee max 7 km. Maasto on kuitenkin helppoa ja pääkohteeseen pääsee pitkospuita pitkin. Meno- ja paluumatkalla pysähdytään kahvilassa\, jossa voi myös täydentää eväitä. \nRetkitietoja päivitetään mm. vedenkorkeustiedoilla muutama päivä ennen retkeä. Vedenpinnan ollessa korkealla saappaat on hyvä jalkinevalinta. \nEthän osallistu retkelle sairaana tai flunssaoireisena. \nKatso retkitiedot tapahtumakalenterista vielä retkeä edeltävänä iltana mahdollisten viime hetken muutosten varalta. \nLue myös yleiset retkiohjeet: \n \nKenelle: Retki on vain Tringan jäsenille. \nOppaana: Aapo Salmela \nRetkimaksu: Tringan jäsen 55 e. Tringan jäsen/Alle 18-v./opiskelija/työtön 30 e.  Maksu sisältää opastuksen ja kuljetuksen tilausbussilla. \nLähtöpaikka: Kiasman matkailuliikenteen pysäkki\, Mannerheiminaukio 2 \nRetkiaika: Lähtö klo 6.30. Paluu Kiasmalle viimeistään klo 20. \nIlmoittautuminen ja retkimaksu: viimeistään 5.8. seuraavan linkin kautta: \nhttps://tringa.tapahtumiin.fi/fi/events/e/yyterin-kahlaajaretki-13-8/62988d601a1a5b5e2c8b4580 \n  \n  \nIlmoittautumisen peruminen: Lähetä peruutuksesta sähköposti: opastukset@tringa.fi \nMikäli perut osallistumisesi viimeistään 5.8.\, sinulle palautetaan maksamasi retkimaksu – (miinus) 5 euroa. \nMikäli perut osallistumisesi  viimeistään 9.8\, sinulle palautetaan retkimaksusta 50 %. \nMikäli perut osallistumisesi 9.8. jälkeen\,  tai et tule retkelle\, jolle olet ilmoittautunut\, retkimaksua ei palauteta. \nTiedustelut: aapo.salmelaÄTgmail.com
URL:https://tringa.fi/tapahtuma/yyterin-kahlaajaretki/
LOCATION:Kiasman matkailuliikenteen pysäkki\, Mannerheiminaukio 2\, Helsinki\, 00100\, Finland
CATEGORIES:Retket
END:VEVENT
BEGIN:VEVENT
DTSTART;TZID=UTC:20220820T070000
DTEND;TZID=UTC:20220820T100000
DTSTAMP:20260419T182812
CREATED:20220802T065540Z
LAST-MODIFIED:20220802T090257Z
UID:18604-1660978800-1660989600@tringa.fi
SUMMARY:Lintumessupäivän aamukävely Viikissä 1
DESCRIPTION:Retkellä vieraillaan Viikin ja Vanhankaupunginlahden lintupaikoilla. Retki aloitetaan Viikistä Lintuvarusteen edestä. Retkellä kuljetaan helppokulkuisia kävelyteitä ja polkuja peltojen kautta Purolahdelle\, Hakalaan ja lopuksi takaisin messualueelle. Reitillä noustaan lintutorniin. Kävelyä tulee noin 4 km.\n\n\nRetkelle on pakollinen ilmoittautuminen. Enimmäisosallistujamäärä 25.  Kävelyretkille ei ole jonotusjärjestelmää. Mikäli täyteen varatulle retkelle on peruutusten myötä vapautunut paikkoja\, niistä ilmoitetaan tapahtumakalenterissa retken tiedoissa. Muistathan perua ilmoittautumisesi ellet pääsekään retkelle. \nEthän osallistu retkelle sairaana tai flunssaoireisena. \nKatso retkitiedot tapahtumakalenterista vielä retkeä edeltävänä iltana mahdollisten viime hetken muutosten varalta. \nKenelle: Retki on avoin kaikille \nRetkimaksu: Maksuton \nOppaana: Nadja Weisshaupt \nLähtöpaikka: Viikki/Lintuvarusteen edusta\, Koetilantie 1 \nRetkiaika: Lähtö klo 7. Paluu messualueelle noin klo 10. \nIlmoittautuminen: alkaen 3.8. klo 12\,  viimeistään 19.8. klo 16 seuraavan linkin kautta \n  \n\nhttps://birdlife-lv.creamailer.fi/survey/htmvrg6had9nm \n\nTiedustelut: opastukset@tringa.fi
URL:https://tringa.fi/tapahtuma/lintumessupaivan-aamukavely-viikissa-1/
LOCATION:Viikki\, Lintuvarusteen edusta\, Koetilantie 1\, Helsinki\, Finland
CATEGORIES:Retket
END:VEVENT
BEGIN:VEVENT
DTSTART;TZID=UTC:20220820T080000
DTEND;TZID=UTC:20220820T103000
DTSTAMP:20260419T182812
CREATED:20220802T065913Z
LAST-MODIFIED:20220802T085858Z
UID:18610-1660982400-1660991400@tringa.fi
SUMMARY:Lintumessupäivän aamukävely Viikissä 2
DESCRIPTION:Retkellä vieraillaan Viikin ja Vanhankaupunginlahden lintupaikoilla. Retki aloitetaan Viikistä Lintuvarusteen edestä. Retkellään kuljetaan helppokulkuisia kävelyteitä ja polkuja peltojen kautta Vanhankaupunginlahden ääreen. Reitillä tulee kävelyä noin 4 km.\n\nRetkelle on pakollinen ilmoittautuminen. Kävelyretkille ei ole jonotusjärjestelmää. Mikäli täyteen varatulle retkelle on peruutusten myötä vapautunut paikkoja\, niistä ilmoitetaan tapahtumakalenterissa retken tiedoissa. Muistathan perua ilmoittautumisesi ellet pääsekään retkelle.\n\nEthän osallistu retkelle sairaana tai flunssaoireisena. \nKatso retkitiedot tapahtumakalenterista vielä retkeä edeltävänä iltana mahdollisten viime hetken muutosten varalta. \nKenelle: Retki on avoin kaikille \nRetkimaksu: Maksuton \nOppaana: Julia Palorinne \nLähtöpaikka: Viikki/Lintuvarusteen edusta/Koetilantie 1 \nRetkiaika: Lähtö klo 8. Paluu messualueelle noin klo 10.30 \nIlmoittautuminen: alkaen 3.8 klo 12\, viimeistään 19.8. klo 16 seuraavan linkin kautta \n\nhttps://birdlife-lv.creamailer.fi/survey/6ajfllvjoxkuh \n\nTiedustelut: opastukset@tringa.fi
URL:https://tringa.fi/tapahtuma/lintumessupaivan-aamukavely-viikkiin-2/
LOCATION:Viikki\, Lintuvarusteen edusta\, Koetilantie 1\, Helsinki\, Finland
CATEGORIES:Retket
END:VEVENT
BEGIN:VEVENT
DTSTART;TZID=UTC:20220823T173000
DTEND;TZID=UTC:20220823T193000
DTSTAMP:20260419T182812
CREATED:20220802T082053Z
LAST-MODIFIED:20220809T064108Z
UID:18628-1661275800-1661283000@tringa.fi
SUMMARY:Viikin tiistaikierros
DESCRIPTION:Retkellä käydään Viikin ja Vanhankaupunginlahden lintupaikoilla. Retki aloitetaan Viikistä Lintuvarusteen edestä. Kuljetaan helppokulkuisia kävelyteitä ja polkuja. Sadesäällä voi paikoin olla mutaista. Reitillä kävellään enintään 5 km.\n\n\nRetkelle on pakollinen ilmoittautuminen. Kävelyretkille ei ole jonotusjärjestelmää. Mikäli täyteen varatulle retkelle on peruutusten myötä vapautunut paikkoja\, niistä ilmoitetaan tapahtumakalenterissa retken tiedoissa. Muistathan perua ilmoittautumisesi ellet pääsekään retkelle. \nEthän osallistu retkelle sairaana tai flunssaoireisena. \nSäävaraus. Katso retkitiedot tapahtumakalenterista vielä retkeä edeltävänä iltana mahdollisten viime hetken muutosten varalta. \nKenelle: Retki on avoin kaikille \nRetkimaksu: Maksuton \nOppaana: Julia Palorinne \nLähtöpaikka: Viikki/Koetilantie 1/Lintuvarusteen edusta \nRetkiaika: Lähtö klo 17.30. Paluu klo 19.30 \nIlmoittautuminen: viimeistään 22.8. klo 16 seuraavan linkin kautta \n\n  \nhttps://birdlife-lv.creamailer.fi/survey/0lp3okzod2bwv \n\nTiedustelut: opastukset@tringa.fi \n\n  \n 
URL:https://tringa.fi/tapahtuma/viikin-tiistaikierros-8/
LOCATION:Viikki\, Lintuvarusteen edusta\, Koetilantie 1\, Helsinki\, Finland
CATEGORIES:Retket
END:VEVENT
BEGIN:VEVENT
DTSTART;TZID=UTC:20220827T160000
DTEND;TZID=UTC:20220827T190000
DTSTAMP:20260419T182812
CREATED:20220726T071537Z
LAST-MODIFIED:20220726T071537Z
UID:18549-1661616000-1661626800@tringa.fi
SUMMARY:Suomen luonnon päivän retki Talosaareen
DESCRIPTION:Retkellä kierretään Itä-Helsingin Talosaaressa metsäpolkuja ja kävelyteitä yhteensä noin 5 km:n lenkki. Havainnoidaan loppukesän lintuja. Läheisille merenlahdille kerääntyy loppukesällä vesilintuja ja kahlaajia. Retken päätteeksi Talosaaren Torpan piha-alueelle voi jäädä grillaamaan tai saunomaan. Helsingin luonnonsuojeluyhdistyksen torppaisäntä Mikko Niskasaari lämmittää saunan jos löytyy saunomishalukkuutta. Torpan alueelle voi jäädä myös yöpymään omassa teltassa tai riippumatossa luonnonpäivään liittyvän Nuku yö ulkona -tapahtuman puitteissa. Torpalta löytyy jääkaappi\, mikro\, vedenkeitin ja pihapiirissä on huussi. \nRetkelle on pakollinen ilmoittautuminen. Kävelyretkille ei ole jonotusjärjestelmää. Mikäli täyteen varatulle retkelle on peruutusten myötä vapautunut paikkoja\, niistä ilmoitetaan tapahtumakalenterissa retken tiedoissa. Muistathan perua ilmoittautumisesi ellet pääsekään retkelle. Ethän osallistu retkelle sairaana tai flunssaoireisena. \nKatso retkitiedot tapahtumakalenterista vielä retkeä edeltävänä iltana mahdollisten viime hetken muutosten varalta.  \nKenelle: Retki on avoin kaikille \nRetkimaksu: Maksuton \nOppaana: Paul Segersvärd \nLähtöpaikka: Talosaari\, Talosaarentie 283\, Husön ratsutilan pysäköintialue \nRetkiaika: Lähtö klo 16. Retki päättyy Talosaaren Torpalle noin klo 19. Torpalta paluu helppokulkuista reittiä oman aikataulun mukaan Husön ratsastuskeskuksen pysäköintipaikalle. Matkaa noin 1 km. \nIlmoittautuminen: viimeistään  26.8. klo 16 seuraavan linkin kautta \nhttps://birdlife-lv.creamailer.fi/survey/r9qqbrlsmku4b \nTiedustelut: opastukset@tringa.fi
URL:https://tringa.fi/tapahtuma/suomen-luonnon-paivan-retki-talosaareen/
CATEGORIES:Retket
END:VEVENT
BEGIN:VEVENT
DTSTART;TZID=UTC:20220828T100000
DTEND;TZID=UTC:20220828T120000
DTSTAMP:20260419T182812
CREATED:20220804T093014Z
LAST-MODIFIED:20220820T120906Z
UID:18707-1661680800-1661688000@tringa.fi
SUMMARY:Suomenojan kävelyretki - Espoo 50 vuotta kaupunkina
DESCRIPTION:Osana Espoo 50 vuotta kaupunkina -ohjelmistoa Tringa tarjoaa syksyisen lintukävelyn Suomenojan lintualtaalle. Suomenojan altaat ovat arvokas ja erikoislaatuinen luontokohde sekä kansainvälisesti tärkeä lintualue (IBA eli Important Bird Area). \nKosteikko tarjoaa monipuolisen ruovikkoisen elinympäristön useille pesiville ja muuttaville lintulajeille. Syksyllä monet sorsat viihtyivät altaalla ennen muuttoa. Suomenojalla sorsia pääsee katselemaan  läheltä. Muuton aikana alue on tärkeä levähdyspaikka monille muillekin linnuille ja aina voi nähdä yllättäviä läpimuuttajia. \nRauhallisella lintukävelyllä kierretään lintualtaan ympäri ja katsotaan alueen lintuja. Oppaat kertovat alueen monimuotoisesta luonnosta ja linnuista Espoon kehittyvässä kaupunginosassa. Reitti on noin 2 km kävelytietä\, mahdollisesti poiketaan myös meren rantaan. \nRetkelle on pakollinen ilmoittautuminen. Kävelyretkille ei ole jonotusjärjestelmää. Mikäli täyteen varatulle retkelle on peruutusten myötä vapautunut paikkoja\, niistä ilmoitetaan tapahtumakalenterissa retken tiedoissa. Muistathan perua ilmoittautumisesi ellet pääsekään retkelle. \nEthän osallistu retkelle sairaana tai oireisena. \nKenelle: Retki on avoin kaikille. Enimmäisosallistujamäärä on 30.  \nRetkimaksu: Maksuton \nOppaana: Nadja Weisshaupt\, Juha Lindy \nLähtöpaikka: Suomenojan lintualtaan P-paikka (Hyljeluodontie 6\, liikenneympyrästä opasteen mukaan). P-paikkojen määrä on rajoitettu\, vaihtoehtona pääsee busseilla 111\, 143\, 147 (Hyljeluodontie) ja metrolla Matinkylään. \nRetkiaika: Lähtö klo 10.00. Paluu klo 12. \nIlmoittautuminen:  viimeistään 27.8. seuraavan linkin kautta \nhttps://birdlife-lv.creamailer.fi/survey/c8gemmgazh8ts \nTiedustelut: opastukset@tringa.fi
URL:https://tringa.fi/tapahtuma/suomenojan-kavelyretki-espoo-50-vuotta-kaupunkina/
LOCATION:Suomenojan altaan pohjoinen parkkipaikka\, Hyljeluodontie\, Espoo\, Finland
CATEGORIES:Retket
END:VEVENT
BEGIN:VEVENT
DTSTART;TZID=UTC:20220828T113000
DTEND;TZID=UTC:20220828T133000
DTSTAMP:20260419T182812
CREATED:20220809T104005Z
LAST-MODIFIED:20220809T104157Z
UID:18751-1661686200-1661693400@tringa.fi
SUMMARY:Rastilan kävelyretki
DESCRIPTION:Retkellä kuljetaan lintuoppaan johdolla Rastilan kartanomiljöössä ja sen ympäristössä ja havainnoidaan loppukesän lintuja. Kävelyä kertyy muutama kilometri helppokulkuisia reittejä. Retki on osa Rastilan retkipäivää\, joka puolestaan liittyy Visit Vuosaari Weekend -tapahtumaviikonloppuun. \nhttps://myvuosaari.fi/tapahtumat/rastilan-retkipaeivae \n  \nRetkelle on pakollinen ilmoittautuminen. Mikäli täyteen varatulle retkelle on peruutusten myötä vapautunut paikkoja\, niistä ilmoitetaan tapahtumakalenterissa retken tiedoissa. Muistathan perua ilmoittautumisesi ellet pääsekään retkelle. Ethän osallistu retkelle sairaana tai flunssaoireisena. \nKatso retkitiedot tapahtumakalenterista vielä retkeä edeltävänä iltana mahdollisten viime hetken muutosten varalta.  \nKenelle: Retki on avoin kaikille \nRetkimaksu: Maksuton \nOppaana: Mikko Salonen \nLähtöpaikka: Vuosaari/ Karavaanitien länsipää/Rastilan kartanorakennuksen eteläpuoli \nRetkiaika: Lähtö klo 11.30. Paluu noin klo 13.30 \nIlmoittautuminen: viimeistään 27.8. klo 16 seuraavan linkin kautta \nhttps://birdlife-lv.creamailer.fi/survey/wixkmglbeovmu \nTiedustelut: opastukset@tringa.fi \n  \n 
URL:https://tringa.fi/tapahtuma/rastilan-kavelyretki/
CATEGORIES:Retket
END:VEVENT
BEGIN:VEVENT
DTSTART;TZID=UTC:20220830T173000
DTEND;TZID=UTC:20220830T193000
DTSTAMP:20260419T182812
CREATED:20220802T082716Z
LAST-MODIFIED:20220802T083431Z
UID:18630-1661880600-1661887800@tringa.fi
SUMMARY:Viikin tiistaikierros
DESCRIPTION:Retkellä käydään Viikin ja Vanhankaupunginlahden lintupaikoilla. Retki aloitetaan Viikistä Lintuvarusteen edestä. Kuljetaan helppokulkuisia kävelyteitä ja polkuja. Sadesäällä voi paikoin olla mutaista. Reitillä kävellään enintään 5 km.\n\n\nRetkelle on pakollinen ilmoittautuminen. Kävelyretkille ei ole jonotusjärjestelmää. Mikäli täyteen varatulle retkelle on peruutusten myötä vapautunut paikkoja\, niistä ilmoitetaan tapahtumakalenterissa retken tiedoissa. Muistathan perua ilmoittautumisesi ellet pääsekään retkelle. \nEthän osallistu retkelle sairaana tai flunssaoireisena. \nSäävaraus. Katso retkitiedot tapahtumakalenterista vielä retkeä edeltävänä iltana mahdollisten viime hetken muutosten varalta. \nKenelle: Retki on avoin kaikille \nRetkimaksu: Maksuton \nOppaana: Julia Palorinne \nLähtöpaikka: Viikki/Koetilantie 1/Lintuvarusteen edusta \nRetkiaika: Lähtö klo 17.30. Paluu klo 19.30 \nIlmoittautuminen: viimeistään 29.8. klo 16 seuraavan linkin kautta \n\n  \nhttps://birdlife-lv.creamailer.fi/survey/sfmgti8hmwkh0 \n\nTiedustelut: opastukset@tringa.fi
URL:https://tringa.fi/tapahtuma/viikin-tiistaikierros-9/
LOCATION:Viikki\, Lintuvarusteen edusta\, Koetilantie 1\, Helsinki\, Finland
CATEGORIES:Retket
END:VEVENT
END:VCALENDAR