BEGIN:VCALENDAR
VERSION:2.0
PRODID:-//Uudenmaan lintuharrastajien oma yhdistys - ECPv6.15.20//NONSGML v1.0//EN
CALSCALE:GREGORIAN
METHOD:PUBLISH
X-WR-CALNAME:Uudenmaan lintuharrastajien oma yhdistys
X-ORIGINAL-URL:https://tringa.fi
X-WR-CALDESC:Events for Uudenmaan lintuharrastajien oma yhdistys
REFRESH-INTERVAL;VALUE=DURATION:PT1H
X-Robots-Tag:noindex
X-PUBLISHED-TTL:PT1H
BEGIN:VTIMEZONE
TZID:UTC
BEGIN:STANDARD
TZOFFSETFROM:+0000
TZOFFSETTO:+0000
TZNAME:UTC
DTSTART:20210101T000000
END:STANDARD
END:VTIMEZONE
BEGIN:VEVENT
DTSTART;VALUE=DATE:20220422
DTEND;VALUE=DATE:20220425
DTSTAMP:20260421T141852
CREATED:20220412T071238Z
LAST-MODIFIED:20220412T071238Z
UID:4280-1650585600-1650844799@tringa.fi
SUMMARY:Tyttöjen retki Hangon lintuasemalle 22.-24.4.
DESCRIPTION:Hei\, oletko noin 12-25-vuotias linnuista kiinnostunut tyttö? Tringan lasten ja nuorten toimikunta Juv järjestää maksuttoman tutustumisretken Hangon lintuasemalle. Retkelle mahtuu mukaan neljä nuorta\, etusijalla ovat ne\, jotka eivät ole aikaisemmin käyneet lintuasemalla. Tällä retkellä tutustutaan lintuaseman toimintaan: seurataan ja havainnoidaan lintuja ja niiden muuttoa\, lasketaan aamuvakio\, osallistutaan aseman iltahuutoon jne. Oppaana on Ina Tirri\, jonka matkassa päästään seuraamaan myös lintujen rengastusta. Lähtö on perjantaina iltapäivällä Helsingistä ja paluu sunnuntaina alkuillasta. \nRetki on maksuton. Tiedustelut ja ilmoittautuminen Hanna Mensoselle: mensonha@gmail.com tai 044 3266897. Ilmoittautumiset 7.4. mennessä. \nTäältä pääset katsomaan edellisen retken tunnelmia: Nuorten linturetki Hangon lintuasemalle 12.-14.4.2019
URL:https://tringa.fi/tapahtuma/tyttojen-retki-hangon-lintuasemalle-22-24-4/
LOCATION:Hangon lintuasema\, Tulliniemi\, Hanko\, Finland
CATEGORIES:Lasten ja nuorten tapahtumat,Nuorten linturyhmä,Retket
END:VEVENT
END:VCALENDAR