BEGIN:VCALENDAR
VERSION:2.0
PRODID:-//Uudenmaan lintuharrastajien oma yhdistys - ECPv6.15.20//NONSGML v1.0//EN
CALSCALE:GREGORIAN
METHOD:PUBLISH
X-ORIGINAL-URL:https://tringa.fi
X-WR-CALDESC:Events for Uudenmaan lintuharrastajien oma yhdistys
REFRESH-INTERVAL;VALUE=DURATION:PT1H
X-Robots-Tag:noindex
X-PUBLISHED-TTL:PT1H
BEGIN:VTIMEZONE
TZID:UTC
BEGIN:STANDARD
TZOFFSETFROM:+0000
TZOFFSETTO:+0000
TZNAME:UTC
DTSTART:20210101T000000
END:STANDARD
END:VTIMEZONE
BEGIN:VEVENT
DTSTART;VALUE=DATE:20220401
DTEND;VALUE=DATE:20220404
DTSTAMP:20260421T142008
CREATED:20220612T103103Z
LAST-MODIFIED:20220612T103103Z
UID:16663-1648771200-1649030399@tringa.fi
SUMMARY:TÄYNNÄ Nuorten retki Hangon lintuasemalle
DESCRIPTION:Hei\, oletko nuori (n. 12-25-vuotias) ja linnuista kiinnostunut? Tringan lasten ja nuorten toimikunta Juv järjestää nuorille lintuharrastajille tutustumisretken Hangon lintuasemalle 1.-3.4. Retkelle mahtuu mukaan 5-6 nuorta. Etusijalla ovat ne\, jotka eivät ole aikaisemmin käyneet lintuasemalla. Tällä retkellä tutustutaan lintuaseman toimintaan: seurataan muuttoa\, lasketaan aamuvakio\, osallistutaan aseman iltahuutoon jne. Oppaina ovat nuoret Juho Tirkkonen ja Olli Keskikallio. Ollin johdolla päästään seuraamaan myös lintujen rengastusta. \nRetki on maksuton. Tiedustelut ja ilmoittautuminen 15.3. mennessä Ollille: o.a.keskikallio@gmail.com tai 045 1651128
URL:https://tringa.fi/tapahtuma/taynna-nuorten-retki-hangon-lintuasemalle/
LOCATION:Hangon lintuasema\, Tulliniemi\, Hanko\, Finland
CATEGORIES:Lasten ja nuorten tapahtumat,Nuorten linturyhmä,Retket
END:VEVENT
END:VCALENDAR