BEGIN:VCALENDAR
VERSION:2.0
PRODID:-//Uudenmaan lintuharrastajien oma yhdistys - ECPv6.15.20//NONSGML v1.0//EN
CALSCALE:GREGORIAN
METHOD:PUBLISH
X-ORIGINAL-URL:https://tringa.fi
X-WR-CALDESC:Events for Uudenmaan lintuharrastajien oma yhdistys
REFRESH-INTERVAL;VALUE=DURATION:PT1H
X-Robots-Tag:noindex
X-PUBLISHED-TTL:PT1H
BEGIN:VTIMEZONE
TZID:UTC
BEGIN:STANDARD
TZOFFSETFROM:+0000
TZOFFSETTO:+0000
TZNAME:UTC
DTSTART:20210101T000000
END:STANDARD
END:VTIMEZONE
BEGIN:VEVENT
DTSTART;VALUE=DATE:20220805
DTEND;VALUE=DATE:20220808
DTSTAMP:20260421T055726
CREATED:20220718T075846Z
LAST-MODIFIED:20220718T080540Z
UID:18560-1659657600-1659916799@tringa.fi
SUMMARY:Nuorten retki Hangon lintuasemalle
DESCRIPTION:Kiinnostaisiko kahlaajien täyteinen viikonloppuretki yhdelle Suomen parhaimmista lintuasemista? Oletko n. 12-25 vuotias innokas lintujen ystävä? Tervetuloa viikonlopun mittaiselle nuorten linturetkelle Hangon lintuasemalle! \nElokuun alku luo tuhansille kahlaajille\, hyönteissyöjille ja vesilinnuille syysmuuton alkutahdit. Muuttoa tähdittää erityisesti arktisten kahlaajien monipuoliset muuttoparvet\, joiden havaitsemiseen Haliaksella on loistavat mahdollisuudet. Lintuaseman läheisyydessä sijaitseva Gåun särkkä kerää hyvin muutolla levähtäviä kahlaajia ja rantalintuja. \nTällä Tringan retkellä osallistujat pääsevät tutustumaan lintuaseman arkeen\, niin muuton havainnoinnin kuin lintujen rengastuksenkin kautta. Päivät voivat olla pitkiä aikaisin sarastavan aamun takia\, mutta kokemukset tulevat olemaan sitäkin huikeampia! Lintuasemalle kuljetaan ja palataan takaisin yhdessä Helsingistä junalla. Lähtö perjantaina iltapäivällä ja takaisin tullaan sunnuntaina alkuillasta. Retken oppaana toimii Olli Keskikallio ja Juho Tirkkonen. Majoittuminen tapahtuu asemarakennuksessa ja/tai halutessaan aseman pihalla teltassa. \nRetki on osallistujille maksuton. Ilmoittautumiset viimeistään maanantaina 1.8.2022 sähköpostilla tai puhelinnumeroon\no.a.keskikallio@gmail.com / p.0451651128 .
URL:https://tringa.fi/tapahtuma/nuorten-retki-hangon-lintuasemalle/
LOCATION:Hangon lintuasema\, Tulliniemi\, Hanko\, Finland
CATEGORIES:Lasten ja nuorten tapahtumat,Nuorten linturyhmä
END:VEVENT
END:VCALENDAR