BEGIN:VCALENDAR
VERSION:2.0
PRODID:-//Uudenmaan lintuharrastajien oma yhdistys - ECPv6.15.20//NONSGML v1.0//EN
CALSCALE:GREGORIAN
METHOD:PUBLISH
X-ORIGINAL-URL:https://tringa.fi
X-WR-CALDESC:Events for Uudenmaan lintuharrastajien oma yhdistys
REFRESH-INTERVAL;VALUE=DURATION:PT1H
X-Robots-Tag:noindex
X-PUBLISHED-TTL:PT1H
BEGIN:VTIMEZONE
TZID:Europe/Helsinki
BEGIN:DAYLIGHT
TZOFFSETFROM:+0200
TZOFFSETTO:+0300
TZNAME:EEST
DTSTART:20220327T010000
END:DAYLIGHT
BEGIN:STANDARD
TZOFFSETFROM:+0300
TZOFFSETTO:+0200
TZNAME:EET
DTSTART:20221030T010000
END:STANDARD
BEGIN:DAYLIGHT
TZOFFSETFROM:+0200
TZOFFSETTO:+0300
TZNAME:EEST
DTSTART:20230326T010000
END:DAYLIGHT
BEGIN:STANDARD
TZOFFSETFROM:+0300
TZOFFSETTO:+0200
TZNAME:EET
DTSTART:20231029T010000
END:STANDARD
BEGIN:DAYLIGHT
TZOFFSETFROM:+0200
TZOFFSETTO:+0300
TZNAME:EEST
DTSTART:20240331T010000
END:DAYLIGHT
BEGIN:STANDARD
TZOFFSETFROM:+0300
TZOFFSETTO:+0200
TZNAME:EET
DTSTART:20241027T010000
END:STANDARD
END:VTIMEZONE
BEGIN:VEVENT
DTSTART;VALUE=DATE:20230819
DTEND;VALUE=DATE:20230820
DTSTAMP:20260423T152628
CREATED:20230211T120211Z
LAST-MODIFIED:20230815T090345Z
UID:20761-1692403200-1692489599@tringa.fi
SUMMARY:Lintumessut 2023 Helsingin Viikissä
DESCRIPTION:Lintumessut järjestetään Helsingin Viikissä la 19.8.\, jo kuudennen kerran! Ohjelmalavalla kuullaan esityksiä lintuharrastuksesta sekä lintujen suojelusta ja tutkimuksesta. Saliesityksissä nähdään kuvaesityksiä. Tringa järjestää päivän aikana opastettuja linturetkiä. Näytteilleasettajat esittelevät muun muassa lintuharrastusvälineitä ja linturetkikohteita. \nMessupaikka kartalla \nTringa järjestää messupäivän aikana opastettuja\, maksuttomia lintukävelyjä. Lähtöpaikka Hakalantien päästä kivinavetan edestä\, paitsi lasten perheretkille päiväkoti Sotkan edestä. Retkille ilmoittaudutaan Tringan messupöydällä ennen lähtöä. Noin 75 minuuttia kestävät kävelyretket alkavat: \n\n10.15 lapsi- ja perheretki\n10.30\n10.45\n11.00 rauhallinen\, lyhyen matkan kävely\n11.30\n12.00 lapsi- ja perheretki\n12.00 lintuharrastajan kehonhuolto – lintuoppaan lisäksi mukana fysioterapeutti\n12.30\n13.15\n14.00 uuttukyyhkyjen rengastus (mikäli pöntöissä on rengastusikäisiä poikasia)\n14.30–16.30 valokuvausretki – vinkit lintujen valokuvaamiseen\n14.45\n\nPäiväretkien lisäksi Tringa järjestää Viikin lintupaikoille kaksi opastettua aamuretkeä ennen messujen alkua. Näille ilmoittaudutaan etukäteen alla olevien linkkien kautta (ilmoittautuminen alkaa 1.8. ja päättyy 18.8. klo 16): \n\nklo 7–10 Viikin–Vanhankaupunginlahden kierros\nklo 8–10 kosteikkoretki Viikissä\n\nLintumessujen täydelliset ohjelmatiedot BirdLife Suomen verkkosivuilla: www.birdlife.fi/tapahtumat/lintumessut/
URL:https://tringa.fi/tapahtuma/lintumessut-paakaupunkiseudulla/
LOCATION:Gardenia\, Viikki\, Koetilantie 1\, Helsinki\, Suomi
CATEGORIES:Esitelmät,Muu tapahtuma,Retket
END:VEVENT
END:VCALENDAR