BEGIN:VCALENDAR
VERSION:2.0
PRODID:-//Uudenmaan lintuharrastajien oma yhdistys - ECPv6.15.20//NONSGML v1.0//EN
CALSCALE:GREGORIAN
METHOD:PUBLISH
X-WR-CALNAME:Uudenmaan lintuharrastajien oma yhdistys
X-ORIGINAL-URL:https://tringa.fi
X-WR-CALDESC:Events for Uudenmaan lintuharrastajien oma yhdistys
REFRESH-INTERVAL;VALUE=DURATION:PT1H
X-Robots-Tag:noindex
X-PUBLISHED-TTL:PT1H
BEGIN:VTIMEZONE
TZID:Europe/Helsinki
BEGIN:DAYLIGHT
TZOFFSETFROM:+0200
TZOFFSETTO:+0300
TZNAME:EEST
DTSTART:20220327T010000
END:DAYLIGHT
BEGIN:STANDARD
TZOFFSETFROM:+0300
TZOFFSETTO:+0200
TZNAME:EET
DTSTART:20221030T010000
END:STANDARD
BEGIN:DAYLIGHT
TZOFFSETFROM:+0200
TZOFFSETTO:+0300
TZNAME:EEST
DTSTART:20230326T010000
END:DAYLIGHT
BEGIN:STANDARD
TZOFFSETFROM:+0300
TZOFFSETTO:+0200
TZNAME:EET
DTSTART:20231029T010000
END:STANDARD
BEGIN:DAYLIGHT
TZOFFSETFROM:+0200
TZOFFSETTO:+0300
TZNAME:EEST
DTSTART:20240331T010000
END:DAYLIGHT
BEGIN:STANDARD
TZOFFSETFROM:+0300
TZOFFSETTO:+0200
TZNAME:EET
DTSTART:20241027T010000
END:STANDARD
END:VTIMEZONE
BEGIN:VEVENT
DTSTART;TZID=Europe/Helsinki:20230521T110000
DTEND;TZID=Europe/Helsinki:20230521T160000
DTSTAMP:20260423T201339
CREATED:20230502T230322Z
LAST-MODIFIED:20230502T230408Z
UID:21804-1684666800-1684684800@tringa.fi
SUMMARY:Porkkalan lintuviikon opaspäivystys Porkkalassa II
DESCRIPTION:Lintuopastus Porkkalanniemen lintupaikoilla sunnuntaina 21.5. klo 10-16 \nTervetuloa juttelemaan oppaidemme kanssa ja kurkistamaan kaukoputkeen Haahka-lavalle ja Lähteelän nuotiopaikalle! \nHaahka-lavalle on esteetön reitti Telegrafbergetin parkkipaikalta (Omsatuntie 77). Reittiohjeet luontoon.fi -sivustolta \nLähteelän tarkkailupaikka sijaitsee lähellä Lähteelän kahvilaa (Läntinen Källvikintie 143). Tarkkailupaikalle on helppokulkuinen reilun 1 km kävelymatka Lähteelän parkkipaikalta (Läntinen Källvikintie 10).
URL:https://tringa.fi/tapahtuma/porkkalan-lintuviikon-opaspaivystys-porkkalassa-2/
LOCATION:Porkkalanniemi\, Porkkalanniemi\, Kirkkonummi\, Finland
CATEGORIES:Muu opastus,Muu tapahtuma
END:VEVENT
END:VCALENDAR