BEGIN:VCALENDAR
VERSION:2.0
PRODID:-//Uudenmaan lintuharrastajien oma yhdistys - ECPv6.15.20//NONSGML v1.0//EN
CALSCALE:GREGORIAN
METHOD:PUBLISH
X-ORIGINAL-URL:https://tringa.fi
X-WR-CALDESC:Events for Uudenmaan lintuharrastajien oma yhdistys
REFRESH-INTERVAL;VALUE=DURATION:PT1H
X-Robots-Tag:noindex
X-PUBLISHED-TTL:PT1H
BEGIN:VTIMEZONE
TZID:Europe/Helsinki
BEGIN:DAYLIGHT
TZOFFSETFROM:+0200
TZOFFSETTO:+0300
TZNAME:EEST
DTSTART:20220327T010000
END:DAYLIGHT
BEGIN:STANDARD
TZOFFSETFROM:+0300
TZOFFSETTO:+0200
TZNAME:EET
DTSTART:20221030T010000
END:STANDARD
BEGIN:DAYLIGHT
TZOFFSETFROM:+0200
TZOFFSETTO:+0300
TZNAME:EEST
DTSTART:20230326T010000
END:DAYLIGHT
BEGIN:STANDARD
TZOFFSETFROM:+0300
TZOFFSETTO:+0200
TZNAME:EET
DTSTART:20231029T010000
END:STANDARD
BEGIN:DAYLIGHT
TZOFFSETFROM:+0200
TZOFFSETTO:+0300
TZNAME:EEST
DTSTART:20240331T010000
END:DAYLIGHT
BEGIN:STANDARD
TZOFFSETFROM:+0300
TZOFFSETTO:+0200
TZNAME:EET
DTSTART:20241027T010000
END:STANDARD
END:VTIMEZONE
BEGIN:VEVENT
DTSTART;TZID=Europe/Helsinki:20230520T110000
DTEND;TZID=Europe/Helsinki:20230520T140000
DTSTAMP:20260423T201712
CREATED:20230502T224337Z
LAST-MODIFIED:20230502T224548Z
UID:21785-1684580400-1684591200@tringa.fi
SUMMARY:Lasten lintu- ja luontotapahtuma Porkkalan kansakoululla
DESCRIPTION:Lasten lintu- ja luontotapahtuma Porkkalan vanhalla kansakoululla\nLuontoaiheista ohjelmaa lapsille Kirkkonummen Lähteelässä\, Porkkalan vanhalla kansakoululla. Paikalla on lintu- ja luonto-oppaita\, jotka ovat suunnitelleet perheille omatoimisesti läpikäytäviä rasteja. Rasteilla tutustutaan pihapiirin lintuihin\, ötököihin\, kasvillisuuteen ja alueen historiaan. Mahdollisuus nauttia omia eväitä tai Pinna Cafén tarjoiluja. \nKoululla on vain rajatusti parkkitilaa\, joten vieraiden toivotaan saapuvan jalan esimerkiksi Lähteelän parkkipaikalta. Paikalle järjestetään bussikuljetus Kirkkonummen keskustasta. Ilmoittaudu bussikuljetukseen täällä. \nAika: lauantai 20.5. klo 11.00-14.00 \nPaikka: Porkkalan vanha kansakoulu (Porkkalantie 1826\, Kirkkonummi) \nOsallistuminen: tilaisuus on kaikille avoin ja maksuton. Tapahtuman järjestävät Tringa\, Kirkkonummen ympäristöyhdistys ja Kirkkonummen kunta. \nLisätietoja: Porkkalan lintuviikko
URL:https://tringa.fi/tapahtuma/lasten-lintu-ja-luontotapahtuma-porkkalan-kansakoululla/
LOCATION:Porkkalan vanha kansakoulu\, Porkkalantie 1826\, Kirkkonummi\, 02480\, Suomi
CATEGORIES:Lasten ja nuorten tapahtumat,Muu opastus,Muu tapahtuma
END:VEVENT
END:VCALENDAR