BEGIN:VCALENDAR
VERSION:2.0
PRODID:-//Uudenmaan lintuharrastajien oma yhdistys - ECPv6.15.20//NONSGML v1.0//EN
CALSCALE:GREGORIAN
METHOD:PUBLISH
X-WR-CALNAME:Uudenmaan lintuharrastajien oma yhdistys
X-ORIGINAL-URL:https://tringa.fi
X-WR-CALDESC:Events for Uudenmaan lintuharrastajien oma yhdistys
REFRESH-INTERVAL;VALUE=DURATION:PT1H
X-Robots-Tag:noindex
X-PUBLISHED-TTL:PT1H
BEGIN:VTIMEZONE
TZID:UTC
BEGIN:STANDARD
TZOFFSETFROM:+0000
TZOFFSETTO:+0000
TZNAME:UTC
DTSTART:20210101T000000
END:STANDARD
END:VTIMEZONE
BEGIN:VEVENT
DTSTART;VALUE=DATE:20220729
DTEND;VALUE=DATE:20220801
DTSTAMP:20260424T141625
CREATED:20220702T193137Z
LAST-MODIFIED:20220702T193137Z
UID:16982-1659052800-1659311999@tringa.fi
SUMMARY:Haliaksen kesätalkoot
DESCRIPTION:Hangon lintuasemalla järjestetään perinteiset kesätalkoot heinäkuun viimeisenä viikonloppuna. Ilmoittautumiset ja tiedustelut suoraan lintuasemanhoitajille: halias(ät)halias.fi
URL:https://tringa.fi/tapahtuma/haliaksen-kesatalkoot/
LOCATION:Hangon lintuasema\, Tulliniemi\, Hanko\, Finland
CATEGORIES:Muu tapahtuma
ATTACH;FMTTYPE=image/jpeg:https://tringa.fi/wp-content/uploads/2022/07/Halias-Niittotalkoot-2008-AiL.jpg
END:VEVENT
END:VCALENDAR