BEGIN:VCALENDAR
VERSION:2.0
PRODID:-//Uudenmaan lintuharrastajien oma yhdistys - ECPv6.15.20//NONSGML v1.0//EN
CALSCALE:GREGORIAN
METHOD:PUBLISH
X-WR-CALNAME:Uudenmaan lintuharrastajien oma yhdistys
X-ORIGINAL-URL:https://tringa.fi
X-WR-CALDESC:Events for Uudenmaan lintuharrastajien oma yhdistys
REFRESH-INTERVAL;VALUE=DURATION:PT1H
X-Robots-Tag:noindex
X-PUBLISHED-TTL:PT1H
BEGIN:VTIMEZONE
TZID:Europe/Helsinki
BEGIN:DAYLIGHT
TZOFFSETFROM:+0200
TZOFFSETTO:+0300
TZNAME:EEST
DTSTART:20230326T010000
END:DAYLIGHT
BEGIN:STANDARD
TZOFFSETFROM:+0300
TZOFFSETTO:+0200
TZNAME:EET
DTSTART:20231029T010000
END:STANDARD
BEGIN:DAYLIGHT
TZOFFSETFROM:+0200
TZOFFSETTO:+0300
TZNAME:EEST
DTSTART:20240331T010000
END:DAYLIGHT
BEGIN:STANDARD
TZOFFSETFROM:+0300
TZOFFSETTO:+0200
TZNAME:EET
DTSTART:20241027T010000
END:STANDARD
BEGIN:DAYLIGHT
TZOFFSETFROM:+0200
TZOFFSETTO:+0300
TZNAME:EEST
DTSTART:20250330T010000
END:DAYLIGHT
BEGIN:STANDARD
TZOFFSETFROM:+0300
TZOFFSETTO:+0200
TZNAME:EET
DTSTART:20251026T010000
END:STANDARD
END:VTIMEZONE
BEGIN:VEVENT
DTSTART;VALUE=DATE:20240817
DTEND;VALUE=DATE:20240818
DTSTAMP:20260422T163131
CREATED:20240614T220137Z
LAST-MODIFIED:20240809T164037Z
UID:26545-1723852800-1723939199@tringa.fi
SUMMARY:Lintumessut Viikissä
DESCRIPTION:  \n  \n  \n  \nOpastetut lintukävelyt\nTringa järjestää messupäivän aikana maksuttomia lintukävelyjä\, joilla pääsee tutustumaan Viikin alueeseen ja lintuihin asiantuntevien oppauden seurassa. Retket ovat kaikille avoimia ja niille ilmoittaudutaan Tringan messupöydällä ennen lähtöä. Paikkoja on rajallisesti. \n\nklo 10.30–11.45\nklo 10.45–12.00\nklo 11.30–13.00 teemana kehonhuolto\nklo 11.45–13.00\nklo 12.00–14.00 teemana valokuvaus\nklo 12.15–13.30\nklo 12.30–13.30 lapsiperheille\nklo 12.30–13.45\nklo 13.00–14.15 teemana uuttukyyhkyjen rengastus\nklo 13.15–14.30\nklo 14.00–15.15 nuorten retki (alle 29-vuotiaat)\, huom: ei ilmoittautumista\nklo 14.15–15.30\n\nPäiväretkien lisäksi Tringa järjestää Viikin lintupaikoille kaksi opastettua aamuretkeä ennen messujen alkua. Näille ilmoittaudutaan etukäteen Tringan verkkosivuilta löytyvien linkkien kautta (ilmoittautuminen alkaa 4.8. ja päättyy 15.8.): \n\nklo 7–10 aamuretki Viikkiin ja Vanhankaupunginlahdelle\nklo 8–10 kosteikkoretki Viikissä\n\nLisätiedot retkistä: opastukset@tringa.fi\nLintumessujen koko ohjelman voi tarkastaa BirdLife Suomen verkkosivulta: birdlife.fi/tapahtumat/lintumessut/ \nKatso tästä kuvat ja tunnelmat vuoden 2023 lintumessuilta: tringa.fi/2023/08/22/lintumessut-veti-vakea-viikkiin/
URL:https://tringa.fi/tapahtuma/lintumessut-viikissa/
LOCATION:Gardenia\, Viikki\, Koetilantie 1\, Helsinki\, Suomi
CATEGORIES:Lasten ja nuorten tapahtumat,Muu opastus,Muu tapahtuma
END:VEVENT
BEGIN:VEVENT
DTSTART;VALUE=DATE:20240824
DTEND;VALUE=DATE:20240826
DTSTAMP:20260422T163131
CREATED:20240614T200827Z
LAST-MODIFIED:20240824T142117Z
UID:26536-1724457600-1724630399@tringa.fi
SUMMARY:Talkoot Vanhankaupunginlahdella
DESCRIPTION:Tringa järjestää niittotalkoot Helsingin Vanhankaupunginlahdella elokuun viimeisenä viikonloppuna 24. – 25.8.2024. Talkoissa ennallistetaan Vanhankaupunginlahden IBA-alueen rantaniittyjä ja parannetaan näin alueella pesivien ja ruokailevien lintujen elinympäristöä. Olet tervetullut mukaan! \nLauantaina 24.8. kokoontuminen aamulla klo 9 alkaen Hakalanniemen uudella lintulavalla. Paikalle voi saapua myöhemminkin päivän aikana — jokainen voi osallistua oman aikataulun ja jaksamisen mukaan. Hakalan lava toimii tukikohtana koko päivän ja lavalta näkee\, missä talkooporukka työskentelee. Talkoot päättyvät lauantaina noin klo 16. \nSunnuntaina 25.8. kokoontuminen klo 10 Purolahden lintulavalla (ei siis Purolahden lintuornilla\, vaan pohjoisemmalla lavalla). Talkoot päättyvät sunnuntaina työtilanteen mukaan klo 14-15 maissa. \nTalkoopaikalle on noin 25 minuutin kävelymatka Gardenian parkkipaikalta (Koetilantie 1)\, jonka lähistölle pääsee oman auton lisäksi myös julkisilla (esim. pikaratikka 15; bussit 78\, 57 jne). Fillarilla pääsee toki suoraan Hakalan lintulavalle asti. \nTringa tarjoaa talkoiden osallistujille työvälineet\, talkoovakuutuksen sekä pientä talkooevästä. Aikaisempi kokemus vastaavanlaisista talkoista ei ole välttämätöntä\, uudet talkoolaiset opastetaan töihin. \nIlmoittaudu mukaan oheisesta linkistä: Tringan talkooilmoittautuminen (klikkaa tästä). \nTarvittaessa ilmoittautumistietoja voi muokata (saman lomakkeen kautta) vielä ennen talkooviikonloppua. Ilmoittautuneille lähetetään sähköpostitse tarkempia talkoo-ohjeita. \nTiedustelut: toimisto(ät)tringa.fi \nHakalan rantaniittyä Hakalan uudelta katselulavalta kuvattuna. \n  \nLue raportti Vanhankaupunginlahden viime vuoden talkoista tästä: Vanhankaupunginlahden rantaniittyjä ennallistettiin Tringan talkoissa 2023 \n  \n  \n  \n  \n  \n 
URL:https://tringa.fi/tapahtuma/talkoot-vanhankaupunginlahdella/
LOCATION:Viikki\, Hakalan lintutorni\, Hakalanniemi\, Helsinki
CATEGORIES:Muu tapahtuma
END:VEVENT
BEGIN:VEVENT
DTSTART;TZID=Europe/Helsinki:20240829T180000
DTEND;TZID=Europe/Helsinki:20240829T200000
DTSTAMP:20260422T163131
CREATED:20240807T143555Z
LAST-MODIFIED:20240807T143555Z
UID:26838-1724954400-1724961600@tringa.fi
SUMMARY:Itämeripäivän lintuopastus Töölönlahdella
DESCRIPTION:Keskellä Helsinkiä sijaitseva Töölönlahti on mielenkiintoinen linturetkikohde ympäri vuoden. Talvisin lahdella ruokitaan vesilintuja\, ja sinisorsien joukossa talvehtii säännöllisesti myös harvalukuisempia talvivieraita. Keväällä ja syksyllä lahdella levähtää muuttavia vesilintuja\, kuten harmaasorsia. Kesällä lahdella pesivät muun muassa nokikana ja silkkiuikku. Urbaanissa ympäristössä linnut ovat usein varsin tottuneita ihmiseen ja lintuja pääsee katselemaan läheltä. Liikkuminen on helppoa lahtea ympäröivää kävelytietä pitkin. Töölönlahden tulevaisuutta lintukohteena varjostavat lisääntyvä ihmistoiminta\, joka häiritsee niin pesiviä kuin levähtäviäkin lintuja. \nTringan opas Eero Haapanen päivystää Töölönlahdella ja kertoo alueen linnuista ja näyttää niitä kaukoputkesta. Tapahtuma on osa John Nurminen -säätiön käynnistämää Itämeripäivää\, jota vietetään vuosittain elokuun viimeisenä torstaina erilaisten tapahtumien ja tempausten merkeissä. \nIlmoittautuminen: ei ilmoittautumista \nTapahtumapaikka: Töölönlahti\, Hesperian puiston kohdalla oleva niemeke. \nTapahtumapaikka kartalla \nTapahtuma-aika: opas paikalla klo 18-20 \nTiedustelut: opastuksetÄTtringa.fi \n 
URL:https://tringa.fi/tapahtuma/itameripaivan-lintuopastus-toolonlahdella/
CATEGORIES:Muu opastus,Muu tapahtuma
END:VEVENT
END:VCALENDAR