BEGIN:VCALENDAR
VERSION:2.0
PRODID:-//Uudenmaan lintuharrastajien oma yhdistys - ECPv6.15.20//NONSGML v1.0//EN
CALSCALE:GREGORIAN
METHOD:PUBLISH
X-WR-CALNAME:Uudenmaan lintuharrastajien oma yhdistys
X-ORIGINAL-URL:https://tringa.fi
X-WR-CALDESC:Events for Uudenmaan lintuharrastajien oma yhdistys
REFRESH-INTERVAL;VALUE=DURATION:PT1H
X-Robots-Tag:noindex
X-PUBLISHED-TTL:PT1H
BEGIN:VTIMEZONE
TZID:Europe/Helsinki
BEGIN:DAYLIGHT
TZOFFSETFROM:+0200
TZOFFSETTO:+0300
TZNAME:EEST
DTSTART:20220327T010000
END:DAYLIGHT
BEGIN:STANDARD
TZOFFSETFROM:+0300
TZOFFSETTO:+0200
TZNAME:EET
DTSTART:20221030T010000
END:STANDARD
BEGIN:DAYLIGHT
TZOFFSETFROM:+0200
TZOFFSETTO:+0300
TZNAME:EEST
DTSTART:20230326T010000
END:DAYLIGHT
BEGIN:STANDARD
TZOFFSETFROM:+0300
TZOFFSETTO:+0200
TZNAME:EET
DTSTART:20231029T010000
END:STANDARD
BEGIN:DAYLIGHT
TZOFFSETFROM:+0200
TZOFFSETTO:+0300
TZNAME:EEST
DTSTART:20240331T010000
END:DAYLIGHT
BEGIN:STANDARD
TZOFFSETFROM:+0300
TZOFFSETTO:+0200
TZNAME:EET
DTSTART:20241027T010000
END:STANDARD
END:VTIMEZONE
BEGIN:VEVENT
DTSTART;TZID=Europe/Helsinki:20230413T170000
DTEND;TZID=Europe/Helsinki:20230413T180000
DTSTAMP:20260423T200948
CREATED:20230330T171022Z
LAST-MODIFIED:20230330T171655Z
UID:21524-1681405200-1681408800@tringa.fi
SUMMARY:Tringan harrastajatutkinto
DESCRIPTION:Tringan harrastajatutkinto järjestetään torstaina 13. huhtikuuta Tieteiden talossa (Kirkkokatu 6\, sali 208). Tutkinto pidetään ennen yhdistyksen kevätkokousta\, klo 17 alkaen. Omat kirjoitusvälineet (kynä\, kumi) mukaan\, kiikaritkin kannattaa ottaa. \nIlmoittautuminen: harrastajatutkintoon ei tarvitse ilmoittautua\, vapaa pääsy. \nLisätietoja: Tringan harrastajatutkinto \nTiedustelut: toimisto(ät)tringa.fi
URL:https://tringa.fi/tapahtuma/harrastajatutkinto-2/
LOCATION:Tieteiden talo\, Kirkkokatu 6\, Helsinki\, 00170\, Suomi
CATEGORIES:Muu tapahtuma
END:VEVENT
END:VCALENDAR