BEGIN:VCALENDAR
VERSION:2.0
PRODID:-//Uudenmaan lintuharrastajien oma yhdistys - ECPv6.15.20//NONSGML v1.0//EN
CALSCALE:GREGORIAN
METHOD:PUBLISH
X-WR-CALNAME:Uudenmaan lintuharrastajien oma yhdistys
X-ORIGINAL-URL:https://tringa.fi
X-WR-CALDESC:Events for Uudenmaan lintuharrastajien oma yhdistys
REFRESH-INTERVAL;VALUE=DURATION:PT1H
X-Robots-Tag:noindex
X-PUBLISHED-TTL:PT1H
BEGIN:VTIMEZONE
TZID:Europe/Helsinki
BEGIN:DAYLIGHT
TZOFFSETFROM:+0200
TZOFFSETTO:+0300
TZNAME:EEST
DTSTART:20210328T010000
END:DAYLIGHT
BEGIN:STANDARD
TZOFFSETFROM:+0300
TZOFFSETTO:+0200
TZNAME:EET
DTSTART:20211031T010000
END:STANDARD
BEGIN:DAYLIGHT
TZOFFSETFROM:+0200
TZOFFSETTO:+0300
TZNAME:EEST
DTSTART:20220327T010000
END:DAYLIGHT
BEGIN:STANDARD
TZOFFSETFROM:+0300
TZOFFSETTO:+0200
TZNAME:EET
DTSTART:20221030T010000
END:STANDARD
BEGIN:DAYLIGHT
TZOFFSETFROM:+0200
TZOFFSETTO:+0300
TZNAME:EEST
DTSTART:20230326T010000
END:DAYLIGHT
BEGIN:STANDARD
TZOFFSETFROM:+0300
TZOFFSETTO:+0200
TZNAME:EET
DTSTART:20231029T010000
END:STANDARD
END:VTIMEZONE
BEGIN:VEVENT
DTSTART;TZID=Europe/Helsinki:20221206T000000
DTEND;TZID=Europe/Helsinki:20221206T180000
DTSTAMP:20260424T032445
CREATED:20221128T100546Z
LAST-MODIFIED:20221205T154244Z
UID:19455-1670284800-1670349600@tringa.fi
SUMMARY:Tringan talviralli
DESCRIPTION:Tervetuloa mukaan Tringan talviralliin 6.12.2022! \nRallialue: Tringan toimialue \nAika: 6.12.2020 (klo 0.00-18.00) – rallin aloituspaikka ja aika vapaavalintainen klo 0.00 jälkeen. \nSäännöt: Ralli on kaikille avoin. Ralliin voi osallistua ekona tai perinteiseen tapaan (ks. sallitut liikkumistavat rallisäännöistä). Ennakkoilmoittautumista ei tarvita. Tringan rallisäännöt löytyvät täältä: tringa.fi/pinnarallit/ \nRallin peruslajit (30kpl): kyhmyjoutsen\, laulujoutsen\, sinisorsa\, tukkasotka\, telkkä\, alli\, isokoskelo\, kalalokki\, harmaalokki\, merilokki\, kesykyyhky\, käpytikka\, mustarastas\, räkättirastas\, hippiäinen\, kuusitiainen\, sinitiainen\, talitiainen\, puukiipijä\, harakka\, naakka\, varis\, korppi\, varpunen\, pikkuvarpunen\, peippo\, viherpeippo\, vihervarpunen\, punatulkku\, keltasirkku. \nRallin etäpurku: Purku käydään etänä Google Meet -palvelun kautta. Purku alkaa klo 19.30\, ja mukaan etäpurkuun voit liittyä klo 19.15 alkaen. Kaikista joukkueista toivotaan vähintään yhden edustajan osallistuvan purkuun. Etäpurkuun pääsee mukaan tästä: meet.google.com/avc-jbfy-kyk\ntai vaihtoehtoisesti täältä: meet.google.com -> Liity kokoukseen -> Lisää kokouskoodi: avc-jbfy-kyk \nGoogle Meet-palvelu toimii tietokoneen verkkoselaimella\, tai älypuhelimella maksuttoman Google Meet -sovelluksen kautta. Ohjeita Google Meet:in käytöstä ja ohje etäkokouksen osallistujalle löytyy BirdLife Suomen verkkosivuilta: www.birdlife.fi/jarjesto/verkkoviestinta/etakokousohje/ \nTiedustelut: rallit(ät)tringa.fi
URL:https://tringa.fi/tapahtuma/tringan-talviralli/
CATEGORIES:Muu tapahtuma
END:VEVENT
BEGIN:VEVENT
DTSTART;TZID=Europe/Helsinki:20221213T180000
DTEND;TZID=Europe/Helsinki:20221213T193000
DTSTAMP:20260424T032445
CREATED:20221205T190003Z
LAST-MODIFIED:20221205T190235Z
UID:19690-1670954400-1670959800@tringa.fi
SUMMARY:Tringan suojelutoimikunnan kaavakoulutus
DESCRIPTION:Tringan suojelutoimikunta järjestää kaavakoulutus -etätilaisuuden tiistaina 13.12. klo 18.00-19.30. \nTilaisuudessa tutustutaan kaavoitukseen liittyviin yleisiin asioihin\, tarkastellaan mistä voi löytää tietoa kaavahankkeista ja käydään läpi keskeisiä seikkoja\, joita tulee huomioida kaavojen linnustovaikutuksia arvioitaessa. \nKaavakoulutus sopii kaikille asiasta kiinnostuneille ja erityisesti kaikille niille\, jotka haluavat osallistua Tringan suojelutoimintaan. Koulutuksen vetäjänä suojelusihteeri Juho Leppänen. \nHinta: maksuton \nIlmoittautuminen: 12.12. mennessä sähköisen verkkoilmoittautumisen kautta (klikkaa tästä) \nTiedustelut: suojelusihteeri(ät)tringa.fi
URL:https://tringa.fi/tapahtuma/tringan-suojelutoimikunnan-kaavakoulutus/
LOCATION:verkossa
CATEGORIES:Muu tapahtuma
END:VEVENT
END:VCALENDAR